BEGIN:VCALENDAR
VERSION:2.0
PRODID:-//Kenai Peninsula Borough School District - ECPv6.15.12.2//NONSGML v1.0//EN
CALSCALE:GREGORIAN
METHOD:PUBLISH
X-ORIGINAL-URL:https://kpbsd.org
X-WR-CALDESC:Events for Kenai Peninsula Borough School District
REFRESH-INTERVAL;VALUE=DURATION:PT1H
X-Robots-Tag:noindex
X-PUBLISHED-TTL:PT1H
BEGIN:VTIMEZONE
TZID:America/Anchorage
BEGIN:DAYLIGHT
TZOFFSETFROM:-0900
TZOFFSETTO:-0800
TZNAME:AKDT
DTSTART:20240310T110000
END:DAYLIGHT
BEGIN:STANDARD
TZOFFSETFROM:-0800
TZOFFSETTO:-0900
TZNAME:AKST
DTSTART:20241103T100000
END:STANDARD
BEGIN:DAYLIGHT
TZOFFSETFROM:-0900
TZOFFSETTO:-0800
TZNAME:AKDT
DTSTART:20250309T110000
END:DAYLIGHT
BEGIN:STANDARD
TZOFFSETFROM:-0800
TZOFFSETTO:-0900
TZNAME:AKST
DTSTART:20251102T100000
END:STANDARD
BEGIN:DAYLIGHT
TZOFFSETFROM:-0900
TZOFFSETTO:-0800
TZNAME:AKDT
DTSTART:20260308T110000
END:DAYLIGHT
BEGIN:STANDARD
TZOFFSETFROM:-0800
TZOFFSETTO:-0900
TZNAME:AKST
DTSTART:20261101T100000
END:STANDARD
END:VTIMEZONE
BEGIN:VEVENT
DTSTART;TZID=America/Anchorage:20251022T083000
DTEND;TZID=America/Anchorage:20251022T153000
DTSTAMP:20260420T130130
CREATED:20250919T230234Z
LAST-MODIFIED:20250919T230242Z
UID:30682-1761121800-1761147000@kpbsd.org
SUMMARY:MANDT Recertification
DESCRIPTION:The Mandt re-certification training is a one-day training designed as a review to enhance staff members ability to effectively manage potentially negative or even dangerous situations by first calming their own emotional responses and behaviors\, then using a gradual system of alternative interventions to assist in the de-escalation of the behavior.  Physical techniques that reduce possible injuries will be reviewed.   \n\n\n\nMobile Mind Registration Required
URL:https://kpbsd.org/event/mandt-recertification-3/
LOCATION:Cook Inlet Aquaculture Association\, 40620 K Beach Road\, Kenai\, Alaska\, 9611
CATEGORIES:Professional Development
ORGANIZER;CN="Cheri Sullens":MAILTO:csullens@kpbsd.k12.ak.us
END:VEVENT
END:VCALENDAR