BEGIN:VCALENDAR
VERSION:2.0
PRODID:-//Kenai Peninsula Borough School District - ECPv6.15.12.2//NONSGML v1.0//EN
CALSCALE:GREGORIAN
METHOD:PUBLISH
X-ORIGINAL-URL:https://kpbsd.org
X-WR-CALDESC:Events for Kenai Peninsula Borough School District
REFRESH-INTERVAL;VALUE=DURATION:PT1H
X-Robots-Tag:noindex
X-PUBLISHED-TTL:PT1H
BEGIN:VTIMEZONE
TZID:America/Anchorage
BEGIN:DAYLIGHT
TZOFFSETFROM:-0900
TZOFFSETTO:-0800
TZNAME:AKDT
DTSTART:20250309T110000
END:DAYLIGHT
BEGIN:STANDARD
TZOFFSETFROM:-0800
TZOFFSETTO:-0900
TZNAME:AKST
DTSTART:20251102T100000
END:STANDARD
BEGIN:DAYLIGHT
TZOFFSETFROM:-0900
TZOFFSETTO:-0800
TZNAME:AKDT
DTSTART:20260308T110000
END:DAYLIGHT
BEGIN:STANDARD
TZOFFSETFROM:-0800
TZOFFSETTO:-0900
TZNAME:AKST
DTSTART:20261101T100000
END:STANDARD
BEGIN:DAYLIGHT
TZOFFSETFROM:-0900
TZOFFSETTO:-0800
TZNAME:AKDT
DTSTART:20270314T110000
END:DAYLIGHT
BEGIN:STANDARD
TZOFFSETFROM:-0800
TZOFFSETTO:-0900
TZNAME:AKST
DTSTART:20271107T100000
END:STANDARD
END:VTIMEZONE
BEGIN:VEVENT
DTSTART;TZID=America/Anchorage:20260812T080000
DTEND;TZID=America/Anchorage:20260814T160000
DTSTAMP:20260423T085521
CREATED:20260407T194739Z
LAST-MODIFIED:20260407T194748Z
UID:32787-1786521600-1786723200@kpbsd.org
SUMMARY:In Service Day
DESCRIPTION:
URL:https://kpbsd.org/event/in-service-day/
LOCATION:Alaska
CATEGORIES:In-Service
END:VEVENT
BEGIN:VEVENT
DTSTART;TZID=America/Anchorage:20260817T080000
DTEND;TZID=America/Anchorage:20260818T160000
DTSTAMP:20260423T085521
CREATED:20260407T194851Z
LAST-MODIFIED:20260407T194900Z
UID:32791-1786953600-1787068800@kpbsd.org
SUMMARY:In Service Day
DESCRIPTION:
URL:https://kpbsd.org/event/in-service-day-2/
LOCATION:Alaska
CATEGORIES:In-Service
END:VEVENT
BEGIN:VEVENT
DTSTART;TZID=America/Anchorage:20260819T080000
DTEND;TZID=America/Anchorage:20260819T170000
DTSTAMP:20260423T085521
CREATED:20260407T195007Z
LAST-MODIFIED:20260407T195017Z
UID:32793-1787126400-1787158800@kpbsd.org
SUMMARY:First Day of School
DESCRIPTION:
URL:https://kpbsd.org/event/first-day-of-school/
LOCATION:Alaska
CATEGORIES:Districtwide Calendar
END:VEVENT
END:VCALENDAR