BEGIN:VCALENDAR
VERSION:2.0
PRODID:-//Chapman School - ECPv6.8.2//NONSGML v1.0//EN
CALSCALE:GREGORIAN
METHOD:PUBLISH
X-ORIGINAL-URL:https://kpbsd.org/schools/chapman
X-WR-CALDESC:Events for Chapman School
REFRESH-INTERVAL;VALUE=DURATION:PT1H
X-Robots-Tag:noindex
X-PUBLISHED-TTL:PT1H
BEGIN:VTIMEZONE
TZID:America/Anchorage
BEGIN:DAYLIGHT
TZOFFSETFROM:-0900
TZOFFSETTO:-0800
TZNAME:AKDT
DTSTART:20250309T110000
END:DAYLIGHT
BEGIN:STANDARD
TZOFFSETFROM:-0800
TZOFFSETTO:-0900
TZNAME:AKST
DTSTART:20251102T100000
END:STANDARD
END:VTIMEZONE
BEGIN:VEVENT
DTSTART;TZID=America/Anchorage:20251208T080000
DTEND;TZID=America/Anchorage:20251211T140000
DTSTAMP:20260419T040128
CREATED:20251203T212145Z
LAST-MODIFIED:20251211T225939Z
UID:13565-1765180800-1765461600@kpbsd.org
SUMMARY:Polar Shop
DESCRIPTION:
URL:https://kpbsd.org/schools/chapman/event/polar-shop-2/
END:VEVENT
BEGIN:VEVENT
DTSTART;TZID=America/Anchorage:20251209T143000
DTEND;TZID=America/Anchorage:20251209T153000
DTSTAMP:20260419T040128
CREATED:20251009T165244Z
LAST-MODIFIED:20251210T002223Z
UID:7585-1765290600-1765294200@kpbsd.org
SUMMARY:3rd-5th Skills Club
DESCRIPTION:
URL:https://kpbsd.org/schools/chapman/event/3rd-5th-skills-club-9/
END:VEVENT
BEGIN:VEVENT
DTSTART;TZID=America/Anchorage:20251209T143000
DTEND;TZID=America/Anchorage:20251209T160000
DTSTAMP:20260419T040128
CREATED:20251009T193401Z
LAST-MODIFIED:20251203T203238Z
UID:8854-1765290600-1765296000@kpbsd.org
SUMMARY:6th-8th Basketball Practice
DESCRIPTION:
URL:https://kpbsd.org/schools/chapman/event/6th-8th-basketball-practice-27/
END:VEVENT
BEGIN:VEVENT
DTSTART;TZID=America/Anchorage:20251209T190000
DTEND;TZID=America/Anchorage:20251209T194500
DTSTAMP:20260419T040128
CREATED:20251203T215754Z
LAST-MODIFIED:20251210T043316Z
UID:13573-1765306800-1765309500@kpbsd.org
SUMMARY:5th-8th Band Concert
DESCRIPTION:
URL:https://kpbsd.org/schools/chapman/event/5th-8th-band-concert/
END:VEVENT
END:VCALENDAR