BEGIN:VCALENDAR
VERSION:2.0
PRODID:-//Chapman School - ECPv6.8.2//NONSGML v1.0//EN
CALSCALE:GREGORIAN
METHOD:PUBLISH
X-ORIGINAL-URL:https://kpbsd.org/schools/chapman
X-WR-CALDESC:Events for Chapman School
REFRESH-INTERVAL;VALUE=DURATION:PT1H
X-Robots-Tag:noindex
X-PUBLISHED-TTL:PT1H
BEGIN:VTIMEZONE
TZID:America/Anchorage
BEGIN:DAYLIGHT
TZOFFSETFROM:-0900
TZOFFSETTO:-0800
TZNAME:AKDT
DTSTART:20210314T110000
END:DAYLIGHT
BEGIN:STANDARD
TZOFFSETFROM:-0800
TZOFFSETTO:-0900
TZNAME:AKST
DTSTART:20211107T100000
END:STANDARD
END:VTIMEZONE
BEGIN:VEVENT
DTSTART;TZID=America/Anchorage:20211004T143000
DTEND;TZID=America/Anchorage:20211022T160000
DTSTAMP:20260419T083511
CREATED:20211001T180005Z
LAST-MODIFIED:20211001T180005Z
UID:2957-1633357800-1634918400@kpbsd.org
SUMMARY:Basketball Practice
DESCRIPTION:
URL:https://kpbsd.org/schools/chapman/event/basketball-practice/
END:VEVENT
BEGIN:VEVENT
DTSTART;TZID=America/Anchorage:20211015T080000
DTEND;TZID=America/Anchorage:20211015T143000
DTSTAMP:20260419T083511
CREATED:20211008T175630Z
LAST-MODIFIED:20211008T175957Z
UID:2965-1634284800-1634308200@kpbsd.org
SUMMARY:NO SCHOOL INSERVICE DAY
DESCRIPTION:
URL:https://kpbsd.org/schools/chapman/event/no-school-inservice-day/
END:VEVENT
BEGIN:VEVENT
DTSTART;TZID=America/Anchorage:20211015T170000
DTEND;TZID=America/Anchorage:20211015T190000
DTSTAMP:20260419T083511
CREATED:20211005T150627Z
LAST-MODIFIED:20211005T150627Z
UID:2962-1634317200-1634324400@kpbsd.org
SUMMARY:Halloween Carnival
DESCRIPTION:Carnival will be from 5-7 PM
URL:https://kpbsd.org/schools/chapman/event/halloween-carnival/
END:VEVENT
BEGIN:VEVENT
DTSTART;TZID=America/Anchorage:20211021T150000
DTEND;TZID=America/Anchorage:20211021T180000
DTSTAMP:20260419T083511
CREATED:20211008T194748Z
LAST-MODIFIED:20211008T195239Z
UID:2979-1634828400-1634839200@kpbsd.org
SUMMARY:Basketball game
DESCRIPTION:ABC @ Chapman \nGirls:3:00 \nBoys:4:30
URL:https://kpbsd.org/schools/chapman/event/basketball-game/
END:VEVENT
BEGIN:VEVENT
DTSTART;TZID=America/Anchorage:20211026T153000
DTEND;TZID=America/Anchorage:20211026T183000
DTSTAMP:20260419T083511
CREATED:20211008T202507Z
LAST-MODIFIED:20211008T202507Z
UID:2982-1635262200-1635273000@kpbsd.org
SUMMARY:Basketball Game
DESCRIPTION:Chapman @ CIA \nGirls 3:30 PM \nBoys 5:00PM
URL:https://kpbsd.org/schools/chapman/event/basketball-game-2/
END:VEVENT
BEGIN:VEVENT
DTSTART;TZID=America/Anchorage:20211027T160000
DTEND;TZID=America/Anchorage:20211027T190000
DTSTAMP:20260419T083511
CREATED:20211008T202948Z
LAST-MODIFIED:20211008T202948Z
UID:2984-1635350400-1635361200@kpbsd.org
SUMMARY:Basketball Game
DESCRIPTION:Chapman @ Ninilchik \nGirls 3:00PM \nTentative Boys 5:30
URL:https://kpbsd.org/schools/chapman/event/basketball-game-3/
END:VEVENT
BEGIN:VEVENT
DTSTART;TZID=America/Anchorage:20211028T090000
DTEND;TZID=America/Anchorage:20211028T190000
DTSTAMP:20260419T083511
CREATED:20211008T175934Z
LAST-MODIFIED:20211008T175934Z
UID:2967-1635411600-1635447600@kpbsd.org
SUMMARY:School Conferences
DESCRIPTION:
URL:https://kpbsd.org/schools/chapman/event/school-conferences/
END:VEVENT
BEGIN:VEVENT
DTSTART;TZID=America/Anchorage:20211029T090000
DTEND;TZID=America/Anchorage:20211029T150000
DTSTAMP:20260419T083511
CREATED:20211008T180025Z
LAST-MODIFIED:20211008T180025Z
UID:2969-1635498000-1635519600@kpbsd.org
SUMMARY:Conference day
DESCRIPTION:
URL:https://kpbsd.org/schools/chapman/event/conference-day/
END:VEVENT
END:VCALENDAR