BEGIN:VCALENDAR
VERSION:2.0
PRODID:-//Chapman School - ECPv6.8.2//NONSGML v1.0//EN
CALSCALE:GREGORIAN
METHOD:PUBLISH
X-WR-CALNAME:Chapman School
X-ORIGINAL-URL:https://kpbsd.org/schools/chapman
X-WR-CALDESC:Events for Chapman School
REFRESH-INTERVAL;VALUE=DURATION:PT1H
X-Robots-Tag:noindex
X-PUBLISHED-TTL:PT1H
BEGIN:VTIMEZONE
TZID:America/Anchorage
BEGIN:DAYLIGHT
TZOFFSETFROM:-0900
TZOFFSETTO:-0800
TZNAME:AKDT
DTSTART:20270314T110000
END:DAYLIGHT
BEGIN:STANDARD
TZOFFSETFROM:-0800
TZOFFSETTO:-0900
TZNAME:AKST
DTSTART:20271107T100000
END:STANDARD
END:VTIMEZONE
BEGIN:VEVENT
DTSTART;TZID=America/Anchorage:20271202T143000
DTEND;TZID=America/Anchorage:20271202T153000
DTSTAMP:20260419T090526
CREATED:20251202T003433Z
LAST-MODIFIED:20260402T063259Z
UID:13393-1827757800-1827761400@kpbsd.org
SUMMARY:K-2nd Grade Skills Club
DESCRIPTION:
URL:https://kpbsd.org/schools/chapman/event/k-2nd-grade-skills-club-113/
END:VEVENT
BEGIN:VEVENT
DTSTART;TZID=America/Anchorage:20271207T143000
DTEND;TZID=America/Anchorage:20271207T153000
DTSTAMP:20260419T090526
CREATED:20251207T001123Z
LAST-MODIFIED:20260402T063300Z
UID:13828-1828189800-1828193400@kpbsd.org
SUMMARY:3rd-5th Skills Club
DESCRIPTION:
URL:https://kpbsd.org/schools/chapman/event/3rd-5th-skills-club-113/
END:VEVENT
BEGIN:VEVENT
DTSTART;TZID=America/Anchorage:20271209T143000
DTEND;TZID=America/Anchorage:20271209T153000
DTSTAMP:20260419T090526
CREATED:20251209T002006Z
LAST-MODIFIED:20260402T063300Z
UID:13990-1828362600-1828366200@kpbsd.org
SUMMARY:K-2nd Grade Skills Club
DESCRIPTION:
URL:https://kpbsd.org/schools/chapman/event/k-2nd-grade-skills-club-114/
END:VEVENT
BEGIN:VEVENT
DTSTART;TZID=America/Anchorage:20271214T143000
DTEND;TZID=America/Anchorage:20271214T153000
DTSTAMP:20260419T090526
CREATED:20251214T004039Z
LAST-MODIFIED:20260402T063300Z
UID:14352-1828794600-1828798200@kpbsd.org
SUMMARY:3rd-5th Skills Club
DESCRIPTION:
URL:https://kpbsd.org/schools/chapman/event/3rd-5th-skills-club-114/
END:VEVENT
BEGIN:VEVENT
DTSTART;TZID=America/Anchorage:20271216T143000
DTEND;TZID=America/Anchorage:20271216T153000
DTSTAMP:20260419T090526
CREATED:20251216T003528Z
LAST-MODIFIED:20260402T063300Z
UID:14518-1828967400-1828971000@kpbsd.org
SUMMARY:K-2nd Grade Skills Club
DESCRIPTION:
URL:https://kpbsd.org/schools/chapman/event/k-2nd-grade-skills-club-115/
END:VEVENT
BEGIN:VEVENT
DTSTART;TZID=America/Anchorage:20271221T143000
DTEND;TZID=America/Anchorage:20271221T153000
DTSTAMP:20260419T090526
CREATED:20251221T003252Z
LAST-MODIFIED:20260402T063300Z
UID:14796-1829399400-1829403000@kpbsd.org
SUMMARY:3rd-5th Skills Club
DESCRIPTION:
URL:https://kpbsd.org/schools/chapman/event/3rd-5th-skills-club-115/
END:VEVENT
BEGIN:VEVENT
DTSTART;TZID=America/Anchorage:20271223T143000
DTEND;TZID=America/Anchorage:20271223T153000
DTSTAMP:20260419T090526
CREATED:20251223T003309Z
LAST-MODIFIED:20260402T063300Z
UID:14951-1829572200-1829575800@kpbsd.org
SUMMARY:K-2nd Grade Skills Club
DESCRIPTION:
URL:https://kpbsd.org/schools/chapman/event/k-2nd-grade-skills-club-116/
END:VEVENT
BEGIN:VEVENT
DTSTART;TZID=America/Anchorage:20271228T143000
DTEND;TZID=America/Anchorage:20271228T153000
DTSTAMP:20260419T090526
CREATED:20251228T000730Z
LAST-MODIFIED:20260402T063300Z
UID:15323-1830004200-1830007800@kpbsd.org
SUMMARY:3rd-5th Skills Club
DESCRIPTION:
URL:https://kpbsd.org/schools/chapman/event/3rd-5th-skills-club-116/
END:VEVENT
BEGIN:VEVENT
DTSTART;TZID=America/Anchorage:20271230T143000
DTEND;TZID=America/Anchorage:20271230T153000
DTSTAMP:20260419T090526
CREATED:20251230T002134Z
LAST-MODIFIED:20260402T063300Z
UID:15486-1830177000-1830180600@kpbsd.org
SUMMARY:K-2nd Grade Skills Club
DESCRIPTION:
URL:https://kpbsd.org/schools/chapman/event/k-2nd-grade-skills-club-117/
END:VEVENT
END:VCALENDAR