BEGIN:VCALENDAR
VERSION:2.0
PRODID:-//Chapman School - ECPv6.8.2//NONSGML v1.0//EN
CALSCALE:GREGORIAN
METHOD:PUBLISH
X-ORIGINAL-URL:https://kpbsd.org/schools/chapman
X-WR-CALDESC:Events for Chapman School
REFRESH-INTERVAL;VALUE=DURATION:PT1H
X-Robots-Tag:noindex
X-PUBLISHED-TTL:PT1H
BEGIN:VTIMEZONE
TZID:America/Anchorage
BEGIN:DAYLIGHT
TZOFFSETFROM:-0900
TZOFFSETTO:-0800
TZNAME:AKDT
DTSTART:20280312T110000
END:DAYLIGHT
BEGIN:STANDARD
TZOFFSETFROM:-0800
TZOFFSETTO:-0900
TZNAME:AKST
DTSTART:20281105T100000
END:STANDARD
END:VTIMEZONE
BEGIN:VEVENT
DTSTART;TZID=America/Anchorage:20280201T143000
DTEND;TZID=America/Anchorage:20280201T153000
DTSTAMP:20260423T035340
CREATED:20260201T001842Z
LAST-MODIFIED:20260402T063302Z
UID:18183-1833028200-1833031800@kpbsd.org
SUMMARY:3rd-5th Skills Club
DESCRIPTION:
URL:https://kpbsd.org/schools/chapman/event/3rd-5th-skills-club-121/
END:VEVENT
BEGIN:VEVENT
DTSTART;TZID=America/Anchorage:20280203T143000
DTEND;TZID=America/Anchorage:20280203T153000
DTSTAMP:20260423T035340
CREATED:20260203T003348Z
LAST-MODIFIED:20260402T063302Z
UID:18347-1833201000-1833204600@kpbsd.org
SUMMARY:K-2nd Grade Skills Club
DESCRIPTION:
URL:https://kpbsd.org/schools/chapman/event/k-2nd-grade-skills-club-122/
END:VEVENT
BEGIN:VEVENT
DTSTART;TZID=America/Anchorage:20280208T143000
DTEND;TZID=America/Anchorage:20280208T153000
DTSTAMP:20260423T035340
CREATED:20260208T002031Z
LAST-MODIFIED:20260402T063302Z
UID:18822-1833633000-1833636600@kpbsd.org
SUMMARY:3rd-5th Skills Club
DESCRIPTION:
URL:https://kpbsd.org/schools/chapman/event/3rd-5th-skills-club-122/
END:VEVENT
BEGIN:VEVENT
DTSTART;TZID=America/Anchorage:20280210T143000
DTEND;TZID=America/Anchorage:20280210T153000
DTSTAMP:20260423T035340
CREATED:20260210T001850Z
LAST-MODIFIED:20260402T063302Z
UID:18985-1833805800-1833809400@kpbsd.org
SUMMARY:K-2nd Grade Skills Club
DESCRIPTION:
URL:https://kpbsd.org/schools/chapman/event/k-2nd-grade-skills-club-123/
END:VEVENT
BEGIN:VEVENT
DTSTART;TZID=America/Anchorage:20280215T143000
DTEND;TZID=America/Anchorage:20280215T153000
DTSTAMP:20260423T035340
CREATED:20260215T001804Z
LAST-MODIFIED:20260402T063302Z
UID:19390-1834237800-1834241400@kpbsd.org
SUMMARY:3rd-5th Skills Club
DESCRIPTION:
URL:https://kpbsd.org/schools/chapman/event/3rd-5th-skills-club-123/
END:VEVENT
BEGIN:VEVENT
DTSTART;TZID=America/Anchorage:20280217T143000
DTEND;TZID=America/Anchorage:20280217T153000
DTSTAMP:20260423T035340
CREATED:20260217T002300Z
LAST-MODIFIED:20260402T063302Z
UID:19545-1834410600-1834414200@kpbsd.org
SUMMARY:K-2nd Grade Skills Club
DESCRIPTION:
URL:https://kpbsd.org/schools/chapman/event/k-2nd-grade-skills-club-124/
END:VEVENT
BEGIN:VEVENT
DTSTART;TZID=America/Anchorage:20280222T143000
DTEND;TZID=America/Anchorage:20280222T153000
DTSTAMP:20260423T035340
CREATED:20260222T002125Z
LAST-MODIFIED:20260402T063302Z
UID:20003-1834842600-1834846200@kpbsd.org
SUMMARY:3rd-5th Skills Club
DESCRIPTION:
URL:https://kpbsd.org/schools/chapman/event/3rd-5th-skills-club-124/
END:VEVENT
BEGIN:VEVENT
DTSTART;TZID=America/Anchorage:20280224T143000
DTEND;TZID=America/Anchorage:20280224T153000
DTSTAMP:20260423T035340
CREATED:20260224T002233Z
LAST-MODIFIED:20260402T063302Z
UID:20174-1835015400-1835019000@kpbsd.org
SUMMARY:K-2nd Grade Skills Club
DESCRIPTION:
URL:https://kpbsd.org/schools/chapman/event/k-2nd-grade-skills-club-125/
END:VEVENT
BEGIN:VEVENT
DTSTART;TZID=America/Anchorage:20280229T143000
DTEND;TZID=America/Anchorage:20280229T153000
DTSTAMP:20260423T035340
CREATED:20260301T002042Z
LAST-MODIFIED:20260402T063302Z
UID:20611-1835447400-1835451000@kpbsd.org
SUMMARY:3rd-5th Skills Club
DESCRIPTION:
URL:https://kpbsd.org/schools/chapman/event/3rd-5th-skills-club-125/
END:VEVENT
END:VCALENDAR