BEGIN:VCALENDAR
VERSION:2.0
PRODID:-//Fireweed Academy - ECPv6.8.2//NONSGML v1.0//EN
CALSCALE:GREGORIAN
METHOD:PUBLISH
X-ORIGINAL-URL:https://kpbsd.org/schools/fireweed-academy
X-WR-CALDESC:Events for Fireweed Academy
REFRESH-INTERVAL;VALUE=DURATION:PT1H
X-Robots-Tag:noindex
X-PUBLISHED-TTL:PT1H
BEGIN:VTIMEZONE
TZID:America/Anchorage
BEGIN:DAYLIGHT
TZOFFSETFROM:-0900
TZOFFSETTO:-0800
TZNAME:AKDT
DTSTART:20220313T110000
END:DAYLIGHT
BEGIN:STANDARD
TZOFFSETFROM:-0800
TZOFFSETTO:-0900
TZNAME:AKST
DTSTART:20221106T100000
END:STANDARD
END:VTIMEZONE
BEGIN:VEVENT
DTSTART;TZID=America/Anchorage:20220411T140000
DTEND;TZID=America/Anchorage:20220411T150000
DTSTAMP:20260420T082413
CREATED:20210916T233414Z
LAST-MODIFIED:20220329T173055Z
UID:2958-1649685600-1649689200@kpbsd.org
SUMMARY:Spring Title 1 Committee Meeting
DESCRIPTION:You are invited to our Spring Title 1 Committee Meeting on Monday\, April 11\, 2022.  We’ll be highlighting our new Parent Resource Center in the big yurt\,  updating our 2022-2023 Targeted Assistance vs\, Schoolwide Title 1 Services\, and assessing strengths and weaknesses of this year’s activities\, \n 
URL:https://kpbsd.org/schools/fireweed-academy/event/spring-title-1-meeting/
LOCATION:AK
END:VEVENT
BEGIN:VEVENT
DTSTART;TZID=America/Anchorage:20220411T150000
DTEND;TZID=America/Anchorage:20220411T153000
DTSTAMP:20260420T082413
CREATED:20220404T193525Z
LAST-MODIFIED:20220404T194355Z
UID:3170-1649689200-1649691000@kpbsd.org
SUMMARY:Kindergarten Open House
DESCRIPTION:We will hold an Open House for families interested in enrolling their child at Fireweed Academy at Little Fireweed 813 East End Road\n\nNow accepting Intent to Enroll forms for 2022-2023. Intent to Enroll forms as well of FAQs info can be found on our web site at https://kpbsd.org/schools/fireweed-academy/about/. Call Sharlyn at 235-9728 for more information.
URL:https://kpbsd.org/schools/fireweed-academy/event/kindergarten-open-house/
LOCATION:AK
END:VEVENT
END:VCALENDAR