BEGIN:VCALENDAR
VERSION:2.0
PRODID:-//Fireweed Academy - ECPv6.8.2//NONSGML v1.0//EN
CALSCALE:GREGORIAN
METHOD:PUBLISH
X-WR-CALNAME:Fireweed Academy
X-ORIGINAL-URL:https://kpbsd.org/schools/fireweed-academy
X-WR-CALDESC:Events for Fireweed Academy
REFRESH-INTERVAL;VALUE=DURATION:PT1H
X-Robots-Tag:noindex
X-PUBLISHED-TTL:PT1H
BEGIN:VTIMEZONE
TZID:America/Anchorage
BEGIN:DAYLIGHT
TZOFFSETFROM:-0900
TZOFFSETTO:-0800
TZNAME:AKDT
DTSTART:20230312T110000
END:DAYLIGHT
BEGIN:STANDARD
TZOFFSETFROM:-0800
TZOFFSETTO:-0900
TZNAME:AKST
DTSTART:20231105T100000
END:STANDARD
BEGIN:DAYLIGHT
TZOFFSETFROM:-0900
TZOFFSETTO:-0800
TZNAME:AKDT
DTSTART:20240310T110000
END:DAYLIGHT
BEGIN:STANDARD
TZOFFSETFROM:-0800
TZOFFSETTO:-0900
TZNAME:AKST
DTSTART:20241103T100000
END:STANDARD
END:VTIMEZONE
BEGIN:VEVENT
DTSTART;TZID=America/Anchorage:20240112T000000
DTEND;TZID=America/Anchorage:20240112T235900
DTSTAMP:20260423T151757
CREATED:20230822T204634Z
LAST-MODIFIED:20240109T215605Z
UID:3952-1705017600-1705103940@kpbsd.org
SUMMARY:Early Release
DESCRIPTION:
URL:https://kpbsd.org/schools/fireweed-academy/event/early-release-15/
CATEGORIES:Districtwide Calendar
END:VEVENT
BEGIN:VEVENT
DTSTART;TZID=America/Anchorage:20240102T000000
DTEND;TZID=America/Anchorage:20240102T235900
DTSTAMP:20260423T151757
CREATED:20221219T190426Z
LAST-MODIFIED:20240102T214828Z
UID:3590-1704153600-1704239940@kpbsd.org
SUMMARY:End of Quarter / In-Service Day
DESCRIPTION:
URL:https://kpbsd.org/schools/fireweed-academy/event/end-of-quarter-in-service-day-4/
CATEGORIES:Districtwide Calendar,In-Service
END:VEVENT
BEGIN:VEVENT
DTSTART;TZID=America/Anchorage:20240101T000000
DTEND;TZID=America/Anchorage:20240101T235900
DTSTAMP:20260423T151757
CREATED:20221219T190426Z
LAST-MODIFIED:20231226T213222Z
UID:3589-1704067200-1704153540@kpbsd.org
SUMMARY:Holiday
DESCRIPTION:
URL:https://kpbsd.org/schools/fireweed-academy/event/holiday-14/
CATEGORIES:Districtwide Calendar,Holiday
END:VEVENT
BEGIN:VEVENT
DTSTART;TZID=America/Anchorage:20231225T000000
DTEND;TZID=America/Anchorage:20231229T235900
DTSTAMP:20260423T151757
CREATED:20221219T190425Z
LAST-MODIFIED:20231226T213222Z
UID:3587-1703462400-1703894340@kpbsd.org
SUMMARY:Vacation
DESCRIPTION:
URL:https://kpbsd.org/schools/fireweed-academy/event/vacation-3/
CATEGORIES:Districtwide Calendar
END:VEVENT
BEGIN:VEVENT
DTSTART;TZID=America/Anchorage:20231225T000000
DTEND;TZID=America/Anchorage:20231226T235900
DTSTAMP:20260423T151757
CREATED:20221219T190425Z
LAST-MODIFIED:20231226T213222Z
UID:3588-1703462400-1703635140@kpbsd.org
SUMMARY:Holiday
DESCRIPTION:
URL:https://kpbsd.org/schools/fireweed-academy/event/holiday-13/
CATEGORIES:Districtwide Calendar,Holiday
END:VEVENT
BEGIN:VEVENT
DTSTART;TZID=America/Anchorage:20231218T000000
DTEND;TZID=America/Anchorage:20231222T235900
DTSTAMP:20260423T151757
CREATED:20221219T190425Z
LAST-MODIFIED:20231219T213234Z
UID:3586-1702857600-1703289540@kpbsd.org
SUMMARY:Vacation
DESCRIPTION:
URL:https://kpbsd.org/schools/fireweed-academy/event/vacation-2/
CATEGORIES:Districtwide Calendar
END:VEVENT
BEGIN:VEVENT
DTSTART;TZID=America/Anchorage:20231208T000000
DTEND;TZID=America/Anchorage:20231208T235900
DTSTAMP:20260423T151757
CREATED:20230822T204632Z
LAST-MODIFIED:20231205T211618Z
UID:3937-1701993600-1702079940@kpbsd.org
SUMMARY:Early Release
DESCRIPTION:
URL:https://kpbsd.org/schools/fireweed-academy/event/early-release-13/
CATEGORIES:Districtwide Calendar
END:VEVENT
BEGIN:VEVENT
DTSTART;TZID=America/Anchorage:20231123T000000
DTEND;TZID=America/Anchorage:20231124T235900
DTSTAMP:20260423T151757
CREATED:20221219T190425Z
LAST-MODIFIED:20231121T211544Z
UID:3585-1700697600-1700870340@kpbsd.org
SUMMARY:Holiday
DESCRIPTION:
URL:https://kpbsd.org/schools/fireweed-academy/event/holiday-12/
CATEGORIES:Districtwide Calendar,Holiday
END:VEVENT
BEGIN:VEVENT
DTSTART;TZID=America/Anchorage:20231110T000000
DTEND;TZID=America/Anchorage:20231110T235900
DTSTAMP:20260423T151757
CREATED:20221219T190424Z
LAST-MODIFIED:20231107T211546Z
UID:3584-1699574400-1699660740@kpbsd.org
SUMMARY:Vacation Day
DESCRIPTION:
URL:https://kpbsd.org/schools/fireweed-academy/event/vacation-day-6/
CATEGORIES:Districtwide Calendar
END:VEVENT
BEGIN:VEVENT
DTSTART;TZID=America/Anchorage:20231109T000000
DTEND;TZID=America/Anchorage:20231109T235900
DTSTAMP:20260423T151757
CREATED:20230822T204632Z
LAST-MODIFIED:20231107T211546Z
UID:3934-1699488000-1699574340@kpbsd.org
SUMMARY:Early Release
DESCRIPTION:
URL:https://kpbsd.org/schools/fireweed-academy/event/early-release-12/
CATEGORIES:Districtwide Calendar
END:VEVENT
BEGIN:VEVENT
DTSTART;TZID=America/Anchorage:20231026T000000
DTEND;TZID=America/Anchorage:20231027T235900
DTSTAMP:20260423T151757
CREATED:20221219T190424Z
LAST-MODIFIED:20231024T211550Z
UID:3583-1698278400-1698451140@kpbsd.org
SUMMARY:Parent Teacher Conferences
DESCRIPTION:
URL:https://kpbsd.org/schools/fireweed-academy/event/parent-teacher-conferences-2/
CATEGORIES:Districtwide Calendar
END:VEVENT
BEGIN:VEVENT
DTSTART;TZID=America/Anchorage:20231013T000000
DTEND;TZID=America/Anchorage:20231013T235900
DTSTAMP:20260423T151757
CREATED:20221212T190207Z
LAST-MODIFIED:20231010T210043Z
UID:3571-1697155200-1697241540@kpbsd.org
SUMMARY:End of Quarter / In-Service Day
DESCRIPTION:
URL:https://kpbsd.org/schools/fireweed-academy/event/end-of-quarter-in-service-day-3/
CATEGORIES:Districtwide Calendar,In-Service
END:VEVENT
BEGIN:VEVENT
DTSTART;TZID=America/Anchorage:20231012T000000
DTEND;TZID=America/Anchorage:20231012T235900
DTSTAMP:20260423T151757
CREATED:20230822T204631Z
LAST-MODIFIED:20231010T210042Z
UID:3931-1697068800-1697155140@kpbsd.org
SUMMARY:Early Release
DESCRIPTION:
URL:https://kpbsd.org/schools/fireweed-academy/event/early-release-11/
CATEGORIES:Districtwide Calendar
END:VEVENT
BEGIN:VEVENT
DTSTART;TZID=America/Anchorage:20230929T000000
DTEND;TZID=America/Anchorage:20230929T235900
DTSTAMP:20260423T151757
CREATED:20230822T204630Z
LAST-MODIFIED:20230926T210104Z
UID:3928-1695945600-1696031940@kpbsd.org
SUMMARY:Early Release
DESCRIPTION:
URL:https://kpbsd.org/schools/fireweed-academy/event/early-release-10/
CATEGORIES:Districtwide Calendar
END:VEVENT
BEGIN:VEVENT
DTSTART;TZID=America/Anchorage:20230908T000000
DTEND;TZID=America/Anchorage:20230908T235900
DTSTAMP:20260423T151757
CREATED:20230822T204630Z
LAST-MODIFIED:20230905T205016Z
UID:3925-1694131200-1694217540@kpbsd.org
SUMMARY:Early Release
DESCRIPTION:
URL:https://kpbsd.org/schools/fireweed-academy/event/early-release-9/
CATEGORIES:Districtwide Calendar
END:VEVENT
BEGIN:VEVENT
DTSTART;TZID=America/Anchorage:20230904T000000
DTEND;TZID=America/Anchorage:20230904T235900
DTSTAMP:20260423T151757
CREATED:20221212T190207Z
LAST-MODIFIED:20230829T204623Z
UID:3570-1693785600-1693871940@kpbsd.org
SUMMARY:Holiday
DESCRIPTION:
URL:https://kpbsd.org/schools/fireweed-academy/event/holiday-8/
CATEGORIES:Districtwide Calendar,Holiday
END:VEVENT
BEGIN:VEVENT
DTSTART;TZID=America/Anchorage:20230815T000000
DTEND;TZID=America/Anchorage:20230815T235900
DTSTAMP:20260423T151757
CREATED:20221212T190206Z
LAST-MODIFIED:20230815T204756Z
UID:3569-1692057600-1692143940@kpbsd.org
SUMMARY:First Day of School
DESCRIPTION:
URL:https://kpbsd.org/schools/fireweed-academy/event/first-day-of-school/
CATEGORIES:Districtwide Calendar
END:VEVENT
BEGIN:VEVENT
DTSTART;TZID=America/Anchorage:20230814T000000
DTEND;TZID=America/Anchorage:20230814T235900
DTSTAMP:20260423T151757
CREATED:20221212T190206Z
LAST-MODIFIED:20230807T220133Z
UID:3568-1691971200-1692057540@kpbsd.org
SUMMARY:In-Service Day
DESCRIPTION:
URL:https://kpbsd.org/schools/fireweed-academy/event/in-service-day-2/
CATEGORIES:Districtwide Calendar,In-Service
END:VEVENT
BEGIN:VEVENT
DTSTART;TZID=America/Anchorage:20230808T000000
DTEND;TZID=America/Anchorage:20230811T235900
DTSTAMP:20260423T151757
CREATED:20221212T190206Z
LAST-MODIFIED:20230807T220132Z
UID:3567-1691452800-1691798340@kpbsd.org
SUMMARY:In-Service Day
DESCRIPTION:
URL:https://kpbsd.org/schools/fireweed-academy/event/in-service-day/
CATEGORIES:Districtwide Calendar,In-Service
END:VEVENT
BEGIN:VEVENT
DTSTART;TZID=America/Anchorage:20230704T000000
DTEND;TZID=America/Anchorage:20230704T235900
DTSTAMP:20260423T151757
CREATED:20221212T190206Z
LAST-MODIFIED:20230703T220217Z
UID:3566-1688428800-1688515140@kpbsd.org
SUMMARY:Holiday
DESCRIPTION:
URL:https://kpbsd.org/schools/fireweed-academy/event/holiday-7/
CATEGORIES:Districtwide Calendar,Holiday
END:VEVENT
BEGIN:VEVENT
DTSTART;TZID=America/Anchorage:20230529T080000
DTEND;TZID=America/Anchorage:20230529T170000
DTSTAMP:20260423T151757
CREATED:20221003T173730Z
LAST-MODIFIED:20230529T213050Z
UID:3332-1685347200-1685379600@kpbsd.org
SUMMARY:Holiday
DESCRIPTION:
URL:https://kpbsd.org/schools/fireweed-academy/event/holiday-11/
CATEGORIES:Districtwide Calendar,Holiday
END:VEVENT
BEGIN:VEVENT
DTSTART;TZID=America/Anchorage:20230518T000000
DTEND;TZID=America/Anchorage:20230518T235900
DTSTAMP:20260423T151757
CREATED:20221212T190205Z
LAST-MODIFIED:20230515T210051Z
UID:3565-1684368000-1684454340@kpbsd.org
SUMMARY:Last Day of School
DESCRIPTION:
URL:https://kpbsd.org/schools/fireweed-academy/event/last-day-of-school/
CATEGORIES:Districtwide Calendar
END:VEVENT
BEGIN:VEVENT
DTSTART;TZID=America/Anchorage:20230414T080000
DTEND;TZID=America/Anchorage:20230414T170000
DTSTAMP:20260423T151757
CREATED:20220912T171307Z
LAST-MODIFIED:20230410T201636Z
UID:3291-1681459200-1681491600@kpbsd.org
SUMMARY:Early Release
DESCRIPTION:
URL:https://kpbsd.org/schools/fireweed-academy/event/early-release-7/
CATEGORIES:Districtwide Calendar
END:VEVENT
BEGIN:VEVENT
DTSTART;TZID=America/Anchorage:20230407T080000
DTEND;TZID=America/Anchorage:20230407T170000
DTSTAMP:20260423T151757
CREATED:20221003T173730Z
LAST-MODIFIED:20230320T200051Z
UID:3331-1680854400-1680886800@kpbsd.org
SUMMARY:Vacation Day
DESCRIPTION:
URL:https://kpbsd.org/schools/fireweed-academy/event/vacation-day-9/
CATEGORIES:Districtwide Calendar
END:VEVENT
BEGIN:VEVENT
DTSTART;TZID=America/Anchorage:20230313T080000
DTEND;TZID=America/Anchorage:20230317T170000
DTSTAMP:20260423T151757
CREATED:20221114T183036Z
LAST-MODIFIED:20221205T190101Z
UID:3480-1678694400-1679072400@kpbsd.org
SUMMARY:Vacation Day
DESCRIPTION:
URL:https://kpbsd.org/schools/fireweed-academy/event/vacation-day-4/
CATEGORIES:Districtwide Calendar
END:VEVENT
BEGIN:VEVENT
DTSTART;TZID=America/Anchorage:20230313T000000
DTEND;TZID=America/Anchorage:20230317T235900
DTSTAMP:20260423T151757
CREATED:20221212T190205Z
LAST-MODIFIED:20230313T194732Z
UID:3564-1678665600-1679097540@kpbsd.org
SUMMARY:Vacation Day
DESCRIPTION:
URL:https://kpbsd.org/schools/fireweed-academy/event/vacation-day-5/
CATEGORIES:Districtwide Calendar
END:VEVENT
BEGIN:VEVENT
DTSTART;TZID=America/Anchorage:20230310T080000
DTEND;TZID=America/Anchorage:20230310T170000
DTSTAMP:20260423T151757
CREATED:20221003T173730Z
LAST-MODIFIED:20230306T194548Z
UID:3330-1678435200-1678467600@kpbsd.org
SUMMARY:End of Quarter/In-Service Day
DESCRIPTION:
URL:https://kpbsd.org/schools/fireweed-academy/event/end-of-quarter-in-service-day-2/
CATEGORIES:Districtwide Calendar
END:VEVENT
BEGIN:VEVENT
DTSTART;TZID=America/Anchorage:20230309T080000
DTEND;TZID=America/Anchorage:20230309T170000
DTSTAMP:20260423T151757
CREATED:20220912T171307Z
LAST-MODIFIED:20230306T194548Z
UID:3290-1678348800-1678381200@kpbsd.org
SUMMARY:Early Release
DESCRIPTION:
URL:https://kpbsd.org/schools/fireweed-academy/event/early-release-6/
CATEGORIES:Districtwide Calendar
END:VEVENT
BEGIN:VEVENT
DTSTART;TZID=America/Anchorage:20230216T080000
DTEND;TZID=America/Anchorage:20230217T170000
DTSTAMP:20260423T151757
CREATED:20221003T173730Z
LAST-MODIFIED:20230213T191706Z
UID:3328-1676534400-1676653200@kpbsd.org
SUMMARY:Parent-Teacher Conferences
DESCRIPTION:
URL:https://kpbsd.org/schools/fireweed-academy/event/parent-teacher-conferences/
CATEGORIES:Districtwide Calendar
END:VEVENT
BEGIN:VEVENT
DTSTART;TZID=America/Anchorage:20230210T000000
DTEND;TZID=America/Anchorage:20230210T235900
DTSTAMP:20260423T151757
CREATED:20220912T171307Z
LAST-MODIFIED:20230206T191610Z
UID:3289-1675987200-1676073540@kpbsd.org
SUMMARY:Early Release
DESCRIPTION:
URL:https://kpbsd.org/schools/fireweed-academy/event/early-release-5/
CATEGORIES:Districtwide Calendar
END:VEVENT
END:VCALENDAR