BEGIN:VCALENDAR
VERSION:2.0
PRODID:-//Fireweed Academy - ECPv6.8.2//NONSGML v1.0//EN
CALSCALE:GREGORIAN
METHOD:PUBLISH
X-ORIGINAL-URL:https://kpbsd.org/schools/fireweed-academy
X-WR-CALDESC:Events for Fireweed Academy
REFRESH-INTERVAL;VALUE=DURATION:PT1H
X-Robots-Tag:noindex
X-PUBLISHED-TTL:PT1H
BEGIN:VTIMEZONE
TZID:America/Anchorage
BEGIN:DAYLIGHT
TZOFFSETFROM:-0900
TZOFFSETTO:-0800
TZNAME:AKDT
DTSTART:20240310T110000
END:DAYLIGHT
BEGIN:STANDARD
TZOFFSETFROM:-0800
TZOFFSETTO:-0900
TZNAME:AKST
DTSTART:20241103T100000
END:STANDARD
END:VTIMEZONE
BEGIN:VEVENT
DTSTART;TZID=America/Anchorage:20240812T080000
DTEND;TZID=America/Anchorage:20240812T150000
DTSTAMP:20260420T125508
CREATED:20240205T191735Z
LAST-MODIFIED:20240205T192007Z
UID:4168-1723449600-1723474800@kpbsd.org
SUMMARY:Open Registration
DESCRIPTION:If you need internet or computer access or would like help with registering your student(s)\, I will be in the office today from 8:00-3:00 to help. \nPlease come at this time for vaccine waivers (if you need them they are only good for one school year)\, to make copies of current up to date vaccine records (new families) and birth certificates (new families)\, and any other paperwork that you will need. \nOur office is located in West Homer Elementary. Please come to the second entrance the door will be open!
URL:https://kpbsd.org/schools/fireweed-academy/event/open-registration/
LOCATION:AK
END:VEVENT
BEGIN:VEVENT
DTSTART;TZID=America/Anchorage:20240813T080000
DTEND;TZID=America/Anchorage:20240813T150000
DTSTAMP:20260420T125508
CREATED:20240205T191927Z
LAST-MODIFIED:20240205T191949Z
UID:4174-1723536000-1723561200@kpbsd.org
SUMMARY:Open Registration
DESCRIPTION:If you need internet or computer access or would like help with registering your student(s)\, I will be in the office today from 8:00-3:00 to help. \nPlease come at this time for vaccine waivers (if you need them they are only good for one school year)\, to make copies of current up to date vaccine records (new families) and birth certificates (new families)\, and any other paperwork that you will need. \nOur office is located in West Homer Elementary. Please come to the second entrance the door will be open!
URL:https://kpbsd.org/schools/fireweed-academy/event/open-registration-2/
LOCATION:AK
END:VEVENT
BEGIN:VEVENT
DTSTART;TZID=America/Anchorage:20240821T080000
DTEND;TZID=America/Anchorage:20240821T170000
DTSTAMP:20260420T125508
CREATED:20240522T012139Z
LAST-MODIFIED:20240815T170101Z
UID:4275-1724227200-1724259600@kpbsd.org
SUMMARY:First Day of School
DESCRIPTION:
URL:https://kpbsd.org/schools/fireweed-academy/event/first-day-of-school-2/
LOCATION:AK
CATEGORIES:Districtwide Calendar
END:VEVENT
BEGIN:VEVENT
DTSTART;TZID=America/Anchorage:20240829T151500
DTEND;TZID=America/Anchorage:20240829T163000
DTSTAMP:20260420T125508
CREATED:20240829T173035Z
LAST-MODIFIED:20240829T173058Z
UID:4511-1724944500-1724949000@kpbsd.org
SUMMARY:PTO Meeting
DESCRIPTION:Thursday at Little Fireweed (813 East End Road) at 3:15pm – Come learn about our Non Profit – Friends of Fireweed Academy\, the events\, and how to get plugged in as a volunteer this year!
URL:https://kpbsd.org/schools/fireweed-academy/event/pto-meeting/
LOCATION:AK
END:VEVENT
END:VCALENDAR