BEGIN:VCALENDAR
VERSION:2.0
PRODID:-//Homer High School - ECPv6.8.2//NONSGML v1.0//EN
CALSCALE:GREGORIAN
METHOD:PUBLISH
X-WR-CALNAME:Homer High School
X-ORIGINAL-URL:https://kpbsd.org/schools/homer-high
X-WR-CALDESC:Events for Homer High School
REFRESH-INTERVAL;VALUE=DURATION:PT1H
X-Robots-Tag:noindex
X-PUBLISHED-TTL:PT1H
BEGIN:VTIMEZONE
TZID:America/Anchorage
BEGIN:DAYLIGHT
TZOFFSETFROM:-0900
TZOFFSETTO:-0800
TZNAME:AKDT
DTSTART:20200308T110000
END:DAYLIGHT
BEGIN:STANDARD
TZOFFSETFROM:-0800
TZOFFSETTO:-0900
TZNAME:AKST
DTSTART:20201101T100000
END:STANDARD
END:VTIMEZONE
BEGIN:VEVENT
DTSTART;TZID=America/Anchorage:20201028T070000
DTEND;TZID=America/Anchorage:20201028T080000
DTSTAMP:20260423T044045
CREATED:20200930T232824Z
LAST-MODIFIED:20201022T000209Z
UID:2841-1603868400-1603872000@kpbsd.org
SUMMARY:Girls BB Shoot Around
DESCRIPTION:Site: Homer High School\nSubsite: Alice Witte Gymnasium
URL:https://kpbsd.org/schools/homer-high/event/girls-bb-shoot-around-10/
LOCATION:600 E Fairview Ave\, Homer AK  99603
END:VEVENT
BEGIN:VEVENT
DTSTART;TZID=America/Anchorage:20201028T070000
DTEND;TZID=America/Anchorage:20201028T081500
DTSTAMP:20260423T044045
CREATED:20201014T235945Z
LAST-MODIFIED:20201022T000209Z
UID:2952-1603868400-1603872900@kpbsd.org
SUMMARY:Open Weight Room
DESCRIPTION:Site: Homer High School\nSubsite: Weight / Matroom
URL:https://kpbsd.org/schools/homer-high/event/open-weight-room-8/
LOCATION:600 E Fairview Ave\, Homer AK  99603
END:VEVENT
END:VCALENDAR