BEGIN:VCALENDAR
VERSION:2.0
PRODID:-//Homer High School - ECPv6.8.2//NONSGML v1.0//EN
CALSCALE:GREGORIAN
METHOD:PUBLISH
X-ORIGINAL-URL:https://kpbsd.org/schools/homer-high
X-WR-CALDESC:Events for Homer High School
REFRESH-INTERVAL;VALUE=DURATION:PT1H
X-Robots-Tag:noindex
X-PUBLISHED-TTL:PT1H
BEGIN:VTIMEZONE
TZID:America/Anchorage
BEGIN:DAYLIGHT
TZOFFSETFROM:-0900
TZOFFSETTO:-0800
TZNAME:AKDT
DTSTART:20200308T110000
END:DAYLIGHT
BEGIN:STANDARD
TZOFFSETFROM:-0800
TZOFFSETTO:-0900
TZNAME:AKST
DTSTART:20201101T100000
END:STANDARD
END:VTIMEZONE
BEGIN:VEVENT
DTSTART;TZID=America/Anchorage:20201211T070000
DTEND;TZID=America/Anchorage:20201211T081500
DTSTAMP:20260419T054346
CREATED:20201119T003721Z
LAST-MODIFIED:20201210T011921Z
UID:3214-1607670000-1607674500@kpbsd.org
SUMMARY:Open Weight Room
DESCRIPTION:Site: Homer High School\nSubsite: Weight / Matroom
URL:https://kpbsd.org/schools/homer-high/event/open-weight-room-41/
LOCATION:600 E Fairview Ave\, Homer AK  99603
END:VEVENT
BEGIN:VEVENT
DTSTART;TZID=America/Anchorage:20201211T120000
DTEND;TZID=America/Anchorage:20201211T200000
DTSTAMP:20260419T054346
CREATED:20201119T003721Z
LAST-MODIFIED:20201210T011921Z
UID:3216-1607688000-1607716800@kpbsd.org
SUMMARY:Coed Varsity Wrestling @ Nikiski High School
DESCRIPTION:Sport: Wrestling\nLevel: Coed Varsity\nTeam: Homer High School\nSite: Nikiski High School\nSubsite: Nikiski High School
URL:https://kpbsd.org/schools/homer-high/event/coed-varsity-wrestling-nikiski-high-school/
LOCATION:52275 Education Dr\, Nikiski Alaska  99611
END:VEVENT
BEGIN:VEVENT
DTSTART;TZID=America/Anchorage:20201211T150000
DTEND;TZID=America/Anchorage:20201211T154500
DTSTAMP:20260419T054346
CREATED:20201119T003721Z
LAST-MODIFIED:20201210T011922Z
UID:3217-1607698800-1607701500@kpbsd.org
SUMMARY:Mariner on the Move
DESCRIPTION:Site: Homer High School\nSubsite: Library
URL:https://kpbsd.org/schools/homer-high/event/mariner-on-the-move-2/
LOCATION:600 E Fairview Ave\, Homer AK  99603
END:VEVENT
BEGIN:VEVENT
DTSTART;TZID=America/Anchorage:20201211T190000
DTEND;TZID=America/Anchorage:20201211T210000
DTSTAMP:20260419T054346
CREATED:20201119T003722Z
LAST-MODIFIED:20201126T005956Z
UID:3218-1607713200-1607720400@kpbsd.org
SUMMARY:Coed Varsity Hockey vs Kenai Central High School
DESCRIPTION:Sport: Hockey\nLevel: Coed Varsity\nTeam: Homer High School\nSite: Homer High School\nSubsite: Kevin Bell Arena
URL:https://kpbsd.org/schools/homer-high/event/coed-varsity-hockey-vs-kenai-central-high-school-2/
LOCATION:600 E Fairview Ave\, Homer AK  99603
END:VEVENT
END:VCALENDAR