BEGIN:VCALENDAR
VERSION:2.0
PRODID:-//Homer High School - ECPv6.8.2//NONSGML v1.0//EN
CALSCALE:GREGORIAN
METHOD:PUBLISH
X-ORIGINAL-URL:https://kpbsd.org/schools/homer-high
X-WR-CALDESC:Events for Homer High School
REFRESH-INTERVAL;VALUE=DURATION:PT1H
X-Robots-Tag:noindex
X-PUBLISHED-TTL:PT1H
BEGIN:VTIMEZONE
TZID:America/Anchorage
BEGIN:DAYLIGHT
TZOFFSETFROM:-0900
TZOFFSETTO:-0800
TZNAME:AKDT
DTSTART:20210314T110000
END:DAYLIGHT
BEGIN:STANDARD
TZOFFSETFROM:-0800
TZOFFSETTO:-0900
TZNAME:AKST
DTSTART:20211107T100000
END:STANDARD
END:VTIMEZONE
BEGIN:VEVENT
DTSTART;TZID=America/Anchorage:20210119T160000
DTEND;TZID=America/Anchorage:20210119T173000
DTSTAMP:20260423T064350
CREATED:20201224T013508Z
LAST-MODIFIED:20210114T024129Z
UID:3381-1611072000-1611077400@kpbsd.org
SUMMARY:Girls Varsity Competitive Cheer - Practice
DESCRIPTION:Sport: Competitive Cheer\nLevel: Girls Varsity\nTeam: Homer High School\nSite: Homer High School\nSubsite: Green Room
URL:https://kpbsd.org/schools/homer-high/event/girls-varsity-competitive-cheer-practice-62/
LOCATION:600 E Fairview Ave\, Homer AK  99603
END:VEVENT
BEGIN:VEVENT
DTSTART;TZID=America/Anchorage:20210119T160000
DTEND;TZID=America/Anchorage:20210119T180000
DTSTAMP:20260423T064350
CREATED:20201224T013508Z
LAST-MODIFIED:20210114T024129Z
UID:3380-1611072000-1611079200@kpbsd.org
SUMMARY:Boys Varsity Basketball - Practice
DESCRIPTION:Sport: Basketball\nLevel: Boys Varsity\nTeam: Homer High School\nSite: Homer High School\nSubsite: Alice Witte Gymnasium
URL:https://kpbsd.org/schools/homer-high/event/boys-varsity-basketball-practice-8/
LOCATION:600 E Fairview Ave\, Homer AK  99603
END:VEVENT
BEGIN:VEVENT
DTSTART;TZID=America/Anchorage:20210119T180000
DTEND;TZID=America/Anchorage:20210119T200000
DTSTAMP:20260423T064350
CREATED:20201224T013508Z
LAST-MODIFIED:20201231T015534Z
UID:3382-1611079200-1611086400@kpbsd.org
SUMMARY:Coed JV Hockey vs Kenai Central High School
DESCRIPTION:Sport: Hockey\nLevel: Coed JV\nTeam: Homer High School\nSite: Homer High School\nSubsite: Kevin Bell Arena
URL:https://kpbsd.org/schools/homer-high/event/coed-jv-hockey-vs-kenai-central-high-school/
LOCATION:600 E Fairview Ave\, Homer AK  99603
END:VEVENT
BEGIN:VEVENT
DTSTART;TZID=America/Anchorage:20210119T181500
DTEND;TZID=America/Anchorage:20210119T203000
DTSTAMP:20260423T064350
CREATED:20201224T013508Z
LAST-MODIFIED:20210114T024130Z
UID:3383-1611080100-1611088200@kpbsd.org
SUMMARY:Girls Varsity Basketball - Practice
DESCRIPTION:Sport: Basketball\nLevel: Girls Varsity\nTeam: Homer High School\nSite: Homer High School\nSubsite: Alice Witte Gymnasium
URL:https://kpbsd.org/schools/homer-high/event/girls-varsity-basketball-practice-8/
LOCATION:600 E Fairview Ave\, Homer AK  99603
END:VEVENT
END:VCALENDAR