BEGIN:VCALENDAR
VERSION:2.0
PRODID:-//Homer High School - ECPv6.8.2//NONSGML v1.0//EN
CALSCALE:GREGORIAN
METHOD:PUBLISH
X-WR-CALNAME:Homer High School
X-ORIGINAL-URL:https://kpbsd.org/schools/homer-high
X-WR-CALDESC:Events for Homer High School
REFRESH-INTERVAL;VALUE=DURATION:PT1H
X-Robots-Tag:noindex
X-PUBLISHED-TTL:PT1H
BEGIN:VTIMEZONE
TZID:America/Anchorage
BEGIN:DAYLIGHT
TZOFFSETFROM:-0900
TZOFFSETTO:-0800
TZNAME:AKDT
DTSTART:20210314T110000
END:DAYLIGHT
BEGIN:STANDARD
TZOFFSETFROM:-0800
TZOFFSETTO:-0900
TZNAME:AKST
DTSTART:20211107T100000
END:STANDARD
END:VTIMEZONE
BEGIN:VEVENT
DTSTART;TZID=America/Anchorage:20210311T000100
DTEND;TZID=America/Anchorage:20210311T003100
DTSTAMP:20260423T074716
CREATED:20210211T034742Z
LAST-MODIFIED:20210311T043423Z
UID:3887-1615420860-1615422660@kpbsd.org
SUMMARY:No School - Vacation Day
DESCRIPTION:Site: Homer High School\nSubsite: Other
URL:https://kpbsd.org/schools/homer-high/event/no-school-vacation-day-29/
LOCATION:600 E Fairview Ave\, Homer AK  99603
END:VEVENT
BEGIN:VEVENT
DTSTART;TZID=America/Anchorage:20210311T000100
DTEND;TZID=America/Anchorage:20210313T000100
DTSTAMP:20260423T074716
CREATED:20210211T034743Z
LAST-MODIFIED:20210311T043424Z
UID:3893-1615420860-1615593660@kpbsd.org
SUMMARY:South Central Region Tournament
DESCRIPTION:Games:\nSport: Basketball\nLevel: Boys Varsity\nTeam: Homer High School
URL:https://kpbsd.org/schools/homer-high/event/south-central-region-tournament/
LOCATION:AK
END:VEVENT
BEGIN:VEVENT
DTSTART;TZID=America/Anchorage:20210311T070000
DTEND;TZID=America/Anchorage:20210311T190000
DTSTAMP:20260423T074716
CREATED:20210211T034742Z
LAST-MODIFIED:20210311T043423Z
UID:3888-1615446000-1615489200@kpbsd.org
SUMMARY:COVID Vaccinations
DESCRIPTION:Site: Homer High School\nSubsite: Commons
URL:https://kpbsd.org/schools/homer-high/event/covid-vaccinations-4/
LOCATION:600 E Fairview Ave\, Homer AK  99603
END:VEVENT
BEGIN:VEVENT
DTSTART;TZID=America/Anchorage:20210311T120000
DTEND;TZID=America/Anchorage:20210311T134500
DTSTAMP:20260423T074716
CREATED:20210304T041704Z
LAST-MODIFIED:20210311T043424Z
UID:3972-1615464000-1615470300@kpbsd.org
SUMMARY:Boys Varsity Soccer - Practice
DESCRIPTION:Sport: Soccer\nLevel: Boys Varsity\nTeam: Homer High School\nSite: Homer High School\nSubsite: Alice Witte Gymnasium
URL:https://kpbsd.org/schools/homer-high/event/boys-varsity-soccer-practice-5/
LOCATION:600 E Fairview Ave\, Homer AK  99603
END:VEVENT
BEGIN:VEVENT
DTSTART;TZID=America/Anchorage:20210311T120000
DTEND;TZID=America/Anchorage:20210311T140000
DTSTAMP:20260423T074716
CREATED:20210311T043414Z
LAST-MODIFIED:20210311T043424Z
UID:4029-1615464000-1615471200@kpbsd.org
SUMMARY:Girls Varsity Basketball @ Houston Junior Senior High School
DESCRIPTION:Sport: Basketball\nLevel: Girls Varsity\nTeam: Homer High School\nSite: Kenai Central High School\nSubsite: Gym
URL:https://kpbsd.org/schools/homer-high/event/girls-varsity-basketball-houston-junior-senior-high-school/
LOCATION:9583 Kenai Spur Hwy\, Kenai AK  99611-7898
END:VEVENT
BEGIN:VEVENT
DTSTART;TZID=America/Anchorage:20210311T140000
DTEND;TZID=America/Anchorage:20210311T154500
DTSTAMP:20260423T074716
CREATED:20210304T041704Z
LAST-MODIFIED:20210311T043424Z
UID:3973-1615471200-1615477500@kpbsd.org
SUMMARY:Coed Varsity Track - Outdoor - Practice
DESCRIPTION:Sport: Track – Outdoor\nLevel: Coed Varsity\nTeam: Homer High School\nSite: Homer High School\nSubsite: Weight / Matroom
URL:https://kpbsd.org/schools/homer-high/event/coed-varsity-track-outdoor-practice-5/
LOCATION:600 E Fairview Ave\, Homer AK  99603
END:VEVENT
BEGIN:VEVENT
DTSTART;TZID=America/Anchorage:20210311T140000
DTEND;TZID=America/Anchorage:20210311T154500
DTSTAMP:20260423T074716
CREATED:20210304T041704Z
LAST-MODIFIED:20210311T043424Z
UID:3974-1615471200-1615477500@kpbsd.org
SUMMARY:Girls Varsity Soccer - Practice
DESCRIPTION:Sport: Soccer\nLevel: Girls Varsity\nTeam: Homer High School\nSite: Homer High School\nSubsite: Alice Witte Gymnasium
URL:https://kpbsd.org/schools/homer-high/event/girls-varsity-soccer-practice-4/
LOCATION:600 E Fairview Ave\, Homer AK  99603
END:VEVENT
BEGIN:VEVENT
DTSTART;TZID=America/Anchorage:20210311T160000
DTEND;TZID=America/Anchorage:20210311T173000
DTSTAMP:20260423T074716
CREATED:20210211T034742Z
LAST-MODIFIED:20210225T041253Z
UID:3889-1615478400-1615483800@kpbsd.org
SUMMARY:Girls Varsity Competitive Cheer - Practice
DESCRIPTION:Sport: Competitive Cheer\nLevel: Girls Varsity\nTeam: Homer High School\nSite: Homer High School\nSubsite: Green Room
URL:https://kpbsd.org/schools/homer-high/event/girls-varsity-competitive-cheer-practice-102/
LOCATION:600 E Fairview Ave\, Homer AK  99603
END:VEVENT
BEGIN:VEVENT
DTSTART;TZID=America/Anchorage:20210311T160000
DTEND;TZID=America/Anchorage:20210311T180000
DTSTAMP:20260423T074716
CREATED:20210311T043414Z
LAST-MODIFIED:20210311T043424Z
UID:4030-1615478400-1615485600@kpbsd.org
SUMMARY:Boys Varsity Basketball @ Redington Sr Jr/Sr High School
DESCRIPTION:Sport: Basketball\nLevel: Boys Varsity\nTeam: Homer High School\nSite: Kenai Central High School\nSubsite: Gym
URL:https://kpbsd.org/schools/homer-high/event/boys-varsity-basketball-redington-sr-jr-sr-high-school/
LOCATION:9583 Kenai Spur Hwy\, Kenai AK  99611-7898
END:VEVENT
END:VCALENDAR