BEGIN:VCALENDAR
VERSION:2.0
PRODID:-//Homer High School - ECPv6.8.2//NONSGML v1.0//EN
CALSCALE:GREGORIAN
METHOD:PUBLISH
X-ORIGINAL-URL:https://kpbsd.org/schools/homer-high
X-WR-CALDESC:Events for Homer High School
REFRESH-INTERVAL;VALUE=DURATION:PT1H
X-Robots-Tag:noindex
X-PUBLISHED-TTL:PT1H
BEGIN:VTIMEZONE
TZID:America/Anchorage
BEGIN:DAYLIGHT
TZOFFSETFROM:-0900
TZOFFSETTO:-0800
TZNAME:AKDT
DTSTART:20210314T110000
END:DAYLIGHT
BEGIN:STANDARD
TZOFFSETFROM:-0800
TZOFFSETTO:-0900
TZNAME:AKST
DTSTART:20211107T100000
END:STANDARD
END:VTIMEZONE
BEGIN:VEVENT
DTSTART;TZID=America/Anchorage:20210821T000100
DTEND;TZID=America/Anchorage:20210821T000100
DTSTAMP:20260420T120121
CREATED:20210722T073640Z
LAST-MODIFIED:20210805T075346Z
UID:4752-1629504060-1629504060@kpbsd.org
SUMMARY:Coed Varsity Swimming
DESCRIPTION:Sport: Swimming\nLevel: Coed Varsity\nTeam: Homer High School\nSite: Colony High School
URL:https://kpbsd.org/schools/homer-high/event/coed-varsity-swimming-colony-high-school/
LOCATION:9550 East Bogard Road\, Palmer AK  99645
END:VEVENT
BEGIN:VEVENT
DTSTART;TZID=America/Anchorage:20210821T100000
DTEND;TZID=America/Anchorage:20210821T130000
DTSTAMP:20260420T120121
CREATED:20210722T073640Z
LAST-MODIFIED:20210819T080346Z
UID:4753-1629540000-1629550800@kpbsd.org
SUMMARY:Girls JV Volleyball vs Soldotna High School
DESCRIPTION:Sport: Volleyball\nLevel: Girls JV\nTeam: Homer High School\nSite: Homer High School\nSubsite: Alice Witte Gymnasium
URL:https://kpbsd.org/schools/homer-high/event/girls-jv-volleyball-vs-soldotna-high-school-2/
LOCATION:600 E Fairview Ave\, Homer AK  99603
END:VEVENT
BEGIN:VEVENT
DTSTART;TZID=America/Anchorage:20210821T100000
DTEND;TZID=America/Anchorage:20210821T180000
DTSTAMP:20260420T120121
CREATED:20210722T073640Z
LAST-MODIFIED:20210819T080346Z
UID:4754-1629540000-1629568800@kpbsd.org
SUMMARY:Girls Varsity Volleyball vs Soldotna High School
DESCRIPTION:Sport: Volleyball\nLevel: Girls Varsity\nTeam: Homer High School\nSite: Homer High School\nSubsite: Alice Witte Gymnasium
URL:https://kpbsd.org/schools/homer-high/event/girls-varsity-volleyball-vs-soldotna-high-school-2/
LOCATION:600 E Fairview Ave\, Homer AK  99603
END:VEVENT
BEGIN:VEVENT
DTSTART;TZID=America/Anchorage:20210821T120000
DTEND;TZID=America/Anchorage:20210821T150000
DTSTAMP:20260420T120121
CREATED:20210722T073640Z
LAST-MODIFIED:20210819T080347Z
UID:4756-1629547200-1629558000@kpbsd.org
SUMMARY:Coed Varsity Cross Country @ Soldotna High School
DESCRIPTION:Sport: Cross Country\nLevel: Coed Varsity\nTeam: Homer High School\nSite: Soldotna High School\nSubsite: Tsalteshi Trails
URL:https://kpbsd.org/schools/homer-high/event/coed-varsity-cross-country-soldotna-high-school-2/
LOCATION:425 W Marydale Ave\, Soldotna AK  99669-7399
END:VEVENT
END:VCALENDAR