BEGIN:VCALENDAR
VERSION:2.0
PRODID:-//Homer High School - ECPv6.8.2//NONSGML v1.0//EN
CALSCALE:GREGORIAN
METHOD:PUBLISH
X-ORIGINAL-URL:https://kpbsd.org/schools/homer-high
X-WR-CALDESC:Events for Homer High School
REFRESH-INTERVAL;VALUE=DURATION:PT1H
X-Robots-Tag:noindex
X-PUBLISHED-TTL:PT1H
BEGIN:VTIMEZONE
TZID:America/Anchorage
BEGIN:DAYLIGHT
TZOFFSETFROM:-0900
TZOFFSETTO:-0800
TZNAME:AKDT
DTSTART:20220313T110000
END:DAYLIGHT
BEGIN:STANDARD
TZOFFSETFROM:-0800
TZOFFSETTO:-0900
TZNAME:AKST
DTSTART:20221106T100000
END:STANDARD
END:VTIMEZONE
BEGIN:VEVENT
DTSTART;TZID=America/Anchorage:20220421T150000
DTEND;TZID=America/Anchorage:20220421T163000
DTSTAMP:20260419T054346
CREATED:20220331T191221Z
LAST-MODIFIED:20220415T111434Z
UID:5252-1650553200-1650558600@kpbsd.org
SUMMARY:Girls JV Soccer @ Wasilla High School
DESCRIPTION:Sport: Soccer\nLevel: Girls JV\nTeam: Homer High School\nSite: Wasilla High School\nSubsite: Field Turf-Veterans Memorial Field
URL:https://kpbsd.org/schools/homer-high/event/girls-jv-soccer-wasilla-high-school/
LOCATION:701 E Bogard Rd\, Wasilla AK  99654-7193
END:VEVENT
BEGIN:VEVENT
DTSTART;TZID=America/Anchorage:20220421T170000
DTEND;TZID=America/Anchorage:20220421T180000
DTSTAMP:20260419T054346
CREATED:20220331T191221Z
LAST-MODIFIED:20220415T111435Z
UID:5254-1650560400-1650564000@kpbsd.org
SUMMARY:Girls Varsity Soccer @ Redington Jr/Sr High School
DESCRIPTION:Sport: Soccer\nLevel: Girls Varsity\nTeam: Homer High School\nSite: Redington Sr Jr/Sr High School\nSubsite: Field Turf
URL:https://kpbsd.org/schools/homer-high/event/girls-varsity-soccer-redington-jr-sr-high-school/
LOCATION:10015 Redington School Dr.\, Wasilla AK  99654
END:VEVENT
BEGIN:VEVENT
DTSTART;TZID=America/Anchorage:20220421T190000
DTEND;TZID=America/Anchorage:20220421T200000
DTSTAMP:20260419T054346
CREATED:20220331T191221Z
LAST-MODIFIED:20220415T111435Z
UID:5255-1650567600-1650571200@kpbsd.org
SUMMARY:Boys Varsity Soccer @ Redington Jr/Sr High School
DESCRIPTION:Sport: Soccer\nLevel: Boys Varsity\nTeam: Homer High School\nSite: Redington Sr Jr/Sr High School\nSubsite: Field Turf
URL:https://kpbsd.org/schools/homer-high/event/boys-varsity-soccer-redington-jr-sr-high-school/
LOCATION:10015 Redington School Dr.\, Wasilla AK  99654
END:VEVENT
BEGIN:VEVENT
DTSTART;TZID=America/Anchorage:20220421T190000
DTEND;TZID=America/Anchorage:20220421T210000
DTSTAMP:20260419T054346
CREATED:20220331T191221Z
LAST-MODIFIED:20220415T111435Z
UID:5256-1650567600-1650574800@kpbsd.org
SUMMARY:HHS Pops Concert
DESCRIPTION:Site: Homer High School\nSubsite: Theatre
URL:https://kpbsd.org/schools/homer-high/event/hhs-pops-concert/
LOCATION:600 E Fairview Ave\, Homer AK  99603
END:VEVENT
END:VCALENDAR