BEGIN:VCALENDAR
VERSION:2.0
PRODID:-//Homer High School - ECPv6.8.2//NONSGML v1.0//EN
CALSCALE:GREGORIAN
METHOD:PUBLISH
X-ORIGINAL-URL:https://kpbsd.org/schools/homer-high
X-WR-CALDESC:Events for Homer High School
REFRESH-INTERVAL;VALUE=DURATION:PT1H
X-Robots-Tag:noindex
X-PUBLISHED-TTL:PT1H
BEGIN:VTIMEZONE
TZID:America/Anchorage
BEGIN:DAYLIGHT
TZOFFSETFROM:-0900
TZOFFSETTO:-0800
TZNAME:AKDT
DTSTART:20220313T110000
END:DAYLIGHT
BEGIN:STANDARD
TZOFFSETFROM:-0800
TZOFFSETTO:-0900
TZNAME:AKST
DTSTART:20221106T100000
END:STANDARD
END:VTIMEZONE
BEGIN:VEVENT
DTSTART;TZID=America/Anchorage:20221212T063000
DTEND;TZID=America/Anchorage:20221212T081500
DTSTAMP:20260419T195342
CREATED:20221027T144558Z
LAST-MODIFIED:20221208T154524Z
UID:10474-1670826600-1670832900@kpbsd.org
SUMMARY:Girls Varsity Basketball - Practice
DESCRIPTION:Sport: Basketball\nLevel: Girls Varsity\nTeam: Homer High School\nSite: Homer High School\nSubsite: Gym
URL:https://kpbsd.org/schools/homer-high/event/girls-varsity-basketball-practice-40/
LOCATION:600 E Fairview Ave\, Homer AK  99603
END:VEVENT
BEGIN:VEVENT
DTSTART;TZID=America/Anchorage:20221212T070000
DTEND;TZID=America/Anchorage:20221212T081500
DTSTAMP:20260419T195342
CREATED:20220818T111458Z
LAST-MODIFIED:20221201T153402Z
UID:6749-1670828400-1670832900@kpbsd.org
SUMMARY:Open Gym- Soccer and Basketball
DESCRIPTION:Site: Homer High School\nSubsite: Alice Witte Gymnasium
URL:https://kpbsd.org/schools/homer-high/event/open-gym-soccer-and-basketball-65/
LOCATION:600 E Fairview Ave\, Homer AK  99603
END:VEVENT
BEGIN:VEVENT
DTSTART;TZID=America/Anchorage:20221212T160000
DTEND;TZID=America/Anchorage:20221212T180000
DTSTAMP:20260419T195342
CREATED:20220825T113055Z
LAST-MODIFIED:20221208T154525Z
UID:6981-1670860800-1670868000@kpbsd.org
SUMMARY:DDF Practice
DESCRIPTION:Site: Homer High School\nSubsite: B-106
URL:https://kpbsd.org/schools/homer-high/event/ddf-practice-31/
LOCATION:600 E Fairview Ave\, Homer AK  99603
END:VEVENT
BEGIN:VEVENT
DTSTART;TZID=America/Anchorage:20221212T160000
DTEND;TZID=America/Anchorage:20221212T180000
DTSTAMP:20260419T195342
CREATED:20220825T113055Z
LAST-MODIFIED:20221208T154525Z
UID:6982-1670860800-1670868000@kpbsd.org
SUMMARY:Coed Varsity Wrestling - Practice
DESCRIPTION:Sport: Wrestling\nLevel: Coed Varsity\nTeam: Homer High School\nSite: Homer High School\nSubsite: Weight / Matroom
URL:https://kpbsd.org/schools/homer-high/event/coed-varsity-wrestling-practice-93/
LOCATION:600 E Fairview Ave\, Homer AK  99603
END:VEVENT
BEGIN:VEVENT
DTSTART;TZID=America/Anchorage:20221212T160000
DTEND;TZID=America/Anchorage:20221212T190000
DTSTAMP:20260419T195342
CREATED:20221027T144558Z
LAST-MODIFIED:20221208T154525Z
UID:10475-1670860800-1670871600@kpbsd.org
SUMMARY:Boys Varsity Basketball - Practice
DESCRIPTION:Sport: Basketball\nLevel: Boys Varsity\nTeam: Homer High School\nSite: Homer High School\nSubsite: Gym
URL:https://kpbsd.org/schools/homer-high/event/boys-varsity-basketball-practice-39/
LOCATION:600 E Fairview Ave\, Homer AK  99603
END:VEVENT
BEGIN:VEVENT
DTSTART;TZID=America/Anchorage:20221212T191500
DTEND;TZID=America/Anchorage:20221212T210000
DTSTAMP:20260419T195342
CREATED:20221117T150241Z
LAST-MODIFIED:20221208T154525Z
UID:10823-1670872500-1670878800@kpbsd.org
SUMMARY:Soccer Open Gym
DESCRIPTION:Site: Homer High School\nSubsite: Gym
URL:https://kpbsd.org/schools/homer-high/event/soccer-open-gym-28/
LOCATION:600 E Fairview Ave\, Homer AK  99603
END:VEVENT
END:VCALENDAR