BEGIN:VCALENDAR
VERSION:2.0
PRODID:-//Homer High School - ECPv6.8.2//NONSGML v1.0//EN
CALSCALE:GREGORIAN
METHOD:PUBLISH
X-WR-CALNAME:Homer High School
X-ORIGINAL-URL:https://kpbsd.org/schools/homer-high
X-WR-CALDESC:Events for Homer High School
REFRESH-INTERVAL;VALUE=DURATION:PT1H
X-Robots-Tag:noindex
X-PUBLISHED-TTL:PT1H
BEGIN:VTIMEZONE
TZID:America/Anchorage
BEGIN:DAYLIGHT
TZOFFSETFROM:-0900
TZOFFSETTO:-0800
TZNAME:AKDT
DTSTART:20230312T110000
END:DAYLIGHT
BEGIN:STANDARD
TZOFFSETFROM:-0800
TZOFFSETTO:-0900
TZNAME:AKST
DTSTART:20231105T100000
END:STANDARD
END:VTIMEZONE
BEGIN:VEVENT
DTSTART;TZID=America/Anchorage:20230127T000100
DTEND;TZID=America/Anchorage:20230127T000100
DTSTAMP:20260419T143435
CREATED:20220429T111512Z
LAST-MODIFIED:20230126T173205Z
UID:6055-1674777660-1674777660@kpbsd.org
SUMMARY:Boys Varsity Basketball @ Mt Edgecumbe High School
DESCRIPTION:Sport: Basketball\nLevel: Boys Varsity\nTeam: Homer High School\nSite: Mt Edgecumbe High School\nSubsite: Gym
URL:https://kpbsd.org/schools/homer-high/event/boys-varsity-basketball-mt-edgecumbe-high-school/
LOCATION:1330 Seward Street\, Sitka Alaska  99835
END:VEVENT
BEGIN:VEVENT
DTSTART;TZID=America/Anchorage:20230127T000100
DTEND;TZID=America/Anchorage:20230127T000100
DTSTAMP:20260419T143435
CREATED:20220429T111512Z
LAST-MODIFIED:20230126T173205Z
UID:6057-1674777660-1674777660@kpbsd.org
SUMMARY:Girls Varsity Basketball @ Mt Edgecumbe High School
DESCRIPTION:Sport: Basketball\nLevel: Girls Varsity\nTeam: Homer High School\nSite: Mt Edgecumbe High School\nSubsite: Gym
URL:https://kpbsd.org/schools/homer-high/event/girls-varsity-basketball-mt-edgecumbe-high-school/
LOCATION:1330 Seward Street\, Sitka Alaska  99835
END:VEVENT
BEGIN:VEVENT
DTSTART;TZID=America/Anchorage:20230127T150000
DTEND;TZID=America/Anchorage:20230127T180000
DTSTAMP:20260419T143435
CREATED:20220429T111512Z
LAST-MODIFIED:20230126T173205Z
UID:6058-1674831600-1674842400@kpbsd.org
SUMMARY:Coed Varsity Ski @ Kenai Central High School
DESCRIPTION:Sport: Ski\nLevel: Coed Varsity\nTeam: Homer High School\nSite: Kenai Central High School\nSubsite: Kenai Municipal Golf Course
URL:https://kpbsd.org/schools/homer-high/event/coed-varsity-ski-kenai-central-high-school/
LOCATION:9583 Kenai Spur Hwy\, Kenai AK  99611-7898
END:VEVENT
BEGIN:VEVENT
DTSTART;TZID=America/Anchorage:20230127T160000
DTEND;TZID=America/Anchorage:20230127T180000
DTSTAMP:20260419T143435
CREATED:20221027T144627Z
LAST-MODIFIED:20230126T173205Z
UID:10533-1674835200-1674842400@kpbsd.org
SUMMARY:Girls Varsity Basketball - Practice
DESCRIPTION:Sport: Basketball\nLevel: Girls Varsity\nTeam: Homer High School\nSite: Homer High School\nSubsite: Gym
URL:https://kpbsd.org/schools/homer-high/event/girls-varsity-basketball-practice-61/
LOCATION:600 E Fairview Ave\, Homer AK  99603
END:VEVENT
BEGIN:VEVENT
DTSTART;TZID=America/Anchorage:20230127T160000
DTEND;TZID=America/Anchorage:20230127T183000
DTSTAMP:20260419T143435
CREATED:20221027T144627Z
LAST-MODIFIED:20230126T173206Z
UID:10532-1674835200-1674844200@kpbsd.org
SUMMARY:Girls Varsity Competitive Cheer - Practice
DESCRIPTION:Sport: Competitive Cheer\nLevel: Girls Varsity\nTeam: Homer High School\nSite: Homer High School\nSubsite: Green Room
URL:https://kpbsd.org/schools/homer-high/event/girls-varsity-competitive-cheer-practice-195/
LOCATION:600 E Fairview Ave\, Homer AK  99603
END:VEVENT
BEGIN:VEVENT
DTSTART;TZID=America/Anchorage:20230127T181500
DTEND;TZID=America/Anchorage:20230127T203000
DTSTAMP:20260419T143435
CREATED:20221027T144627Z
LAST-MODIFIED:20230126T173206Z
UID:10531-1674843300-1674851400@kpbsd.org
SUMMARY:Boys Varsity Basketball - Practice
DESCRIPTION:Sport: Basketball\nLevel: Boys Varsity\nTeam: Homer High School\nSite: Homer High School\nSubsite: Gym
URL:https://kpbsd.org/schools/homer-high/event/boys-varsity-basketball-practice-57/
LOCATION:600 E Fairview Ave\, Homer AK  99603
END:VEVENT
BEGIN:VEVENT
DTSTART;TZID=America/Anchorage:20230127T190000
DTEND;TZID=America/Anchorage:20230127T210000
DTSTAMP:20260419T143435
CREATED:20220331T191313Z
LAST-MODIFIED:20221208T154733Z
UID:5507-1674846000-1674853200@kpbsd.org
SUMMARY:Coed Varsity Hockey vs Soldotna High School
DESCRIPTION:Sport: Hockey\nLevel: Coed Varsity\nTeam: Homer High School\nSite: Homer High School\nSubsite: Kevin Bell Arena
URL:https://kpbsd.org/schools/homer-high/event/coed-varsity-hockey-vs-soldotna-high-school-4/
LOCATION:600 E Fairview Ave\, Homer AK  99603
END:VEVENT
END:VCALENDAR