BEGIN:VCALENDAR
VERSION:2.0
PRODID:-//Homer High School - ECPv6.8.2//NONSGML v1.0//EN
CALSCALE:GREGORIAN
METHOD:PUBLISH
X-ORIGINAL-URL:https://kpbsd.org/schools/homer-high
X-WR-CALDESC:Events for Homer High School
REFRESH-INTERVAL;VALUE=DURATION:PT1H
X-Robots-Tag:noindex
X-PUBLISHED-TTL:PT1H
BEGIN:VTIMEZONE
TZID:America/Anchorage
BEGIN:DAYLIGHT
TZOFFSETFROM:-0900
TZOFFSETTO:-0800
TZNAME:AKDT
DTSTART:20230312T110000
END:DAYLIGHT
BEGIN:STANDARD
TZOFFSETFROM:-0800
TZOFFSETTO:-0900
TZNAME:AKST
DTSTART:20231105T100000
END:STANDARD
END:VTIMEZONE
BEGIN:VEVENT
DTSTART;TZID=America/Anchorage:20230325T150000
DTEND;TZID=America/Anchorage:20230325T180000
DTSTAMP:20260419T195110
CREATED:20230223T183009Z
LAST-MODIFIED:20230223T183009Z
UID:11349-1679756400-1679767200@kpbsd.org
SUMMARY:HHS Musical Performance Matinee
DESCRIPTION:Site: Homer High School\nSubsite: Theatre
URL:https://kpbsd.org/schools/homer-high/event/hhs-musical-performance-matinee/
LOCATION:600 E Fairview Ave\, Homer AK  99603
END:VEVENT
BEGIN:VEVENT
DTSTART;TZID=America/Anchorage:20230325T150000
DTEND;TZID=America/Anchorage:20230325T180000
DTSTAMP:20260419T195110
CREATED:20230302T183015Z
LAST-MODIFIED:20230323T191520Z
UID:11441-1679756400-1679767200@kpbsd.org
SUMMARY:Newsies Matinee Performance
DESCRIPTION:Site: Homer High School\nSubsite: Theatre
URL:https://kpbsd.org/schools/homer-high/event/newsies-matinee-performance/
LOCATION:600 E Fairview Ave\, Homer AK  99603
END:VEVENT
BEGIN:VEVENT
DTSTART;TZID=America/Anchorage:20230325T190000
DTEND;TZID=America/Anchorage:20230325T220000
DTSTAMP:20260419T195110
CREATED:20230302T183016Z
LAST-MODIFIED:20230323T191520Z
UID:11442-1679770800-1679781600@kpbsd.org
SUMMARY:Newsies Performance
DESCRIPTION:Site: Homer High School\nSubsite: Theatre
URL:https://kpbsd.org/schools/homer-high/event/newsies-performance-2/
LOCATION:600 E Fairview Ave\, Homer AK  99603
END:VEVENT
BEGIN:VEVENT
DTSTART;TZID=America/Anchorage:20230325T190000
DTEND;TZID=America/Anchorage:20230325T230000
DTSTAMP:20260419T195110
CREATED:20220603T112946Z
LAST-MODIFIED:20230223T183009Z
UID:6290-1679770800-1679785200@kpbsd.org
SUMMARY:HHS Musical Performance
DESCRIPTION:Site: Homer High School\nSubsite: Theatre
URL:https://kpbsd.org/schools/homer-high/event/hhs-musical-performance-3/
LOCATION:600 E Fairview Ave\, Homer AK  99603
END:VEVENT
END:VCALENDAR