BEGIN:VCALENDAR
VERSION:2.0
PRODID:-//Homer High School - ECPv6.8.2//NONSGML v1.0//EN
CALSCALE:GREGORIAN
METHOD:PUBLISH
X-ORIGINAL-URL:https://kpbsd.org/schools/homer-high
X-WR-CALDESC:Events for Homer High School
REFRESH-INTERVAL;VALUE=DURATION:PT1H
X-Robots-Tag:noindex
X-PUBLISHED-TTL:PT1H
BEGIN:VTIMEZONE
TZID:America/Anchorage
BEGIN:DAYLIGHT
TZOFFSETFROM:-0900
TZOFFSETTO:-0800
TZNAME:AKDT
DTSTART:20230312T110000
END:DAYLIGHT
BEGIN:STANDARD
TZOFFSETFROM:-0800
TZOFFSETTO:-0900
TZNAME:AKST
DTSTART:20231105T100000
END:STANDARD
END:VTIMEZONE
BEGIN:VEVENT
DTSTART;TZID=America/Anchorage:20231231T070000
DTEND;TZID=America/Anchorage:20231231T130000
DTSTAMP:20260419T071136
CREATED:20231222T002935Z
LAST-MODIFIED:20231229T004712Z
UID:16713-1704006000-1704027600@kpbsd.org
SUMMARY:COTR
DESCRIPTION:Site: Homer High School\nSubsite: Gym
URL:https://kpbsd.org/schools/homer-high/event/cotr-2/
LOCATION:600 E Fairview Ave\, Homer\, AK\, United States
END:VEVENT
BEGIN:VEVENT
DTSTART;TZID=America/Anchorage:20231231T090000
DTEND;TZID=America/Anchorage:20231231T170000
DTSTAMP:20260419T071136
CREATED:20230216T182604Z
LAST-MODIFIED:20231229T004712Z
UID:11306-1704013200-1704042000@kpbsd.org
SUMMARY:Winter Break 12/18-1/1/24
DESCRIPTION:Site: Homer High School\nSubsite: Other
URL:https://kpbsd.org/schools/homer-high/event/winter-break-12-18-1-1-24-15/
LOCATION:600 E Fairview Ave\, Homer\, AK\, United States
END:VEVENT
END:VCALENDAR