BEGIN:VCALENDAR
VERSION:2.0
PRODID:-//Homer High School - ECPv6.8.2//NONSGML v1.0//EN
CALSCALE:GREGORIAN
METHOD:PUBLISH
X-WR-CALNAME:Homer High School
X-ORIGINAL-URL:https://kpbsd.org/schools/homer-high
X-WR-CALDESC:Events for Homer High School
REFRESH-INTERVAL;VALUE=DURATION:PT1H
X-Robots-Tag:noindex
X-PUBLISHED-TTL:PT1H
BEGIN:VTIMEZONE
TZID:America/Anchorage
BEGIN:DAYLIGHT
TZOFFSETFROM:-0900
TZOFFSETTO:-0800
TZNAME:AKDT
DTSTART:20240310T110000
END:DAYLIGHT
BEGIN:STANDARD
TZOFFSETFROM:-0800
TZOFFSETTO:-0900
TZNAME:AKST
DTSTART:20241103T100000
END:STANDARD
END:VTIMEZONE
BEGIN:VEVENT
DTSTART;TZID=America/Anchorage:20240306T160000
DTEND;TZID=America/Anchorage:20240306T180000
DTSTAMP:20260419T231947
CREATED:20231026T231626Z
LAST-MODIFIED:20240301T015833Z
UID:15602-1709740800-1709748000@kpbsd.org
SUMMARY:Girls Varsity Competitive Cheer - Practice
DESCRIPTION:Sport: Competitive Cheer\nLevel: Girls Varsity\nTeam: Homer High School\nSite: Homer High School\nSubsite: Green Room
URL:https://kpbsd.org/schools/homer-high/event/girls-varsity-competitive-cheer-practice-349/
LOCATION:600 E Fairview Ave\, Homer AK  99603
END:VEVENT
BEGIN:VEVENT
DTSTART;TZID=America/Anchorage:20240306T160000
DTEND;TZID=America/Anchorage:20240306T180000
DTSTAMP:20260419T231947
CREATED:20231026T231626Z
LAST-MODIFIED:20240301T015833Z
UID:15605-1709740800-1709748000@kpbsd.org
SUMMARY:Boys Varsity Basketball - Practice
DESCRIPTION:Sport: Basketball\nLevel: Boys Varsity\nTeam: Homer High School\nSite: Homer High School\nSubsite: Gym
URL:https://kpbsd.org/schools/homer-high/event/boys-varsity-basketball-practice-139/
LOCATION:600 E Fairview Ave\, Homer AK  99603
END:VEVENT
BEGIN:VEVENT
DTSTART;TZID=America/Anchorage:20240306T193100
DTEND;TZID=America/Anchorage:20240306T193100
DTSTAMP:20260419T231947
CREATED:20230427T200220Z
LAST-MODIFIED:20231208T003106Z
UID:12317-1709753460-1709753460@kpbsd.org
SUMMARY:Girls JV Basketball vs Kenai Central High School
DESCRIPTION:Sport: Basketball\nLevel: Girls JV\nTeam: Homer High School\nSite: Homer High School\nSubsite: Gym
URL:https://kpbsd.org/schools/homer-high/event/girls-jv-basketball-vs-kenai-central-high-school-5/
LOCATION:600 E Fairview Ave\, Homer\, AK\, United States
END:VEVENT
BEGIN:VEVENT
DTSTART;TZID=America/Anchorage:20240306T210100
DTEND;TZID=America/Anchorage:20240306T213100
DTSTAMP:20260419T231947
CREATED:20230427T200221Z
LAST-MODIFIED:20231229T004741Z
UID:12320-1709758860-1709760660@kpbsd.org
SUMMARY:Boys Varsity Basketball vs Kenai Central High School
DESCRIPTION:Sport: Basketball\nLevel: Boys Varsity\nTeam: Homer High School\nSite: Homer High School\nSubsite: Gym
URL:https://kpbsd.org/schools/homer-high/event/boys-jv-basketball-vs-kenai-central-high-school-5/
LOCATION:600 E Fairview Ave\, Homer\, AK\, United States
END:VEVENT
BEGIN:VEVENT
DTSTART;TZID=America/Anchorage:20240306T223100
DTEND;TZID=America/Anchorage:20240307T000100
DTSTAMP:20260419T231947
CREATED:20230427T200221Z
LAST-MODIFIED:20231229T004741Z
UID:12323-1709764260-1709769660@kpbsd.org
SUMMARY:Girls Varsity Basketball vs Kenai Central High School
DESCRIPTION:Sport: Basketball\nLevel: Girls Varsity\nTeam: Homer High School\nSite: Homer High School\nSubsite: Gym
URL:https://kpbsd.org/schools/homer-high/event/girls-varsity-basketball-vs-kenai-central-high-school-5/
LOCATION:600 E Fairview Ave\, Homer\, AK\, United States
END:VEVENT
END:VCALENDAR