BEGIN:VCALENDAR
VERSION:2.0
PRODID:-//Homer High School - ECPv6.8.2//NONSGML v1.0//EN
CALSCALE:GREGORIAN
METHOD:PUBLISH
X-ORIGINAL-URL:https://kpbsd.org/schools/homer-high
X-WR-CALDESC:Events for Homer High School
REFRESH-INTERVAL;VALUE=DURATION:PT1H
X-Robots-Tag:noindex
X-PUBLISHED-TTL:PT1H
BEGIN:VTIMEZONE
TZID:America/Anchorage
BEGIN:DAYLIGHT
TZOFFSETFROM:-0900
TZOFFSETTO:-0800
TZNAME:AKDT
DTSTART:20240310T110000
END:DAYLIGHT
BEGIN:STANDARD
TZOFFSETFROM:-0800
TZOFFSETTO:-0900
TZNAME:AKST
DTSTART:20241103T100000
END:STANDARD
END:VTIMEZONE
BEGIN:VEVENT
DTSTART;TZID=America/Anchorage:20240824T000100
DTEND;TZID=America/Anchorage:20240824T000100
DTSTAMP:20260419T141938
CREATED:20240216T013324Z
LAST-MODIFIED:20240823T034558Z
UID:17521-1724457660-1724457660@kpbsd.org
SUMMARY:Girls Varsity Volleyball vs Kenai Central High School
DESCRIPTION:Sport: Volleyball\nLevel: Girls Varsity\nTeam: Homer High School\nSite: Homer High School\nSubsite: Alice Witte Gymnasium
URL:https://kpbsd.org/schools/homer-high/event/girls-varsity-volleyball-vs-kenai-central-high-school-5/
LOCATION:600 E Fairview Ave\, Homer\, AK\, United States
END:VEVENT
BEGIN:VEVENT
DTSTART;TZID=America/Anchorage:20240824T120000
DTEND;TZID=America/Anchorage:20240824T150000
DTSTAMP:20260419T141938
CREATED:20240517T022944Z
LAST-MODIFIED:20240823T034558Z
UID:19646-1724500800-1724511600@kpbsd.org
SUMMARY:Coed Varsity Cross Country @ Soldotna High School
DESCRIPTION:Sport: Cross Country\nLevel: Coed Varsity\nTeam: Homer High School\nSite: Soldotna High School\nSubsite: Tsalteshi Trails
URL:https://kpbsd.org/schools/homer-high/event/coed-varsity-cross-country-soldotna-high-school-7/
LOCATION:425 W Marydale Ave\, Soldotna\, AK\, United States
END:VEVENT
END:VCALENDAR