BEGIN:VCALENDAR
VERSION:2.0
PRODID:-//Homer High School - ECPv6.8.2//NONSGML v1.0//EN
CALSCALE:GREGORIAN
METHOD:PUBLISH
X-ORIGINAL-URL:https://kpbsd.org/schools/homer-high
X-WR-CALDESC:Events for Homer High School
REFRESH-INTERVAL;VALUE=DURATION:PT1H
X-Robots-Tag:noindex
X-PUBLISHED-TTL:PT1H
BEGIN:VTIMEZONE
TZID:America/Anchorage
BEGIN:DAYLIGHT
TZOFFSETFROM:-0900
TZOFFSETTO:-0800
TZNAME:AKDT
DTSTART:20240310T110000
END:DAYLIGHT
BEGIN:STANDARD
TZOFFSETFROM:-0800
TZOFFSETTO:-0900
TZNAME:AKST
DTSTART:20241103T100000
END:STANDARD
END:VTIMEZONE
BEGIN:VEVENT
DTSTART;TZID=America/Anchorage:20240905T000100
DTEND;TZID=America/Anchorage:20240905T000100
DTSTAMP:20260419T155141
CREATED:20240823T034447Z
LAST-MODIFIED:20240830T034733Z
UID:21885-1725494460-1725494460@kpbsd.org
SUMMARY:Girls Varsity Competitive Cheer - Practice
DESCRIPTION:Sport: Competitive Cheer\nLevel: Girls Varsity\nTeam: Homer High School\nSite: Homer High School\nSubsite: Green Room
URL:https://kpbsd.org/schools/homer-high/event/girls-varsity-competitive-cheer-practice-356/
LOCATION:600 E Fairview Ave\, Homer\, AK\, United States
END:VEVENT
BEGIN:VEVENT
DTSTART;TZID=America/Anchorage:20240905T160000
DTEND;TZID=America/Anchorage:20240905T173000
DTSTAMP:20260419T155142
CREATED:20240510T023006Z
LAST-MODIFIED:20240628T024708Z
UID:19067-1725552000-1725557400@kpbsd.org
SUMMARY:Boys Varsity Football - Practice
DESCRIPTION:Sport: Football\nLevel: Boys Varsity\nTeam: Homer High School\nSite: Homer High School\nSubsite: Turf Field
URL:https://kpbsd.org/schools/homer-high/event/boys-varsity-football-practice-83/
LOCATION:600 E Fairview Ave\, Homer\, AK\, United States
END:VEVENT
BEGIN:VEVENT
DTSTART;TZID=America/Anchorage:20240905T160000
DTEND;TZID=America/Anchorage:20240905T180000
DTSTAMP:20260419T155142
CREATED:20240510T023006Z
LAST-MODIFIED:20240830T034734Z
UID:19070-1725552000-1725559200@kpbsd.org
SUMMARY:Coed Varsity Cross Country - Practice
DESCRIPTION:Sport: Cross Country\nLevel: Coed Varsity\nTeam: Homer High School\nSite: Homer High School\nSubsite: Other
URL:https://kpbsd.org/schools/homer-high/event/coed-varsity-cross-country-practice-28/
LOCATION:600 E Fairview Ave\, Homer\, AK\, United States
END:VEVENT
BEGIN:VEVENT
DTSTART;TZID=America/Anchorage:20240905T160000
DTEND;TZID=America/Anchorage:20240905T183000
DTSTAMP:20260419T155142
CREATED:20240705T030041Z
LAST-MODIFIED:20240830T034734Z
UID:20929-1725552000-1725561000@kpbsd.org
SUMMARY:Coed Varsity Football - Practice
DESCRIPTION:Sport: Football\nLevel: Coed Varsity\nTeam: Homer High School\nSite: Homer High School\nSubsite: Turf Field
URL:https://kpbsd.org/schools/homer-high/event/coed-varsity-football-practice-77/
LOCATION:600 E Fairview Ave\, Homer\, AK\, United States
END:VEVENT
BEGIN:VEVENT
DTSTART;TZID=America/Anchorage:20240905T160000
DTEND;TZID=America/Anchorage:20240905T183000
DTSTAMP:20260419T155142
CREATED:20240802T031449Z
LAST-MODIFIED:20240830T034734Z
UID:21429-1725552000-1725561000@kpbsd.org
SUMMARY:Girls Varsity Volleyball - Practice
DESCRIPTION:Sport: Volleyball\nLevel: Girls Varsity\nTeam: Homer High School\nSite: Homer High School\nSubsite: Alice Witte Gymnasium
URL:https://kpbsd.org/schools/homer-high/event/girls-varsity-volleyball-practice-150/
LOCATION:600 E Fairview Ave\, Homer\, AK\, United States
END:VEVENT
BEGIN:VEVENT
DTSTART;TZID=America/Anchorage:20240905T180000
DTEND;TZID=America/Anchorage:20240905T200000
DTSTAMP:20260419T155142
CREATED:20240517T022951Z
LAST-MODIFIED:20240830T034734Z
UID:19654-1725559200-1725566400@kpbsd.org
SUMMARY:Football Team and Family Dinner
DESCRIPTION:Site: Homer High School\nSubsite: Commons
URL:https://kpbsd.org/schools/homer-high/event/football-team-and-family-dinner-5/
LOCATION:600 E Fairview Ave\, Homer\, AK\, United States
END:VEVENT
BEGIN:VEVENT
DTSTART;TZID=America/Anchorage:20240905T230100
DTEND;TZID=America/Anchorage:20240905T233100
DTSTAMP:20260419T155142
CREATED:20240510T023006Z
LAST-MODIFIED:20240906T040301Z
UID:19073-1725577260-1725579060@kpbsd.org
SUMMARY:Coed Varsity Cross Country @ Mountain City Christian School
DESCRIPTION:Sport: Cross Country\nLevel: Coed Varsity\nTeam: Homer High School\nSite: Mountain City Christian Academy\nSubsite: Cheney Lake
URL:https://kpbsd.org/schools/homer-high/event/coed-varsity-cross-country-mountain-city-christian-school/
LOCATION:6575 E. Northern Lights Blvd\, Anchorage\, AK\, United States
END:VEVENT
END:VCALENDAR