BEGIN:VCALENDAR
VERSION:2.0
PRODID:-//Homer High School - ECPv6.8.2//NONSGML v1.0//EN
CALSCALE:GREGORIAN
METHOD:PUBLISH
X-WR-CALNAME:Homer High School
X-ORIGINAL-URL:https://kpbsd.org/schools/homer-high
X-WR-CALDESC:Events for Homer High School
REFRESH-INTERVAL;VALUE=DURATION:PT1H
X-Robots-Tag:noindex
X-PUBLISHED-TTL:PT1H
BEGIN:VTIMEZONE
TZID:America/Anchorage
BEGIN:DAYLIGHT
TZOFFSETFROM:-0900
TZOFFSETTO:-0800
TZNAME:AKDT
DTSTART:20240310T110000
END:DAYLIGHT
BEGIN:STANDARD
TZOFFSETFROM:-0800
TZOFFSETTO:-0900
TZNAME:AKST
DTSTART:20241103T100000
END:STANDARD
END:VTIMEZONE
BEGIN:VEVENT
DTSTART;TZID=America/Anchorage:20240927T000100
DTEND;TZID=America/Anchorage:20240928T000100
DTSTAMP:20260425T132431
CREATED:20240308T015954Z
LAST-MODIFIED:20240927T043347Z
UID:18254-1727395260-1727481660@kpbsd.org
SUMMARY:Wasilla JV volleyball tournament
DESCRIPTION:Games:\nSport: Volleyball\nLevel: Girls JV\nTeam: Homer High School
URL:https://kpbsd.org/schools/homer-high/event/wasilla-jv-volleyball-tournament/
LOCATION:AK
END:VEVENT
BEGIN:VEVENT
DTSTART;TZID=America/Anchorage:20240927T090000
DTEND;TZID=America/Anchorage:20240927T150000
DTSTAMP:20260425T132431
CREATED:20240524T023126Z
LAST-MODIFIED:20240830T034748Z
UID:20131-1727427600-1727449200@kpbsd.org
SUMMARY:School Picture Day
DESCRIPTION:Site: Homer High School\nSubsite: Commons
URL:https://kpbsd.org/schools/homer-high/event/school-picture-day-2/
LOCATION:600 E Fairview Ave\, Homer\, AK\, United States
END:VEVENT
BEGIN:VEVENT
DTSTART;TZID=America/Anchorage:20240927T140000
DTEND;TZID=America/Anchorage:20240927T160000
DTSTAMP:20260425T132431
CREATED:20240301T015813Z
LAST-MODIFIED:20240628T024717Z
UID:17930-1727445600-1727452800@kpbsd.org
SUMMARY:Boys JV Football vs Redington Jr/Sr High School
DESCRIPTION:Sport: Football\nLevel: Boys JV\nTeam: Homer High School\nSite: Homer High School\nSubsite: Turf Field
URL:https://kpbsd.org/schools/homer-high/event/boys-jv-football-vs-redington-jr-sr-high-school-2/
LOCATION:600 E Fairview Ave\, Homer\, AK\, United States
END:VEVENT
BEGIN:VEVENT
DTSTART;TZID=America/Anchorage:20240927T140000
DTEND;TZID=America/Anchorage:20240927T161500
DTSTAMP:20260425T132431
CREATED:20240705T030052Z
LAST-MODIFIED:20240927T043347Z
UID:20983-1727445600-1727453700@kpbsd.org
SUMMARY:Coed JV Football vs Redington Jr/Sr High School
DESCRIPTION:Sport: Football\nLevel: Coed JV\nTeam: Homer High School\nSite: Homer High School\nSubsite: Turf Field
URL:https://kpbsd.org/schools/homer-high/event/coed-jv-football-vs-redington-jr-sr-high-school/
LOCATION:600 E Fairview Ave\, Homer\, AK\, United States
END:VEVENT
BEGIN:VEVENT
DTSTART;TZID=America/Anchorage:20240927T140000
DTEND;TZID=America/Anchorage:20240927T200000
DTSTAMP:20260425T132431
CREATED:20240517T023000Z
LAST-MODIFIED:20240927T043347Z
UID:19666-1727445600-1727467200@kpbsd.org
SUMMARY:Girls Freshman Volleyball @ Colony High School
DESCRIPTION:Sport: Volleyball\nLevel: Girls Freshman\nTeam: Homer High School\nSite: Colony High School\nSubsite: Gym
URL:https://kpbsd.org/schools/homer-high/event/girls-freshman-volleyball-colony-high-school/
LOCATION:9550 East Bogard Road\, Palmer\, AK\, United States
END:VEVENT
BEGIN:VEVENT
DTSTART;TZID=America/Anchorage:20240927T160000
DTEND;TZID=America/Anchorage:20240927T180000
DTSTAMP:20260425T132431
CREATED:20240510T023022Z
LAST-MODIFIED:20240927T043347Z
UID:19168-1727452800-1727460000@kpbsd.org
SUMMARY:Coed Varsity Cross Country - Practice
DESCRIPTION:Sport: Cross Country\nLevel: Coed Varsity\nTeam: Homer High School\nSite: Homer High School\nSubsite: Other
URL:https://kpbsd.org/schools/homer-high/event/coed-varsity-cross-country-practice-44/
LOCATION:600 E Fairview Ave\, Homer\, AK\, United States
END:VEVENT
BEGIN:VEVENT
DTSTART;TZID=America/Anchorage:20240927T160000
DTEND;TZID=America/Anchorage:20240927T183000
DTSTAMP:20260425T132431
CREATED:20240802T031511Z
LAST-MODIFIED:20240927T043347Z
UID:21473-1727452800-1727461800@kpbsd.org
SUMMARY:Girls Varsity Volleyball - Practice
DESCRIPTION:Sport: Volleyball\nLevel: Girls Varsity\nTeam: Homer High School\nSite: Homer High School\nSubsite: Alice Witte Gymnasium
URL:https://kpbsd.org/schools/homer-high/event/girls-varsity-volleyball-practice-165/
LOCATION:600 E Fairview Ave\, Homer\, AK\, United States
END:VEVENT
BEGIN:VEVENT
DTSTART;TZID=America/Anchorage:20240927T170000
DTEND;TZID=America/Anchorage:20240927T193000
DTSTAMP:20260425T132431
CREATED:20240705T030053Z
LAST-MODIFIED:20240927T043347Z
UID:20986-1727456400-1727465400@kpbsd.org
SUMMARY:Coed Varsity Football vs Redington Jr/Sr High School
DESCRIPTION:Sport: Football\nLevel: Coed Varsity\nTeam: Homer High School\nSite: Homer High School\nSubsite: Turf Field
URL:https://kpbsd.org/schools/homer-high/event/coed-varsity-football-vs-redington-jr-sr-high-school/
LOCATION:600 E Fairview Ave\, Homer\, AK\, United States
END:VEVENT
BEGIN:VEVENT
DTSTART;TZID=America/Anchorage:20240927T170000
DTEND;TZID=America/Anchorage:20240927T200000
DTSTAMP:20260425T132431
CREATED:20240301T015813Z
LAST-MODIFIED:20240628T024717Z
UID:17933-1727456400-1727467200@kpbsd.org
SUMMARY:Boys Varsity Football vs Redington Jr/Sr High School
DESCRIPTION:Sport: Football\nLevel: Boys Varsity\nTeam: Homer High School\nSite: Homer High School\nSubsite: Turf Field
URL:https://kpbsd.org/schools/homer-high/event/boys-varsity-football-vs-redington-jr-sr-high-school-2/
LOCATION:600 E Fairview Ave\, Homer\, AK\, United States
END:VEVENT
END:VCALENDAR