BEGIN:VCALENDAR
VERSION:2.0
PRODID:-//Homer High School - ECPv6.8.2//NONSGML v1.0//EN
CALSCALE:GREGORIAN
METHOD:PUBLISH
X-ORIGINAL-URL:https://kpbsd.org/schools/homer-high
X-WR-CALDESC:Events for Homer High School
REFRESH-INTERVAL;VALUE=DURATION:PT1H
X-Robots-Tag:noindex
X-PUBLISHED-TTL:PT1H
BEGIN:VTIMEZONE
TZID:America/Anchorage
BEGIN:DAYLIGHT
TZOFFSETFROM:-0900
TZOFFSETTO:-0800
TZNAME:AKDT
DTSTART:20240310T110000
END:DAYLIGHT
BEGIN:STANDARD
TZOFFSETFROM:-0800
TZOFFSETTO:-0900
TZNAME:AKST
DTSTART:20241103T100000
END:STANDARD
END:VTIMEZONE
BEGIN:VEVENT
DTSTART;TZID=America/Anchorage:20241003T000100
DTEND;TZID=America/Anchorage:20241003T000100
DTSTAMP:20260422T164957
CREATED:20240823T034512Z
LAST-MODIFIED:20240927T043349Z
UID:21908-1727913660-1727913660@kpbsd.org
SUMMARY:Girls Varsity Competitive Cheer - Practice
DESCRIPTION:Sport: Competitive Cheer\nLevel: Girls Varsity\nTeam: Homer High School\nSite: Homer High School\nSubsite: Green Room
URL:https://kpbsd.org/schools/homer-high/event/girls-varsity-competitive-cheer-practice-364/
LOCATION:600 E Fairview Ave\, Homer\, AK\, United States
END:VEVENT
BEGIN:VEVENT
DTSTART;TZID=America/Anchorage:20241003T160000
DTEND;TZID=America/Anchorage:20241003T173000
DTSTAMP:20260422T164957
CREATED:20240510T023024Z
LAST-MODIFIED:20240628T024718Z
UID:19189-1727971200-1727976600@kpbsd.org
SUMMARY:Boys Varsity Football - Practice
DESCRIPTION:Sport: Football\nLevel: Boys Varsity\nTeam: Homer High School\nSite: Homer High School\nSubsite: Turf Field
URL:https://kpbsd.org/schools/homer-high/event/boys-varsity-football-practice-101/
LOCATION:600 E Fairview Ave\, Homer\, AK\, United States
END:VEVENT
BEGIN:VEVENT
DTSTART;TZID=America/Anchorage:20241003T160000
DTEND;TZID=America/Anchorage:20241003T180000
DTSTAMP:20260422T164957
CREATED:20240510T023025Z
LAST-MODIFIED:20240927T043349Z
UID:19192-1727971200-1727978400@kpbsd.org
SUMMARY:Coed Varsity Cross Country - Practice
DESCRIPTION:Sport: Cross Country\nLevel: Coed Varsity\nTeam: Homer High School\nSite: Homer High School\nSubsite: Other
URL:https://kpbsd.org/schools/homer-high/event/coed-varsity-cross-country-practice-48/
LOCATION:600 E Fairview Ave\, Homer\, AK\, United States
END:VEVENT
BEGIN:VEVENT
DTSTART;TZID=America/Anchorage:20241003T160000
DTEND;TZID=America/Anchorage:20241003T180000
DTSTAMP:20260422T164957
CREATED:20240927T043233Z
LAST-MODIFIED:20240927T043350Z
UID:22370-1727971200-1727978400@kpbsd.org
SUMMARY:Coed Varsity Wrestling - Practice
DESCRIPTION:Sport: Wrestling\nLevel: Coed Varsity\nTeam: Homer High School\nSite: Homer High School\nSubsite: Weight / Matroom
URL:https://kpbsd.org/schools/homer-high/event/coed-varsity-wrestling-practice-151/
LOCATION:600 E Fairview Ave\, Homer\, AK\, United States
END:VEVENT
BEGIN:VEVENT
DTSTART;TZID=America/Anchorage:20241003T160000
DTEND;TZID=America/Anchorage:20241003T183000
DTSTAMP:20260422T164957
CREATED:20240705T030058Z
LAST-MODIFIED:20240927T043349Z
UID:20997-1727971200-1727980200@kpbsd.org
SUMMARY:Coed Varsity Football - Practice
DESCRIPTION:Sport: Football\nLevel: Coed Varsity\nTeam: Homer High School\nSite: Homer High School\nSubsite: Turf Field
URL:https://kpbsd.org/schools/homer-high/event/coed-varsity-football-practice-94/
LOCATION:600 E Fairview Ave\, Homer\, AK\, United States
END:VEVENT
BEGIN:VEVENT
DTSTART;TZID=America/Anchorage:20241003T160000
DTEND;TZID=America/Anchorage:20241003T183000
DTSTAMP:20260422T164957
CREATED:20240802T031516Z
LAST-MODIFIED:20240927T043350Z
UID:21485-1727971200-1727980200@kpbsd.org
SUMMARY:Girls Varsity Volleyball - Practice
DESCRIPTION:Sport: Volleyball\nLevel: Girls Varsity\nTeam: Homer High School\nSite: Homer High School\nSubsite: Alice Witte Gymnasium
URL:https://kpbsd.org/schools/homer-high/event/girls-varsity-volleyball-practice-169/
LOCATION:600 E Fairview Ave\, Homer\, AK\, United States
END:VEVENT
BEGIN:VEVENT
DTSTART;TZID=America/Anchorage:20241003T170000
DTEND;TZID=America/Anchorage:20241003T210000
DTSTAMP:20260422T164957
CREATED:20241004T044422Z
LAST-MODIFIED:20241004T044521Z
UID:22774-1727974800-1727989200@kpbsd.org
SUMMARY:Pier One Fiddler On The Roof Rehearsal
DESCRIPTION:Site: Homer High School\nSubsite: Theatre
URL:https://kpbsd.org/schools/homer-high/event/pier-one-fiddler-on-the-roof-rehearsal/
LOCATION:600 E Fairview Ave\, Homer\, AK\, United States
END:VEVENT
BEGIN:VEVENT
DTSTART;TZID=America/Anchorage:20241003T170000
DTEND;TZID=America/Anchorage:20241003T210000
DTSTAMP:20260422T164957
CREATED:20241004T044422Z
LAST-MODIFIED:20241004T044521Z
UID:22777-1727974800-1727989200@kpbsd.org
SUMMARY:Pier One Fiddler On The Roof Rehearsal
DESCRIPTION:Site: Homer High School\nSubsite: Green Room
URL:https://kpbsd.org/schools/homer-high/event/pier-one-fiddler-on-the-roof-rehearsal-2/
LOCATION:600 E Fairview Ave\, Homer\, AK\, United States
END:VEVENT
BEGIN:VEVENT
DTSTART;TZID=America/Anchorage:20241003T180000
DTEND;TZID=America/Anchorage:20241003T200000
DTSTAMP:20260422T164957
CREATED:20240517T023002Z
LAST-MODIFIED:20240927T043350Z
UID:19672-1727978400-1727985600@kpbsd.org
SUMMARY:Football Team and Family Dinner
DESCRIPTION:Site: Homer High School\nSubsite: Commons
URL:https://kpbsd.org/schools/homer-high/event/football-team-and-family-dinner-9/
LOCATION:600 E Fairview Ave\, Homer\, AK\, United States
END:VEVENT
END:VCALENDAR