BEGIN:VCALENDAR
VERSION:2.0
PRODID:-//Homer High School - ECPv6.8.2//NONSGML v1.0//EN
CALSCALE:GREGORIAN
METHOD:PUBLISH
X-WR-CALNAME:Homer High School
X-ORIGINAL-URL:https://kpbsd.org/schools/homer-high
X-WR-CALDESC:Events for Homer High School
REFRESH-INTERVAL;VALUE=DURATION:PT1H
X-Robots-Tag:noindex
X-PUBLISHED-TTL:PT1H
BEGIN:VTIMEZONE
TZID:America/Anchorage
BEGIN:DAYLIGHT
TZOFFSETFROM:-0900
TZOFFSETTO:-0800
TZNAME:AKDT
DTSTART:20240310T110000
END:DAYLIGHT
BEGIN:STANDARD
TZOFFSETFROM:-0800
TZOFFSETTO:-0900
TZNAME:AKST
DTSTART:20241103T100000
END:STANDARD
END:VTIMEZONE
BEGIN:VEVENT
DTSTART;TZID=America/Anchorage:20241008T000100
DTEND;TZID=America/Anchorage:20241008T000100
DTSTAMP:20260421T212515
CREATED:20240823T034516Z
LAST-MODIFIED:20241004T044523Z
UID:21911-1728345660-1728345660@kpbsd.org
SUMMARY:Girls Varsity Competitive Cheer - Practice
DESCRIPTION:Sport: Competitive Cheer\nLevel: Girls Varsity\nTeam: Homer High School\nSite: Homer High School\nSubsite: Green Room
URL:https://kpbsd.org/schools/homer-high/event/girls-varsity-competitive-cheer-practice-365/
LOCATION:600 E Fairview Ave\, Homer\, AK\, United States
END:VEVENT
BEGIN:VEVENT
DTSTART;TZID=America/Anchorage:20241008T160000
DTEND;TZID=America/Anchorage:20241008T163000
DTSTAMP:20260421T212515
CREATED:20240301T015817Z
LAST-MODIFIED:20241004T044524Z
UID:17963-1728403200-1728405000@kpbsd.org
SUMMARY:Girls Freshman Volleyball vs Kenai Central High School
DESCRIPTION:Sport: Volleyball\nLevel: Girls Freshman\nTeam: Homer High School\nSite: Homer High School\nSubsite: Gym
URL:https://kpbsd.org/schools/homer-high/event/girls-freshman-volleyball-vs-kenai-central-high-school-5/
LOCATION:600 E Fairview Ave\, Homer\, AK\, United States
END:VEVENT
BEGIN:VEVENT
DTSTART;TZID=America/Anchorage:20241008T160000
DTEND;TZID=America/Anchorage:20241008T180000
DTSTAMP:20260421T212515
CREATED:20240510T023027Z
LAST-MODIFIED:20240628T024720Z
UID:19201-1728403200-1728410400@kpbsd.org
SUMMARY:Boys Varsity Football - Practice
DESCRIPTION:Sport: Football\nLevel: Boys Varsity\nTeam: Homer High School\nSite: Homer High School\nSubsite: Turf Field
URL:https://kpbsd.org/schools/homer-high/event/boys-varsity-football-practice-103/
LOCATION:600 E Fairview Ave\, Homer\, AK\, United States
END:VEVENT
BEGIN:VEVENT
DTSTART;TZID=America/Anchorage:20241008T160000
DTEND;TZID=America/Anchorage:20241008T180000
DTSTAMP:20260421T212515
CREATED:20240927T043237Z
LAST-MODIFIED:20241004T044524Z
UID:22379-1728403200-1728410400@kpbsd.org
SUMMARY:Coed Varsity Wrestling - Practice
DESCRIPTION:Sport: Wrestling\nLevel: Coed Varsity\nTeam: Homer High School\nSite: Homer High School\nSubsite: Weight / Matroom
URL:https://kpbsd.org/schools/homer-high/event/coed-varsity-wrestling-practice-154/
LOCATION:600 E Fairview Ave\, Homer\, AK\, United States
END:VEVENT
BEGIN:VEVENT
DTSTART;TZID=America/Anchorage:20241008T160000
DTEND;TZID=America/Anchorage:20241008T183000
DTSTAMP:20260421T212515
CREATED:20240705T030101Z
LAST-MODIFIED:20241004T044524Z
UID:21009-1728403200-1728412200@kpbsd.org
SUMMARY:Coed Varsity Football - Practice
DESCRIPTION:Sport: Football\nLevel: Coed Varsity\nTeam: Homer High School\nSite: Homer High School\nSubsite: Turf Field
URL:https://kpbsd.org/schools/homer-high/event/coed-varsity-football-practice-96/
LOCATION:600 E Fairview Ave\, Homer\, AK\, United States
END:VEVENT
BEGIN:VEVENT
DTSTART;TZID=America/Anchorage:20241008T170000
DTEND;TZID=America/Anchorage:20241008T180000
DTSTAMP:20260421T212515
CREATED:20240301T015817Z
LAST-MODIFIED:20241004T044524Z
UID:17966-1728406800-1728410400@kpbsd.org
SUMMARY:Girls JV Volleyball vs Kenai Central High School
DESCRIPTION:Sport: Volleyball\nLevel: Girls JV\nTeam: Homer High School\nSite: Homer High School\nSubsite: Gym
URL:https://kpbsd.org/schools/homer-high/event/girls-jv-volleyball-vs-kenai-central-high-school-6/
LOCATION:600 E Fairview Ave\, Homer\, AK\, United States
END:VEVENT
BEGIN:VEVENT
DTSTART;TZID=America/Anchorage:20241008T180000
DTEND;TZID=America/Anchorage:20241008T200000
DTSTAMP:20260421T212515
CREATED:20240301T015817Z
LAST-MODIFIED:20241004T044524Z
UID:17969-1728410400-1728417600@kpbsd.org
SUMMARY:Girls Varsity Volleyball vs Kenai Central High School
DESCRIPTION:Sport: Volleyball\nLevel: Girls Varsity\nTeam: Homer High School\nSite: Homer High School\nSubsite: Alice Witte Gymnasium
URL:https://kpbsd.org/schools/homer-high/event/girls-varsity-volleyball-vs-kenai-central-high-school-6/
LOCATION:600 E Fairview Ave\, Homer\, AK\, United States
END:VEVENT
END:VCALENDAR