BEGIN:VCALENDAR
VERSION:2.0
PRODID:-//Homer High School - ECPv6.8.2//NONSGML v1.0//EN
CALSCALE:GREGORIAN
METHOD:PUBLISH
X-ORIGINAL-URL:https://kpbsd.org/schools/homer-high
X-WR-CALDESC:Events for Homer High School
REFRESH-INTERVAL;VALUE=DURATION:PT1H
X-Robots-Tag:noindex
X-PUBLISHED-TTL:PT1H
BEGIN:VTIMEZONE
TZID:America/Anchorage
BEGIN:DAYLIGHT
TZOFFSETFROM:-0900
TZOFFSETTO:-0800
TZNAME:AKDT
DTSTART:20240310T110000
END:DAYLIGHT
BEGIN:STANDARD
TZOFFSETFROM:-0800
TZOFFSETTO:-0900
TZNAME:AKST
DTSTART:20241103T100000
END:STANDARD
END:VTIMEZONE
BEGIN:VEVENT
DTSTART;TZID=America/Anchorage:20241017T000100
DTEND;TZID=America/Anchorage:20241017T000100
DTSTAMP:20260425T094223
CREATED:20240823T034524Z
LAST-MODIFIED:20241011T044523Z
UID:21920-1729123260-1729123260@kpbsd.org
SUMMARY:Girls Varsity Competitive Cheer - Practice
DESCRIPTION:Sport: Competitive Cheer\nLevel: Girls Varsity\nTeam: Homer High School\nSite: Homer High School\nSubsite: Green Room
URL:https://kpbsd.org/schools/homer-high/event/girls-varsity-competitive-cheer-practice-368/
LOCATION:600 E Fairview Ave\, Homer\, AK\, United States
END:VEVENT
BEGIN:VEVENT
DTSTART;TZID=America/Anchorage:20241017T160000
DTEND;TZID=America/Anchorage:20241017T163000
DTSTAMP:20260425T094223
CREATED:20240301T015818Z
LAST-MODIFIED:20241011T044523Z
UID:17972-1729180800-1729182600@kpbsd.org
SUMMARY:Girls Freshman Volleyball vs Nikiski High School
DESCRIPTION:Sport: Volleyball\nLevel: Girls Freshman\nTeam: Homer High School\nSite: Homer High School\nSubsite: Gym
URL:https://kpbsd.org/schools/homer-high/event/girls-freshman-volleyball-vs-nikiski-high-school-4/
LOCATION:600 E Fairview Ave\, Homer\, AK\, United States
END:VEVENT
BEGIN:VEVENT
DTSTART;TZID=America/Anchorage:20241017T160000
DTEND;TZID=America/Anchorage:20241017T173000
DTSTAMP:20260425T094223
CREATED:20240510T023030Z
LAST-MODIFIED:20240628T024722Z
UID:19222-1729180800-1729186200@kpbsd.org
SUMMARY:Boys Varsity Football - Practice
DESCRIPTION:Sport: Football\nLevel: Boys Varsity\nTeam: Homer High School\nSite: Homer High School\nSubsite: Turf Field
URL:https://kpbsd.org/schools/homer-high/event/boys-varsity-football-practice-110/
LOCATION:600 E Fairview Ave\, Homer\, AK\, United States
END:VEVENT
BEGIN:VEVENT
DTSTART;TZID=America/Anchorage:20241017T160000
DTEND;TZID=America/Anchorage:20241017T180000
DTSTAMP:20260425T094223
CREATED:20240927T043244Z
LAST-MODIFIED:20241011T044523Z
UID:22400-1729180800-1729188000@kpbsd.org
SUMMARY:Coed Varsity Wrestling - Practice
DESCRIPTION:Sport: Wrestling\nLevel: Coed Varsity\nTeam: Homer High School\nSite: Homer High School\nSubsite: Weight / Matroom
URL:https://kpbsd.org/schools/homer-high/event/coed-varsity-wrestling-practice-161/
LOCATION:600 E Fairview Ave\, Homer\, AK\, United States
END:VEVENT
BEGIN:VEVENT
DTSTART;TZID=America/Anchorage:20241017T160000
DTEND;TZID=America/Anchorage:20241017T183000
DTSTAMP:20260425T094223
CREATED:20240705T030106Z
LAST-MODIFIED:20241011T044526Z
UID:21030-1729180800-1729189800@kpbsd.org
SUMMARY:Coed Varsity Football - Practice
DESCRIPTION:Sport: Football\nLevel: Coed Varsity\nTeam: Homer High School\nSite: Homer High School\nSubsite: Turf Field
URL:https://kpbsd.org/schools/homer-high/event/coed-varsity-football-practice-103/
LOCATION:600 E Fairview Ave\, Homer\, AK\, United States
END:VEVENT
BEGIN:VEVENT
DTSTART;TZID=America/Anchorage:20241017T170000
DTEND;TZID=America/Anchorage:20241017T180000
DTSTAMP:20260425T094223
CREATED:20240301T015818Z
LAST-MODIFIED:20241011T044526Z
UID:17975-1729184400-1729188000@kpbsd.org
SUMMARY:Girls JV Volleyball vs Nikiski High School
DESCRIPTION:Sport: Volleyball\nLevel: Girls JV\nTeam: Homer High School\nSite: Homer High School\nSubsite: Gym
URL:https://kpbsd.org/schools/homer-high/event/girls-jv-volleyball-vs-nikiski-high-school-5/
LOCATION:600 E Fairview Ave\, Homer\, AK\, United States
END:VEVENT
BEGIN:VEVENT
DTSTART;TZID=America/Anchorage:20241017T170000
DTEND;TZID=America/Anchorage:20241017T210000
DTSTAMP:20260425T094223
CREATED:20241018T044534Z
LAST-MODIFIED:20241018T044623Z
UID:22889-1729184400-1729198800@kpbsd.org
SUMMARY:Pier One Fiddler On The Roof Performance
DESCRIPTION:Site: Homer High School\nSubsite: Theatre
URL:https://kpbsd.org/schools/homer-high/event/pier-one-fiddler-on-the-roof-performance-3/
LOCATION:600 E Fairview Ave\, Homer\, AK\, United States
END:VEVENT
BEGIN:VEVENT
DTSTART;TZID=America/Anchorage:20241017T170000
DTEND;TZID=America/Anchorage:20241017T210000
DTSTAMP:20260425T094223
CREATED:20241018T044534Z
LAST-MODIFIED:20241018T044624Z
UID:22892-1729184400-1729198800@kpbsd.org
SUMMARY:Pier One Fiddler On The Roof Performance
DESCRIPTION:Site: Homer High School\nSubsite: Green Room
URL:https://kpbsd.org/schools/homer-high/event/pier-one-fiddler-on-the-roof-performance-4/
LOCATION:600 E Fairview Ave\, Homer\, AK\, United States
END:VEVENT
BEGIN:VEVENT
DTSTART;TZID=America/Anchorage:20241017T180000
DTEND;TZID=America/Anchorage:20241017T200000
DTSTAMP:20260425T094223
CREATED:20240301T015818Z
LAST-MODIFIED:20241011T044523Z
UID:17978-1729188000-1729195200@kpbsd.org
SUMMARY:Girls Varsity Volleyball vs Nikiski High School
DESCRIPTION:Sport: Volleyball\nLevel: Girls Varsity\nTeam: Homer High School\nSite: Homer High School\nSubsite: Alice Witte Gymnasium
URL:https://kpbsd.org/schools/homer-high/event/girls-varsity-volleyball-vs-nikiski-high-school-5/
LOCATION:600 E Fairview Ave\, Homer\, AK\, United States
END:VEVENT
BEGIN:VEVENT
DTSTART;TZID=America/Anchorage:20241017T180000
DTEND;TZID=America/Anchorage:20241017T200000
DTSTAMP:20260425T094223
CREATED:20240517T023007Z
LAST-MODIFIED:20241011T044523Z
UID:19678-1729188000-1729195200@kpbsd.org
SUMMARY:Football Team and Family Dinner
DESCRIPTION:Site: Homer High School\nSubsite: Commons
URL:https://kpbsd.org/schools/homer-high/event/football-team-and-family-dinner-11/
LOCATION:600 E Fairview Ave\, Homer\, AK\, United States
END:VEVENT
END:VCALENDAR