BEGIN:VCALENDAR
VERSION:2.0
PRODID:-//Homer High School - ECPv6.8.2//NONSGML v1.0//EN
CALSCALE:GREGORIAN
METHOD:PUBLISH
X-ORIGINAL-URL:https://kpbsd.org/schools/homer-high
X-WR-CALDESC:Events for Homer High School
REFRESH-INTERVAL;VALUE=DURATION:PT1H
X-Robots-Tag:noindex
X-PUBLISHED-TTL:PT1H
BEGIN:VTIMEZONE
TZID:America/Anchorage
BEGIN:DAYLIGHT
TZOFFSETFROM:-0900
TZOFFSETTO:-0800
TZNAME:AKDT
DTSTART:20240310T110000
END:DAYLIGHT
BEGIN:STANDARD
TZOFFSETFROM:-0800
TZOFFSETTO:-0900
TZNAME:AKST
DTSTART:20241103T100000
END:STANDARD
END:VTIMEZONE
BEGIN:VEVENT
DTSTART;TZID=America/Anchorage:20241018T000100
DTEND;TZID=America/Anchorage:20241019T000100
DTSTAMP:20260422T225053
CREATED:20240607T024610Z
LAST-MODIFIED:20240823T034620Z
UID:20681-1729209660-1729296060@kpbsd.org
SUMMARY:The Altercation Wrestling Tournament
DESCRIPTION:Games:\nSport: Wrestling\nLevel: Coed Varsity\nTeam: Homer High School
URL:https://kpbsd.org/schools/homer-high/event/the-altercation-wrestling-tournament/
LOCATION:AK
END:VEVENT
BEGIN:VEVENT
DTSTART;TZID=America/Anchorage:20241019T080000
DTEND;TZID=America/Anchorage:20241019T180000
DTSTAMP:20260422T225053
CREATED:20240308T015957Z
LAST-MODIFIED:20241018T044625Z
UID:18260-1729324800-1729360800@kpbsd.org
SUMMARY:JV Wrestling scramble at Wasilla
DESCRIPTION:Games:\nSport: Wrestling\nLevel: Coed JV\nTeam: Homer High School
URL:https://kpbsd.org/schools/homer-high/event/jv-wrestling-scramble-at-wasilla/
LOCATION:AK
END:VEVENT
BEGIN:VEVENT
DTSTART;TZID=America/Anchorage:20241019T100000
DTEND;TZID=America/Anchorage:20241019T160000
DTSTAMP:20260422T225053
CREATED:20240209T013151Z
LAST-MODIFIED:20241018T044625Z
UID:17452-1729332000-1729353600@kpbsd.org
SUMMARY:Luke Spruill Tournament
DESCRIPTION:Games:\nSport: Wrestling\nLevel: Boys Varsity\nTeam: Homer High School
URL:https://kpbsd.org/schools/homer-high/event/luke-spruill-tournament/
LOCATION:AK
END:VEVENT
BEGIN:VEVENT
DTSTART;TZID=America/Anchorage:20241019T100000
DTEND;TZID=America/Anchorage:20241019T160000
DTSTAMP:20260422T225053
CREATED:20240809T031517Z
LAST-MODIFIED:20241018T044625Z
UID:21760-1729332000-1729353600@kpbsd.org
SUMMARY:KCHS Luke Spruill Invitational
DESCRIPTION:Games:\nSport: Wrestling\nLevel: Coed Varsity\nTeam: Homer High School
URL:https://kpbsd.org/schools/homer-high/event/kchs-luke-spruill-invitational/
LOCATION:AK
END:VEVENT
END:VCALENDAR