BEGIN:VCALENDAR
VERSION:2.0
PRODID:-//Homer High School - ECPv6.8.2//NONSGML v1.0//EN
CALSCALE:GREGORIAN
METHOD:PUBLISH
X-WR-CALNAME:Homer High School
X-ORIGINAL-URL:https://kpbsd.org/schools/homer-high
X-WR-CALDESC:Events for Homer High School
REFRESH-INTERVAL;VALUE=DURATION:PT1H
X-Robots-Tag:noindex
X-PUBLISHED-TTL:PT1H
BEGIN:VTIMEZONE
TZID:America/Anchorage
BEGIN:DAYLIGHT
TZOFFSETFROM:-0900
TZOFFSETTO:-0800
TZNAME:AKDT
DTSTART:20240310T110000
END:DAYLIGHT
BEGIN:STANDARD
TZOFFSETFROM:-0800
TZOFFSETTO:-0900
TZNAME:AKST
DTSTART:20241103T100000
END:STANDARD
END:VTIMEZONE
BEGIN:VEVENT
DTSTART;TZID=America/Anchorage:20241024T090000
DTEND;TZID=America/Anchorage:20241024T160000
DTSTAMP:20260422T063727
CREATED:20240524T023136Z
LAST-MODIFIED:20241018T044627Z
UID:20158-1729760400-1729785600@kpbsd.org
SUMMARY:Parent Teacher Conference/No school for students
DESCRIPTION:Site: Homer High School\nSubsite: Other
URL:https://kpbsd.org/schools/homer-high/event/parent-teacher-conference-no-school-for-students/
LOCATION:600 E Fairview Ave\, Homer\, AK\, United States
END:VEVENT
BEGIN:VEVENT
DTSTART;TZID=America/Anchorage:20241024T150000
DTEND;TZID=America/Anchorage:20241024T160000
DTSTAMP:20260422T063727
CREATED:20240906T040226Z
LAST-MODIFIED:20241018T044627Z
UID:22142-1729782000-1729785600@kpbsd.org
SUMMARY:Girls Freshman Volleyball @ Seward High School
DESCRIPTION:Sport: Volleyball\nLevel: Girls Freshman\nTeam: Homer High School\nSite: Seward High School\nSubsite: Gym
URL:https://kpbsd.org/schools/homer-high/event/girls-freshman-volleyball-seward-high-school-5/
LOCATION:Po Box 1049\, Seward\, AK\, United States
END:VEVENT
BEGIN:VEVENT
DTSTART;TZID=America/Anchorage:20241024T160000
DTEND;TZID=America/Anchorage:20241024T170000
DTSTAMP:20260422T063727
CREATED:20240906T040227Z
LAST-MODIFIED:20241018T044627Z
UID:22148-1729785600-1729789200@kpbsd.org
SUMMARY:Girls JV Volleyball @ Seward High School
DESCRIPTION:Sport: Volleyball\nLevel: Girls JV\nTeam: Homer High School\nSite: Seward High School\nSubsite: Gym
URL:https://kpbsd.org/schools/homer-high/event/girls-jv-volleyball-seward-high-school-5/
LOCATION:Po Box 1049\, Seward\, AK\, United States
END:VEVENT
BEGIN:VEVENT
DTSTART;TZID=America/Anchorage:20241024T160000
DTEND;TZID=America/Anchorage:20241024T180000
DTSTAMP:20260422T063727
CREATED:20240927T043253Z
LAST-MODIFIED:20241018T044627Z
UID:22416-1729785600-1729792800@kpbsd.org
SUMMARY:Coed Varsity Wrestling - Practice
DESCRIPTION:Sport: Wrestling\nLevel: Coed Varsity\nTeam: Homer High School\nSite: Homer High School\nSubsite: Weight / Matroom
URL:https://kpbsd.org/schools/homer-high/event/coed-varsity-wrestling-practice-166/
LOCATION:600 E Fairview Ave\, Homer\, AK\, United States
END:VEVENT
BEGIN:VEVENT
DTSTART;TZID=America/Anchorage:20241024T160000
DTEND;TZID=America/Anchorage:20241024T183000
DTSTAMP:20260422T063727
CREATED:20240802T031530Z
LAST-MODIFIED:20241018T044627Z
UID:21518-1729785600-1729794600@kpbsd.org
SUMMARY:Girls Varsity Volleyball - Practice
DESCRIPTION:Sport: Volleyball\nLevel: Girls Varsity\nTeam: Homer High School\nSite: Homer High School\nSubsite: Alice Witte Gymnasium
URL:https://kpbsd.org/schools/homer-high/event/girls-varsity-volleyball-practice-180/
LOCATION:600 E Fairview Ave\, Homer\, AK\, United States
END:VEVENT
BEGIN:VEVENT
DTSTART;TZID=America/Anchorage:20241024T170000
DTEND;TZID=America/Anchorage:20241024T183000
DTSTAMP:20260422T063727
CREATED:20240906T040226Z
LAST-MODIFIED:20241018T044627Z
UID:22145-1729789200-1729794600@kpbsd.org
SUMMARY:Girls Varsity Volleyball @ Seward High School
DESCRIPTION:Sport: Volleyball\nLevel: Girls Varsity\nTeam: Homer High School\nSite: Seward High School\nSubsite: Gym
URL:https://kpbsd.org/schools/homer-high/event/girls-varsity-volleyball-seward-high-school-5/
LOCATION:Po Box 1049\, Seward\, AK\, United States
END:VEVENT
BEGIN:VEVENT
DTSTART;TZID=America/Anchorage:20241024T180000
DTEND;TZID=America/Anchorage:20241024T200000
DTSTAMP:20260422T063727
CREATED:20240830T034700Z
LAST-MODIFIED:20240920T043145Z
UID:22073-1729792800-1729800000@kpbsd.org
SUMMARY:Financial Aid Information Night
DESCRIPTION:Site: Homer High School\nSubsite: Theatre
URL:https://kpbsd.org/schools/homer-high/event/financial-aid-information-night/
LOCATION:600 E Fairview Ave\, Homer\, AK\, United States
END:VEVENT
BEGIN:VEVENT
DTSTART;TZID=America/Anchorage:20241024T183000
DTEND;TZID=America/Anchorage:20241024T200000
DTSTAMP:20260422T063727
CREATED:20240927T043252Z
LAST-MODIFIED:20241018T044627Z
UID:22413-1729794600-1729800000@kpbsd.org
SUMMARY:Financial Aid and Scholarship Information Night
DESCRIPTION:Site: Homer High School\nSubsite: Theatre
URL:https://kpbsd.org/schools/homer-high/event/financial-aid-and-scholarship-information-night/
LOCATION:600 E Fairview Ave\, Homer\, AK\, United States
END:VEVENT
END:VCALENDAR