BEGIN:VCALENDAR
VERSION:2.0
PRODID:-//Homer High School - ECPv6.8.2//NONSGML v1.0//EN
CALSCALE:GREGORIAN
METHOD:PUBLISH
X-ORIGINAL-URL:https://kpbsd.org/schools/homer-high
X-WR-CALDESC:Events for Homer High School
REFRESH-INTERVAL;VALUE=DURATION:PT1H
X-Robots-Tag:noindex
X-PUBLISHED-TTL:PT1H
BEGIN:VTIMEZONE
TZID:America/Anchorage
BEGIN:DAYLIGHT
TZOFFSETFROM:-0900
TZOFFSETTO:-0800
TZNAME:AKDT
DTSTART:20250309T110000
END:DAYLIGHT
BEGIN:STANDARD
TZOFFSETFROM:-0800
TZOFFSETTO:-0900
TZNAME:AKST
DTSTART:20251102T100000
END:STANDARD
END:VTIMEZONE
BEGIN:VEVENT
DTSTART;TZID=America/Anchorage:20250102T090000
DTEND;TZID=America/Anchorage:20250102T160000
DTSTAMP:20260421T121706
CREATED:20240524T023148Z
LAST-MODIFIED:20250102T112015Z
UID:20202-1735808400-1735833600@kpbsd.org
SUMMARY:Winter Break/No school
DESCRIPTION:Site: Homer High School\nSubsite: Other
URL:https://kpbsd.org/schools/homer-high/event/winter-break-no-school-10/
LOCATION:600 E Fairview Ave\, Homer\, AK\, United States
END:VEVENT
BEGIN:VEVENT
DTSTART;TZID=America/Anchorage:20250102T100000
DTEND;TZID=America/Anchorage:20250102T120000
DTSTAMP:20260421T121706
CREATED:20241122T050019Z
LAST-MODIFIED:20250102T112015Z
UID:23356-1735812000-1735819200@kpbsd.org
SUMMARY:Girls Varsity Basketball - Practice
DESCRIPTION:Sport: Basketball\nLevel: Girls Varsity\nTeam: Homer High School\nSite: Homer High School\nSubsite: Gym
URL:https://kpbsd.org/schools/homer-high/event/girls-varsity-basketball-practice-168/
LOCATION:600 E Fairview Ave\, Homer\, AK\, United States
END:VEVENT
BEGIN:VEVENT
DTSTART;TZID=America/Anchorage:20250102T160000
DTEND;TZID=America/Anchorage:20250102T180000
DTSTAMP:20260421T121706
CREATED:20241122T050018Z
LAST-MODIFIED:20250102T112015Z
UID:23353-1735833600-1735840800@kpbsd.org
SUMMARY:Boys Varsity Basketball - Practice
DESCRIPTION:Sport: Basketball\nLevel: Boys Varsity\nTeam: Homer High School\nSite: Homer High School\nSubsite: Gym
URL:https://kpbsd.org/schools/homer-high/event/boys-varsity-basketball-practice-167/
LOCATION:600 E Fairview Ave\, Homer\, AK\, United States
END:VEVENT
END:VCALENDAR