BEGIN:VCALENDAR
VERSION:2.0
PRODID:-//Homer High School - ECPv6.8.2//NONSGML v1.0//EN
CALSCALE:GREGORIAN
METHOD:PUBLISH
X-ORIGINAL-URL:https://kpbsd.org/schools/homer-high
X-WR-CALDESC:Events for Homer High School
REFRESH-INTERVAL;VALUE=DURATION:PT1H
X-Robots-Tag:noindex
X-PUBLISHED-TTL:PT1H
BEGIN:VTIMEZONE
TZID:America/Anchorage
BEGIN:DAYLIGHT
TZOFFSETFROM:-0900
TZOFFSETTO:-0800
TZNAME:AKDT
DTSTART:20250309T110000
END:DAYLIGHT
BEGIN:STANDARD
TZOFFSETFROM:-0800
TZOFFSETTO:-0900
TZNAME:AKST
DTSTART:20251102T100000
END:STANDARD
END:VTIMEZONE
BEGIN:VEVENT
DTSTART;TZID=America/Anchorage:20250104T120000
DTEND;TZID=America/Anchorage:20250104T150000
DTSTAMP:20260425T133204
CREATED:20241218T190601Z
LAST-MODIFIED:20250102T112015Z
UID:24392-1735992000-1736002800@kpbsd.org
SUMMARY:Coed Varsity Cross Country Skiing vs Kenai Central High School
DESCRIPTION:Sport: Cross Country Skiing\nLevel: Coed Varsity\nTeam: Homer High School\nSite: Homer High School\nSubsite: Ohlson Mtn Trails
URL:https://kpbsd.org/schools/homer-high/event/coed-varsity-cross-country-skiing-vs-kenai-central-high-school-3/
LOCATION:600 E Fairview Ave\, Homer\, AK\, United States
END:VEVENT
END:VCALENDAR