BEGIN:VCALENDAR
VERSION:2.0
PRODID:-//Homer High School - ECPv6.8.2//NONSGML v1.0//EN
CALSCALE:GREGORIAN
METHOD:PUBLISH
X-ORIGINAL-URL:https://kpbsd.org/schools/homer-high
X-WR-CALDESC:Events for Homer High School
REFRESH-INTERVAL;VALUE=DURATION:PT1H
X-Robots-Tag:noindex
X-PUBLISHED-TTL:PT1H
BEGIN:VTIMEZONE
TZID:America/Anchorage
BEGIN:DAYLIGHT
TZOFFSETFROM:-0900
TZOFFSETTO:-0800
TZNAME:AKDT
DTSTART:20250309T110000
END:DAYLIGHT
BEGIN:STANDARD
TZOFFSETFROM:-0800
TZOFFSETTO:-0900
TZNAME:AKST
DTSTART:20251102T100000
END:STANDARD
END:VTIMEZONE
BEGIN:VEVENT
DTSTART;TZID=America/Anchorage:20250109T000100
DTEND;TZID=America/Anchorage:20250111T000100
DTSTAMP:20260422T050224
CREATED:20240223T013320Z
LAST-MODIFIED:20250109T113226Z
UID:17739-1736380860-1736553660@kpbsd.org
SUMMARY:2025 Elks Basketball Tournament Boys
DESCRIPTION:Games:\n1/9/2025 Varsity Boys Basketball\n1/10/2025 Varsity Boys Basketball\n1/11/2025 Varsity Boys Basketball\nSport: Basketball\nLevel: Boys Varsity\nTeam: Homer High School
URL:https://kpbsd.org/schools/homer-high/event/2025-elks-basketball-tournament-boys/
LOCATION:AK
END:VEVENT
BEGIN:VEVENT
DTSTART;TZID=America/Anchorage:20250109T000100
DTEND;TZID=America/Anchorage:20250111T000100
DTSTAMP:20260422T050224
CREATED:20240223T013320Z
LAST-MODIFIED:20250109T113226Z
UID:17742-1736380860-1736553660@kpbsd.org
SUMMARY:2025 Elks Basketball Tournament Girls
DESCRIPTION:Games:\n1/9/2025 Varsity Girls Basketball\n1/10/2025 Varsity Girls Basketball\n1/11/2025 Varsity Girls Basketball\nSport: Basketball\nLevel: Girls Varsity\nTeam: Homer High School
URL:https://kpbsd.org/schools/homer-high/event/2025-elks-basketball-tournament-girls/
LOCATION:AK
END:VEVENT
BEGIN:VEVENT
DTSTART;TZID=America/Anchorage:20250110T000100
DTEND;TZID=America/Anchorage:20250110T000100
DTSTAMP:20260422T050224
CREATED:20240301T015826Z
LAST-MODIFIED:20250109T113226Z
UID:18014-1736467260-1736467260@kpbsd.org
SUMMARY:Coed Varsity Hockey vs Juneau Douglas High School
DESCRIPTION:Sport: Hockey\nLevel: Coed Varsity\nTeam: Homer High School\nSite: Homer High School\nSubsite: Kevin Bell Arena
URL:https://kpbsd.org/schools/homer-high/event/coed-varsity-hockey-vs-juneau-douglas-high-school/
LOCATION:600 E Fairview Ave\, Homer\, AK\, United States
END:VEVENT
BEGIN:VEVENT
DTSTART;TZID=America/Anchorage:20250110T133000
DTEND;TZID=America/Anchorage:20250110T150000
DTSTAMP:20260422T050224
CREATED:20241115T050002Z
LAST-MODIFIED:20241129T051652Z
UID:23136-1736515800-1736521200@kpbsd.org
SUMMARY:Varsity Girls Basketball @ Service High School
DESCRIPTION:Sport: Basketball\nLevel: Varsity Girls\nTeam: Homer High School\nSite: Palmer High School\nSubsite: Gym (Main Court)
URL:https://kpbsd.org/schools/homer-high/event/varsity-girls-basketball-service-high-school/
LOCATION:1170 West Bogard Road\, Palmer\, AK\, United States
END:VEVENT
BEGIN:VEVENT
DTSTART;TZID=America/Anchorage:20250110T153000
DTEND;TZID=America/Anchorage:20250110T170000
DTSTAMP:20260422T050224
CREATED:20241115T050002Z
LAST-MODIFIED:20250109T113227Z
UID:23142-1736523000-1736528400@kpbsd.org
SUMMARY:Varsity Boys Basketball @ Juneau Douglas High School
DESCRIPTION:Sport: Basketball\nLevel: Varsity Boys\nTeam: Homer High School\nSite: Palmer High School\nSubsite: Gym (Main Court)
URL:https://kpbsd.org/schools/homer-high/event/varsity-boys-basketball-juneau-douglas-high-school/
LOCATION:1170 West Bogard Road\, Palmer\, AK\, United States
END:VEVENT
BEGIN:VEVENT
DTSTART;TZID=America/Anchorage:20250110T173000
DTEND;TZID=America/Anchorage:20250110T190000
DTSTAMP:20260422T050224
CREATED:20241218T190606Z
LAST-MODIFIED:20250109T113227Z
UID:24395-1736530200-1736535600@kpbsd.org
SUMMARY:Varsity Girls Basketball @ Palmer High School
DESCRIPTION:Sport: Basketball\nLevel: Varsity Girls\nTeam: Homer High School\nSite: Palmer High School\nSubsite: Gym (Main Court)
URL:https://kpbsd.org/schools/homer-high/event/varsity-girls-basketball-palmer-high-school/
LOCATION:1170 West Bogard Road\, Palmer\, AK\, United States
END:VEVENT
BEGIN:VEVENT
DTSTART;TZID=America/Anchorage:20250110T180000
DTEND;TZID=America/Anchorage:20250110T200000
DTSTAMP:20260422T050224
CREATED:20241122T050030Z
LAST-MODIFIED:20250109T113227Z
UID:23392-1736532000-1736539200@kpbsd.org
SUMMARY:Girls Varsity Basketball - Practice
DESCRIPTION:Sport: Basketball\nLevel: Girls Varsity\nTeam: Homer High School\nSite: Homer High School\nSubsite: Gym
URL:https://kpbsd.org/schools/homer-high/event/girls-varsity-basketball-practice-173/
LOCATION:600 E Fairview Ave\, Homer\, AK\, United States
END:VEVENT
END:VCALENDAR