BEGIN:VCALENDAR
VERSION:2.0
PRODID:-//Homer High School - ECPv6.8.2//NONSGML v1.0//EN
CALSCALE:GREGORIAN
METHOD:PUBLISH
X-ORIGINAL-URL:https://kpbsd.org/schools/homer-high
X-WR-CALDESC:Events for Homer High School
REFRESH-INTERVAL;VALUE=DURATION:PT1H
X-Robots-Tag:noindex
X-PUBLISHED-TTL:PT1H
BEGIN:VTIMEZONE
TZID:America/Anchorage
BEGIN:DAYLIGHT
TZOFFSETFROM:-0900
TZOFFSETTO:-0800
TZNAME:AKDT
DTSTART:20250309T110000
END:DAYLIGHT
BEGIN:STANDARD
TZOFFSETFROM:-0800
TZOFFSETTO:-0900
TZNAME:AKST
DTSTART:20251102T100000
END:STANDARD
END:VTIMEZONE
BEGIN:VEVENT
DTSTART;TZID=America/Anchorage:20250121T000100
DTEND;TZID=America/Anchorage:20250121T000100
DTSTAMP:20260421T042153
CREATED:20240920T043112Z
LAST-MODIFIED:20250116T114718Z
UID:22292-1737417660-1737417660@kpbsd.org
SUMMARY:Coed Varsity Hockey vs Kenai Central High School
DESCRIPTION:Sport: Hockey\nLevel: Coed Varsity\nTeam: Homer High School\nSite: Homer High School\nSubsite: Kevin Bell Arena
URL:https://kpbsd.org/schools/homer-high/event/coed-varsity-hockey-vs-kenai-central-high-school-11/
LOCATION:600 E Fairview Ave\, Homer\, AK\, United States
END:VEVENT
BEGIN:VEVENT
DTSTART;TZID=America/Anchorage:20250121T150000
DTEND;TZID=America/Anchorage:20250121T163000
DTSTAMP:20260421T042153
CREATED:20240823T034542Z
LAST-MODIFIED:20250116T114719Z
UID:21921-1737471600-1737477000@kpbsd.org
SUMMARY:Girls JV Basketball @ Kenai Central High School
DESCRIPTION:Sport: Basketball\nLevel: Girls JV\nTeam: Homer High School\nSite: Kenai Central High School\nSubsite: Gym
URL:https://kpbsd.org/schools/homer-high/event/girls-jv-basketball-kenai-central-high-school-6/
LOCATION:9583 Kenai Spur Hwy\, Kenai\, AK\, United States
END:VEVENT
BEGIN:VEVENT
DTSTART;TZID=America/Anchorage:20250121T160000
DTEND;TZID=America/Anchorage:20250121T180000
DTSTAMP:20260421T042153
CREATED:20241122T050039Z
LAST-MODIFIED:20250116T114719Z
UID:23440-1737475200-1737482400@kpbsd.org
SUMMARY:Boys Varsity Basketball - Practice
DESCRIPTION:Sport: Basketball\nLevel: Boys Varsity\nTeam: Homer High School\nSite: Homer High School\nSubsite: Gym
URL:https://kpbsd.org/schools/homer-high/event/boys-varsity-basketball-practice-179/
LOCATION:600 E Fairview Ave\, Homer\, AK\, United States
END:VEVENT
BEGIN:VEVENT
DTSTART;TZID=America/Anchorage:20250121T160000
DTEND;TZID=America/Anchorage:20250121T180000
DTSTAMP:20260421T042153
CREATED:20241122T050040Z
LAST-MODIFIED:20250116T114719Z
UID:23443-1737475200-1737482400@kpbsd.org
SUMMARY:Girls Varsity Competitive Cheer - Practice
DESCRIPTION:Sport: Competitive Cheer\nLevel: Girls Varsity\nTeam: Homer High School\nSite: Homer High School\nSubsite: Green Room
URL:https://kpbsd.org/schools/homer-high/event/girls-varsity-competitive-cheer-practice-374/
LOCATION:600 E Fairview Ave\, Homer\, AK\, United States
END:VEVENT
BEGIN:VEVENT
DTSTART;TZID=America/Anchorage:20250121T163000
DTEND;TZID=America/Anchorage:20250121T180000
DTSTAMP:20260421T042153
CREATED:20240823T034543Z
LAST-MODIFIED:20250116T114719Z
UID:21924-1737477000-1737482400@kpbsd.org
SUMMARY:Boys JV Basketball @ Kenai Central High School
DESCRIPTION:Sport: Basketball\nLevel: Boys JV\nTeam: Homer High School\nSite: Kenai Central High School\nSubsite: Gym
URL:https://kpbsd.org/schools/homer-high/event/boys-jv-basketball-kenai-central-high-school-6/
LOCATION:9583 Kenai Spur Hwy\, Kenai\, AK\, United States
END:VEVENT
BEGIN:VEVENT
DTSTART;TZID=America/Anchorage:20250121T180000
DTEND;TZID=America/Anchorage:20250121T193000
DTSTAMP:20260421T042153
CREATED:20240823T034543Z
LAST-MODIFIED:20250116T114719Z
UID:21930-1737482400-1737487800@kpbsd.org
SUMMARY:Girls Varsity Basketball @ Kenai Central High School
DESCRIPTION:Sport: Basketball\nLevel: Girls Varsity\nTeam: Homer High School\nSite: Kenai Central High School\nSubsite: Gym
URL:https://kpbsd.org/schools/homer-high/event/girls-varsity-basketball-kenai-central-high-school-6/
LOCATION:9583 Kenai Spur Hwy\, Kenai\, AK\, United States
END:VEVENT
BEGIN:VEVENT
DTSTART;TZID=America/Anchorage:20250121T193000
DTEND;TZID=America/Anchorage:20250121T210000
DTSTAMP:20260421T042153
CREATED:20240823T034543Z
LAST-MODIFIED:20250116T114719Z
UID:21927-1737487800-1737493200@kpbsd.org
SUMMARY:Boys Varsity Basketball @ Kenai Central High School
DESCRIPTION:Sport: Basketball\nLevel: Boys Varsity\nTeam: Homer High School\nSite: Kenai Central High School\nSubsite: Gym
URL:https://kpbsd.org/schools/homer-high/event/boys-varsity-basketball-kenai-central-high-school-6/
LOCATION:9583 Kenai Spur Hwy\, Kenai\, AK\, United States
END:VEVENT
END:VCALENDAR