BEGIN:VCALENDAR
VERSION:2.0
PRODID:-//Homer High School - ECPv6.8.2//NONSGML v1.0//EN
CALSCALE:GREGORIAN
METHOD:PUBLISH
X-WR-CALNAME:Homer High School
X-ORIGINAL-URL:https://kpbsd.org/schools/homer-high
X-WR-CALDESC:Events for Homer High School
REFRESH-INTERVAL;VALUE=DURATION:PT1H
X-Robots-Tag:noindex
X-PUBLISHED-TTL:PT1H
BEGIN:VTIMEZONE
TZID:America/Anchorage
BEGIN:DAYLIGHT
TZOFFSETFROM:-0900
TZOFFSETTO:-0800
TZNAME:AKDT
DTSTART:20240310T110000
END:DAYLIGHT
BEGIN:STANDARD
TZOFFSETFROM:-0800
TZOFFSETTO:-0900
TZNAME:AKST
DTSTART:20241103T100000
END:STANDARD
END:VTIMEZONE
BEGIN:VEVENT
DTSTART;TZID=America/Anchorage:20241005T100000
DTEND;TZID=America/Anchorage:20241005T103000
DTSTAMP:20260422T163030
CREATED:20240301T015816Z
LAST-MODIFIED:20241004T044522Z
UID:17954-1728122400-1728124200@kpbsd.org
SUMMARY:Girls Freshman Volleyball vs Redington Jr/Sr High School
DESCRIPTION:Sport: Volleyball\nLevel: Girls Freshman\nTeam: Homer High School\nSite: Homer High School\nSubsite: Gym
URL:https://kpbsd.org/schools/homer-high/event/girls-freshman-volleyball-vs-redington-jr-sr-high-school-2/
LOCATION:600 E Fairview Ave\, Homer\, AK\, United States
END:VEVENT
BEGIN:VEVENT
DTSTART;TZID=America/Anchorage:20241005T110000
DTEND;TZID=America/Anchorage:20241005T120000
DTSTAMP:20260422T163030
CREATED:20240301T015816Z
LAST-MODIFIED:20241004T044523Z
UID:17957-1728126000-1728129600@kpbsd.org
SUMMARY:Girls JV Volleyball vs Redington Jr/Sr High School
DESCRIPTION:Sport: Volleyball\nLevel: Girls JV\nTeam: Homer High School\nSite: Homer High School\nSubsite: Gym
URL:https://kpbsd.org/schools/homer-high/event/girls-jv-volleyball-vs-redington-jr-sr-high-school-2/
LOCATION:600 E Fairview Ave\, Homer\, AK\, United States
END:VEVENT
BEGIN:VEVENT
DTSTART;TZID=America/Anchorage:20241005T120000
DTEND;TZID=America/Anchorage:20241005T140000
DTSTAMP:20260422T163030
CREATED:20240301T015816Z
LAST-MODIFIED:20241004T044523Z
UID:17960-1728129600-1728136800@kpbsd.org
SUMMARY:Girls Varsity Volleyball vs Redington Jr/Sr High School
DESCRIPTION:Sport: Volleyball\nLevel: Girls Varsity\nTeam: Homer High School\nSite: Homer High School\nSubsite: Alice Witte Gymnasium
URL:https://kpbsd.org/schools/homer-high/event/girls-varsity-volleyball-vs-redington-jr-sr-high-school-2/
LOCATION:600 E Fairview Ave\, Homer\, AK\, United States
END:VEVENT
BEGIN:VEVENT
DTSTART;TZID=America/Anchorage:20241006T070000
DTEND;TZID=America/Anchorage:20241006T130000
DTSTAMP:20260422T163030
CREATED:20231222T003048Z
LAST-MODIFIED:20241004T044523Z
UID:16833-1728198000-1728219600@kpbsd.org
SUMMARY:COTR
DESCRIPTION:Site: Homer High School\nSubsite: Gym
URL:https://kpbsd.org/schools/homer-high/event/cotr-42/
LOCATION:600 E Fairview Ave\, Homer\, AK\, United States
END:VEVENT
BEGIN:VEVENT
DTSTART;TZID=America/Anchorage:20241007T160000
DTEND;TZID=America/Anchorage:20241007T180000
DTSTAMP:20260422T163030
CREATED:20240510T023027Z
LAST-MODIFIED:20240628T024720Z
UID:19198-1728316800-1728324000@kpbsd.org
SUMMARY:Boys Varsity Football - Practice
DESCRIPTION:Sport: Football\nLevel: Boys Varsity\nTeam: Homer High School\nSite: Homer High School\nSubsite: Turf Field
URL:https://kpbsd.org/schools/homer-high/event/boys-varsity-football-practice-102/
LOCATION:600 E Fairview Ave\, Homer\, AK\, United States
END:VEVENT
BEGIN:VEVENT
DTSTART;TZID=America/Anchorage:20241007T160000
DTEND;TZID=America/Anchorage:20241007T180000
DTSTAMP:20260422T163030
CREATED:20240927T043236Z
LAST-MODIFIED:20241004T044523Z
UID:22376-1728316800-1728324000@kpbsd.org
SUMMARY:Coed Varsity Wrestling - Practice
DESCRIPTION:Sport: Wrestling\nLevel: Coed Varsity\nTeam: Homer High School\nSite: Homer High School\nSubsite: Weight / Matroom
URL:https://kpbsd.org/schools/homer-high/event/coed-varsity-wrestling-practice-153/
LOCATION:600 E Fairview Ave\, Homer\, AK\, United States
END:VEVENT
BEGIN:VEVENT
DTSTART;TZID=America/Anchorage:20241007T160000
DTEND;TZID=America/Anchorage:20241007T183000
DTSTAMP:20260422T163030
CREATED:20240705T030101Z
LAST-MODIFIED:20241004T044523Z
UID:21006-1728316800-1728325800@kpbsd.org
SUMMARY:Coed Varsity Football - Practice
DESCRIPTION:Sport: Football\nLevel: Coed Varsity\nTeam: Homer High School\nSite: Homer High School\nSubsite: Turf Field
URL:https://kpbsd.org/schools/homer-high/event/coed-varsity-football-practice-95/
LOCATION:600 E Fairview Ave\, Homer\, AK\, United States
END:VEVENT
BEGIN:VEVENT
DTSTART;TZID=America/Anchorage:20241007T160000
DTEND;TZID=America/Anchorage:20241007T183000
DTSTAMP:20260422T163030
CREATED:20240802T031518Z
LAST-MODIFIED:20241004T044523Z
UID:21488-1728316800-1728325800@kpbsd.org
SUMMARY:Girls Varsity Volleyball - Practice
DESCRIPTION:Sport: Volleyball\nLevel: Girls Varsity\nTeam: Homer High School\nSite: Homer High School\nSubsite: Alice Witte Gymnasium
URL:https://kpbsd.org/schools/homer-high/event/girls-varsity-volleyball-practice-170/
LOCATION:600 E Fairview Ave\, Homer\, AK\, United States
END:VEVENT
BEGIN:VEVENT
DTSTART;TZID=America/Anchorage:20241008T000100
DTEND;TZID=America/Anchorage:20241008T000100
DTSTAMP:20260422T163030
CREATED:20240823T034516Z
LAST-MODIFIED:20241004T044523Z
UID:21911-1728345660-1728345660@kpbsd.org
SUMMARY:Girls Varsity Competitive Cheer - Practice
DESCRIPTION:Sport: Competitive Cheer\nLevel: Girls Varsity\nTeam: Homer High School\nSite: Homer High School\nSubsite: Green Room
URL:https://kpbsd.org/schools/homer-high/event/girls-varsity-competitive-cheer-practice-365/
LOCATION:600 E Fairview Ave\, Homer\, AK\, United States
END:VEVENT
BEGIN:VEVENT
DTSTART;TZID=America/Anchorage:20241008T160000
DTEND;TZID=America/Anchorage:20241008T163000
DTSTAMP:20260422T163030
CREATED:20240301T015817Z
LAST-MODIFIED:20241004T044524Z
UID:17963-1728403200-1728405000@kpbsd.org
SUMMARY:Girls Freshman Volleyball vs Kenai Central High School
DESCRIPTION:Sport: Volleyball\nLevel: Girls Freshman\nTeam: Homer High School\nSite: Homer High School\nSubsite: Gym
URL:https://kpbsd.org/schools/homer-high/event/girls-freshman-volleyball-vs-kenai-central-high-school-5/
LOCATION:600 E Fairview Ave\, Homer\, AK\, United States
END:VEVENT
BEGIN:VEVENT
DTSTART;TZID=America/Anchorage:20241008T160000
DTEND;TZID=America/Anchorage:20241008T180000
DTSTAMP:20260422T163030
CREATED:20240510T023027Z
LAST-MODIFIED:20240628T024720Z
UID:19201-1728403200-1728410400@kpbsd.org
SUMMARY:Boys Varsity Football - Practice
DESCRIPTION:Sport: Football\nLevel: Boys Varsity\nTeam: Homer High School\nSite: Homer High School\nSubsite: Turf Field
URL:https://kpbsd.org/schools/homer-high/event/boys-varsity-football-practice-103/
LOCATION:600 E Fairview Ave\, Homer\, AK\, United States
END:VEVENT
BEGIN:VEVENT
DTSTART;TZID=America/Anchorage:20241008T160000
DTEND;TZID=America/Anchorage:20241008T180000
DTSTAMP:20260422T163030
CREATED:20240927T043237Z
LAST-MODIFIED:20241004T044524Z
UID:22379-1728403200-1728410400@kpbsd.org
SUMMARY:Coed Varsity Wrestling - Practice
DESCRIPTION:Sport: Wrestling\nLevel: Coed Varsity\nTeam: Homer High School\nSite: Homer High School\nSubsite: Weight / Matroom
URL:https://kpbsd.org/schools/homer-high/event/coed-varsity-wrestling-practice-154/
LOCATION:600 E Fairview Ave\, Homer\, AK\, United States
END:VEVENT
BEGIN:VEVENT
DTSTART;TZID=America/Anchorage:20241008T160000
DTEND;TZID=America/Anchorage:20241008T183000
DTSTAMP:20260422T163030
CREATED:20240705T030101Z
LAST-MODIFIED:20241004T044524Z
UID:21009-1728403200-1728412200@kpbsd.org
SUMMARY:Coed Varsity Football - Practice
DESCRIPTION:Sport: Football\nLevel: Coed Varsity\nTeam: Homer High School\nSite: Homer High School\nSubsite: Turf Field
URL:https://kpbsd.org/schools/homer-high/event/coed-varsity-football-practice-96/
LOCATION:600 E Fairview Ave\, Homer\, AK\, United States
END:VEVENT
BEGIN:VEVENT
DTSTART;TZID=America/Anchorage:20241008T170000
DTEND;TZID=America/Anchorage:20241008T180000
DTSTAMP:20260422T163030
CREATED:20240301T015817Z
LAST-MODIFIED:20241004T044524Z
UID:17966-1728406800-1728410400@kpbsd.org
SUMMARY:Girls JV Volleyball vs Kenai Central High School
DESCRIPTION:Sport: Volleyball\nLevel: Girls JV\nTeam: Homer High School\nSite: Homer High School\nSubsite: Gym
URL:https://kpbsd.org/schools/homer-high/event/girls-jv-volleyball-vs-kenai-central-high-school-6/
LOCATION:600 E Fairview Ave\, Homer\, AK\, United States
END:VEVENT
BEGIN:VEVENT
DTSTART;TZID=America/Anchorage:20241008T180000
DTEND;TZID=America/Anchorage:20241008T200000
DTSTAMP:20260422T163030
CREATED:20240301T015817Z
LAST-MODIFIED:20241004T044524Z
UID:17969-1728410400-1728417600@kpbsd.org
SUMMARY:Girls Varsity Volleyball vs Kenai Central High School
DESCRIPTION:Sport: Volleyball\nLevel: Girls Varsity\nTeam: Homer High School\nSite: Homer High School\nSubsite: Alice Witte Gymnasium
URL:https://kpbsd.org/schools/homer-high/event/girls-varsity-volleyball-vs-kenai-central-high-school-6/
LOCATION:600 E Fairview Ave\, Homer\, AK\, United States
END:VEVENT
BEGIN:VEVENT
DTSTART;TZID=America/Anchorage:20241009T160000
DTEND;TZID=America/Anchorage:20241009T180000
DTSTAMP:20260422T163030
CREATED:20240510T023028Z
LAST-MODIFIED:20240628T024720Z
UID:19204-1728489600-1728496800@kpbsd.org
SUMMARY:Boys Varsity Football - Practice
DESCRIPTION:Sport: Football\nLevel: Boys Varsity\nTeam: Homer High School\nSite: Homer High School\nSubsite: Turf Field
URL:https://kpbsd.org/schools/homer-high/event/boys-varsity-football-practice-104/
LOCATION:600 E Fairview Ave\, Homer\, AK\, United States
END:VEVENT
BEGIN:VEVENT
DTSTART;TZID=America/Anchorage:20241009T160000
DTEND;TZID=America/Anchorage:20241009T180000
DTSTAMP:20260422T163030
CREATED:20240927T043238Z
LAST-MODIFIED:20241004T044524Z
UID:22382-1728489600-1728496800@kpbsd.org
SUMMARY:Coed Varsity Wrestling - Practice
DESCRIPTION:Sport: Wrestling\nLevel: Coed Varsity\nTeam: Homer High School\nSite: Homer High School\nSubsite: Weight / Matroom
URL:https://kpbsd.org/schools/homer-high/event/coed-varsity-wrestling-practice-155/
LOCATION:600 E Fairview Ave\, Homer\, AK\, United States
END:VEVENT
BEGIN:VEVENT
DTSTART;TZID=America/Anchorage:20241009T160000
DTEND;TZID=America/Anchorage:20241009T183000
DTSTAMP:20260422T163030
CREATED:20240705T030102Z
LAST-MODIFIED:20241004T044524Z
UID:21012-1728489600-1728498600@kpbsd.org
SUMMARY:Coed Varsity Football - Practice
DESCRIPTION:Sport: Football\nLevel: Coed Varsity\nTeam: Homer High School\nSite: Homer High School\nSubsite: Turf Field
URL:https://kpbsd.org/schools/homer-high/event/coed-varsity-football-practice-97/
LOCATION:600 E Fairview Ave\, Homer\, AK\, United States
END:VEVENT
BEGIN:VEVENT
DTSTART;TZID=America/Anchorage:20241009T160000
DTEND;TZID=America/Anchorage:20241009T183000
DTSTAMP:20260422T163030
CREATED:20240802T031520Z
LAST-MODIFIED:20241004T044525Z
UID:21491-1728489600-1728498600@kpbsd.org
SUMMARY:Girls Varsity Volleyball - Practice
DESCRIPTION:Sport: Volleyball\nLevel: Girls Varsity\nTeam: Homer High School\nSite: Homer High School\nSubsite: Alice Witte Gymnasium
URL:https://kpbsd.org/schools/homer-high/event/girls-varsity-volleyball-practice-171/
LOCATION:600 E Fairview Ave\, Homer\, AK\, United States
END:VEVENT
BEGIN:VEVENT
DTSTART;TZID=America/Anchorage:20241010T000100
DTEND;TZID=America/Anchorage:20241010T000100
DTSTAMP:20260422T163030
CREATED:20240823T034517Z
LAST-MODIFIED:20241004T044525Z
UID:21914-1728518460-1728518460@kpbsd.org
SUMMARY:Girls Varsity Competitive Cheer - Practice
DESCRIPTION:Sport: Competitive Cheer\nLevel: Girls Varsity\nTeam: Homer High School\nSite: Homer High School\nSubsite: Green Room
URL:https://kpbsd.org/schools/homer-high/event/girls-varsity-competitive-cheer-practice-366/
LOCATION:600 E Fairview Ave\, Homer\, AK\, United States
END:VEVENT
BEGIN:VEVENT
DTSTART;TZID=America/Anchorage:20241010T160000
DTEND;TZID=America/Anchorage:20241010T173000
DTSTAMP:20260422T163030
CREATED:20240510T023028Z
LAST-MODIFIED:20240628T024721Z
UID:19207-1728576000-1728581400@kpbsd.org
SUMMARY:Boys Varsity Football - Practice
DESCRIPTION:Sport: Football\nLevel: Boys Varsity\nTeam: Homer High School\nSite: Homer High School\nSubsite: Turf Field
URL:https://kpbsd.org/schools/homer-high/event/boys-varsity-football-practice-105/
LOCATION:600 E Fairview Ave\, Homer\, AK\, United States
END:VEVENT
BEGIN:VEVENT
DTSTART;TZID=America/Anchorage:20241010T160000
DTEND;TZID=America/Anchorage:20241010T180000
DTSTAMP:20260422T163030
CREATED:20240927T043239Z
LAST-MODIFIED:20241004T044525Z
UID:22385-1728576000-1728583200@kpbsd.org
SUMMARY:Coed Varsity Wrestling - Practice
DESCRIPTION:Sport: Wrestling\nLevel: Coed Varsity\nTeam: Homer High School\nSite: Homer High School\nSubsite: Weight / Matroom
URL:https://kpbsd.org/schools/homer-high/event/coed-varsity-wrestling-practice-156/
LOCATION:600 E Fairview Ave\, Homer\, AK\, United States
END:VEVENT
BEGIN:VEVENT
DTSTART;TZID=America/Anchorage:20241010T160000
DTEND;TZID=America/Anchorage:20241010T183000
DTSTAMP:20260422T163030
CREATED:20240705T030103Z
LAST-MODIFIED:20241004T044525Z
UID:21015-1728576000-1728585000@kpbsd.org
SUMMARY:Coed Varsity Football - Practice
DESCRIPTION:Sport: Football\nLevel: Coed Varsity\nTeam: Homer High School\nSite: Homer High School\nSubsite: Turf Field
URL:https://kpbsd.org/schools/homer-high/event/coed-varsity-football-practice-98/
LOCATION:600 E Fairview Ave\, Homer\, AK\, United States
END:VEVENT
BEGIN:VEVENT
DTSTART;TZID=America/Anchorage:20241010T160000
DTEND;TZID=America/Anchorage:20241010T183000
DTSTAMP:20260422T163030
CREATED:20240802T031521Z
LAST-MODIFIED:20241004T044525Z
UID:21494-1728576000-1728585000@kpbsd.org
SUMMARY:Girls Varsity Volleyball - Practice
DESCRIPTION:Sport: Volleyball\nLevel: Girls Varsity\nTeam: Homer High School\nSite: Homer High School\nSubsite: Alice Witte Gymnasium
URL:https://kpbsd.org/schools/homer-high/event/girls-varsity-volleyball-practice-172/
LOCATION:600 E Fairview Ave\, Homer\, AK\, United States
END:VEVENT
BEGIN:VEVENT
DTSTART;TZID=America/Anchorage:20241010T170000
DTEND;TZID=America/Anchorage:20241010T210000
DTSTAMP:20260422T163030
CREATED:20241011T044420Z
LAST-MODIFIED:20241011T044519Z
UID:22806-1728579600-1728594000@kpbsd.org
SUMMARY:Pier One Fiddler On The Roof Performance
DESCRIPTION:Site: Homer High School\nSubsite: Theatre
URL:https://kpbsd.org/schools/homer-high/event/pier-one-fiddler-on-the-roof-performance/
LOCATION:600 E Fairview Ave\, Homer\, AK\, United States
END:VEVENT
BEGIN:VEVENT
DTSTART;TZID=America/Anchorage:20241010T170000
DTEND;TZID=America/Anchorage:20241010T210000
DTSTAMP:20260422T163030
CREATED:20241011T044420Z
LAST-MODIFIED:20241011T044519Z
UID:22809-1728579600-1728594000@kpbsd.org
SUMMARY:Pier One Fiddler On The Roof Performance
DESCRIPTION:Site: Homer High School\nSubsite: Green Room
URL:https://kpbsd.org/schools/homer-high/event/pier-one-fiddler-on-the-roof-performance-2/
LOCATION:600 E Fairview Ave\, Homer\, AK\, United States
END:VEVENT
BEGIN:VEVENT
DTSTART;TZID=America/Anchorage:20241010T180000
DTEND;TZID=America/Anchorage:20241010T200000
DTSTAMP:20260422T163030
CREATED:20240517T023005Z
LAST-MODIFIED:20241004T044525Z
UID:19675-1728583200-1728590400@kpbsd.org
SUMMARY:Football Team and Family Dinner
DESCRIPTION:Site: Homer High School\nSubsite: Commons
URL:https://kpbsd.org/schools/homer-high/event/football-team-and-family-dinner-10/
LOCATION:600 E Fairview Ave\, Homer\, AK\, United States
END:VEVENT
BEGIN:VEVENT
DTSTART;TZID=America/Anchorage:20241011T000100
DTEND;TZID=America/Anchorage:20241011T000100
DTSTAMP:20260422T163030
CREATED:20240524T023131Z
LAST-MODIFIED:20240816T033144Z
UID:20134-1728604860-1728604860@kpbsd.org
SUMMARY:Coed Varsity Swimming @ Soldotna High School
DESCRIPTION:Sport: Swimming\nLevel: Coed Varsity\nTeam: Homer High School\nSite: Soldotna High School\nSubsite: Pool
URL:https://kpbsd.org/schools/homer-high/event/coed-varsity-swimming-soldotna-high-school-9/
LOCATION:425 W Marydale Ave\, Soldotna\, AK\, United States
END:VEVENT
BEGIN:VEVENT
DTSTART;TZID=America/Anchorage:20241011T090000
DTEND;TZID=America/Anchorage:20241011T160000
DTSTAMP:20260422T163030
CREATED:20240524T023132Z
LAST-MODIFIED:20241011T044519Z
UID:20137-1728637200-1728662400@kpbsd.org
SUMMARY:Teacher In service day-no school for students
DESCRIPTION:Site: Homer High School\nSubsite: Other
URL:https://kpbsd.org/schools/homer-high/event/teacher-in-service-day-no-school-for-students-5/
LOCATION:600 E Fairview Ave\, Homer\, AK\, United States
END:VEVENT
BEGIN:VEVENT
DTSTART;TZID=America/Anchorage:20241011T160000
DTEND;TZID=America/Anchorage:20241011T180000
DTSTAMP:20260422T163030
CREATED:20240510T023029Z
LAST-MODIFIED:20240628T024721Z
UID:19210-1728662400-1728669600@kpbsd.org
SUMMARY:Boys Varsity Football - Practice
DESCRIPTION:Sport: Football\nLevel: Boys Varsity\nTeam: Homer High School\nSite: Homer High School\nSubsite: Turf Field
URL:https://kpbsd.org/schools/homer-high/event/boys-varsity-football-practice-106/
LOCATION:600 E Fairview Ave\, Homer\, AK\, United States
END:VEVENT
END:VCALENDAR