BEGIN:VCALENDAR
VERSION:2.0
PRODID:-//Homer High School - ECPv6.8.2//NONSGML v1.0//EN
CALSCALE:GREGORIAN
METHOD:PUBLISH
X-WR-CALNAME:Homer High School
X-ORIGINAL-URL:https://kpbsd.org/schools/homer-high
X-WR-CALDESC:Events for Homer High School
REFRESH-INTERVAL;VALUE=DURATION:PT1H
X-Robots-Tag:noindex
X-PUBLISHED-TTL:PT1H
BEGIN:VTIMEZONE
TZID:America/Anchorage
BEGIN:DAYLIGHT
TZOFFSETFROM:-0900
TZOFFSETTO:-0800
TZNAME:AKDT
DTSTART:20240310T110000
END:DAYLIGHT
BEGIN:STANDARD
TZOFFSETFROM:-0800
TZOFFSETTO:-0900
TZNAME:AKST
DTSTART:20241103T100000
END:STANDARD
END:VTIMEZONE
BEGIN:VEVENT
DTSTART;TZID=America/Anchorage:20241011T000100
DTEND;TZID=America/Anchorage:20241011T000100
DTSTAMP:20260424T031644
CREATED:20240524T023131Z
LAST-MODIFIED:20240816T033144Z
UID:20134-1728604860-1728604860@kpbsd.org
SUMMARY:Coed Varsity Swimming @ Soldotna High School
DESCRIPTION:Sport: Swimming\nLevel: Coed Varsity\nTeam: Homer High School\nSite: Soldotna High School\nSubsite: Pool
URL:https://kpbsd.org/schools/homer-high/event/coed-varsity-swimming-soldotna-high-school-9/
LOCATION:425 W Marydale Ave\, Soldotna\, AK\, United States
END:VEVENT
BEGIN:VEVENT
DTSTART;TZID=America/Anchorage:20241011T090000
DTEND;TZID=America/Anchorage:20241011T160000
DTSTAMP:20260424T031644
CREATED:20240524T023132Z
LAST-MODIFIED:20241011T044519Z
UID:20137-1728637200-1728662400@kpbsd.org
SUMMARY:Teacher In service day-no school for students
DESCRIPTION:Site: Homer High School\nSubsite: Other
URL:https://kpbsd.org/schools/homer-high/event/teacher-in-service-day-no-school-for-students-5/
LOCATION:600 E Fairview Ave\, Homer\, AK\, United States
END:VEVENT
BEGIN:VEVENT
DTSTART;TZID=America/Anchorage:20241011T160000
DTEND;TZID=America/Anchorage:20241011T180000
DTSTAMP:20260424T031644
CREATED:20240510T023029Z
LAST-MODIFIED:20240628T024721Z
UID:19210-1728662400-1728669600@kpbsd.org
SUMMARY:Boys Varsity Football - Practice
DESCRIPTION:Sport: Football\nLevel: Boys Varsity\nTeam: Homer High School\nSite: Homer High School\nSubsite: Turf Field
URL:https://kpbsd.org/schools/homer-high/event/boys-varsity-football-practice-106/
LOCATION:600 E Fairview Ave\, Homer\, AK\, United States
END:VEVENT
BEGIN:VEVENT
DTSTART;TZID=America/Anchorage:20241011T160000
DTEND;TZID=America/Anchorage:20241011T180000
DTSTAMP:20260424T031644
CREATED:20240927T043240Z
LAST-MODIFIED:20241011T044519Z
UID:22388-1728662400-1728669600@kpbsd.org
SUMMARY:Coed Varsity Wrestling - Practice
DESCRIPTION:Sport: Wrestling\nLevel: Coed Varsity\nTeam: Homer High School\nSite: Homer High School\nSubsite: Weight / Matroom
URL:https://kpbsd.org/schools/homer-high/event/coed-varsity-wrestling-practice-157/
LOCATION:600 E Fairview Ave\, Homer\, AK\, United States
END:VEVENT
BEGIN:VEVENT
DTSTART;TZID=America/Anchorage:20241011T160000
DTEND;TZID=America/Anchorage:20241011T183000
DTSTAMP:20260424T031644
CREATED:20240705T030104Z
LAST-MODIFIED:20241011T044520Z
UID:21018-1728662400-1728671400@kpbsd.org
SUMMARY:Coed Varsity Football - Practice
DESCRIPTION:Sport: Football\nLevel: Coed Varsity\nTeam: Homer High School\nSite: Homer High School\nSubsite: Turf Field
URL:https://kpbsd.org/schools/homer-high/event/coed-varsity-football-practice-99/
LOCATION:600 E Fairview Ave\, Homer\, AK\, United States
END:VEVENT
BEGIN:VEVENT
DTSTART;TZID=America/Anchorage:20241011T160000
DTEND;TZID=America/Anchorage:20241011T183000
DTSTAMP:20260424T031644
CREATED:20240802T031522Z
LAST-MODIFIED:20241011T044519Z
UID:21497-1728662400-1728671400@kpbsd.org
SUMMARY:Girls Varsity Volleyball - Practice
DESCRIPTION:Sport: Volleyball\nLevel: Girls Varsity\nTeam: Homer High School\nSite: Homer High School\nSubsite: Alice Witte Gymnasium
URL:https://kpbsd.org/schools/homer-high/event/girls-varsity-volleyball-practice-173/
LOCATION:600 E Fairview Ave\, Homer\, AK\, United States
END:VEVENT
BEGIN:VEVENT
DTSTART;TZID=America/Anchorage:20241012T000100
DTEND;TZID=America/Anchorage:20241012T000100
DTSTAMP:20260424T031644
CREATED:20240524T023132Z
LAST-MODIFIED:20241011T044520Z
UID:20140-1728691260-1728691260@kpbsd.org
SUMMARY:Coed Varsity Swimming @ Soldotna High School
DESCRIPTION:Sport: Swimming\nLevel: Coed Varsity\nTeam: Homer High School\nSite: Soldotna High School\nSubsite: Pool
URL:https://kpbsd.org/schools/homer-high/event/coed-varsity-swimming-soldotna-high-school-10/
LOCATION:425 W Marydale Ave\, Soldotna\, AK\, United States
END:VEVENT
BEGIN:VEVENT
DTSTART;TZID=America/Anchorage:20241012T000100
DTEND;TZID=America/Anchorage:20241012T000100
DTSTAMP:20260424T031644
CREATED:20240906T040220Z
LAST-MODIFIED:20241011T044520Z
UID:22139-1728691260-1728691260@kpbsd.org
SUMMARY:Coed Varsity Swimming @ Soldotna High School
DESCRIPTION:Sport: Swimming\nLevel: Coed Varsity\nTeam: Homer High School\nSite: Soldotna High School\nSubsite: Pool
URL:https://kpbsd.org/schools/homer-high/event/coed-varsity-swimming-soldotna-high-school-11/
LOCATION:425 W Marydale Ave\, Soldotna\, AK\, United States
END:VEVENT
BEGIN:VEVENT
DTSTART;TZID=America/Anchorage:20241013T070000
DTEND;TZID=America/Anchorage:20241013T130000
DTSTAMP:20260424T031644
CREATED:20231222T003048Z
LAST-MODIFIED:20241011T044520Z
UID:16836-1728802800-1728824400@kpbsd.org
SUMMARY:COTR
DESCRIPTION:Site: Homer High School\nSubsite: Gym
URL:https://kpbsd.org/schools/homer-high/event/cotr-43/
LOCATION:600 E Fairview Ave\, Homer\, AK\, United States
END:VEVENT
BEGIN:VEVENT
DTSTART;TZID=America/Anchorage:20241014T070000
DTEND;TZID=America/Anchorage:20241014T150000
DTSTAMP:20260424T031644
CREATED:20241011T044422Z
LAST-MODIFIED:20241011T044520Z
UID:22812-1728889200-1728918000@kpbsd.org
SUMMARY:Honor Choir
DESCRIPTION:Site: Kenai Central High School\nSubsite: KCHS Theater
URL:https://kpbsd.org/schools/homer-high/event/honor-choir/
LOCATION:9583 Kenai Spur Hwy\, Kenai\, AK\, United States
END:VEVENT
BEGIN:VEVENT
DTSTART;TZID=America/Anchorage:20241014T090000
DTEND;TZID=America/Anchorage:20241014T093000
DTSTAMP:20260424T031644
CREATED:20241004T044430Z
LAST-MODIFIED:20241011T044520Z
UID:22780-1728896400-1728898200@kpbsd.org
SUMMARY:Q1 Grade Check
DESCRIPTION:Site: Homer High School\nSubsite: Other
URL:https://kpbsd.org/schools/homer-high/event/q1-grade-check/
LOCATION:600 E Fairview Ave\, Homer\, AK\, United States
END:VEVENT
BEGIN:VEVENT
DTSTART;TZID=America/Anchorage:20241014T160000
DTEND;TZID=America/Anchorage:20241014T180000
DTSTAMP:20260424T031644
CREATED:20240510T023029Z
LAST-MODIFIED:20240628T024721Z
UID:19213-1728921600-1728928800@kpbsd.org
SUMMARY:Boys Varsity Football - Practice
DESCRIPTION:Sport: Football\nLevel: Boys Varsity\nTeam: Homer High School\nSite: Homer High School\nSubsite: Turf Field
URL:https://kpbsd.org/schools/homer-high/event/boys-varsity-football-practice-107/
LOCATION:600 E Fairview Ave\, Homer\, AK\, United States
END:VEVENT
BEGIN:VEVENT
DTSTART;TZID=America/Anchorage:20241014T160000
DTEND;TZID=America/Anchorage:20241014T180000
DTSTAMP:20260424T031644
CREATED:20240927T043241Z
LAST-MODIFIED:20241011T044521Z
UID:22391-1728921600-1728928800@kpbsd.org
SUMMARY:Coed Varsity Wrestling - Practice
DESCRIPTION:Sport: Wrestling\nLevel: Coed Varsity\nTeam: Homer High School\nSite: Homer High School\nSubsite: Weight / Matroom
URL:https://kpbsd.org/schools/homer-high/event/coed-varsity-wrestling-practice-158/
LOCATION:600 E Fairview Ave\, Homer\, AK\, United States
END:VEVENT
BEGIN:VEVENT
DTSTART;TZID=America/Anchorage:20241014T160000
DTEND;TZID=America/Anchorage:20241014T183000
DTSTAMP:20260424T031644
CREATED:20240705T030104Z
LAST-MODIFIED:20241011T044521Z
UID:21021-1728921600-1728930600@kpbsd.org
SUMMARY:Coed Varsity Football - Practice
DESCRIPTION:Sport: Football\nLevel: Coed Varsity\nTeam: Homer High School\nSite: Homer High School\nSubsite: Turf Field
URL:https://kpbsd.org/schools/homer-high/event/coed-varsity-football-practice-100/
LOCATION:600 E Fairview Ave\, Homer\, AK\, United States
END:VEVENT
BEGIN:VEVENT
DTSTART;TZID=America/Anchorage:20241014T160000
DTEND;TZID=America/Anchorage:20241014T183000
DTSTAMP:20260424T031644
CREATED:20240802T031523Z
LAST-MODIFIED:20241011T044521Z
UID:21500-1728921600-1728930600@kpbsd.org
SUMMARY:Girls Varsity Volleyball - Practice
DESCRIPTION:Sport: Volleyball\nLevel: Girls Varsity\nTeam: Homer High School\nSite: Homer High School\nSubsite: Alice Witte Gymnasium
URL:https://kpbsd.org/schools/homer-high/event/girls-varsity-volleyball-practice-174/
LOCATION:600 E Fairview Ave\, Homer\, AK\, United States
END:VEVENT
BEGIN:VEVENT
DTSTART;TZID=America/Anchorage:20241015T000100
DTEND;TZID=America/Anchorage:20241015T000100
DTSTAMP:20260424T031644
CREATED:20240823T034522Z
LAST-MODIFIED:20241011T044521Z
UID:21917-1728950460-1728950460@kpbsd.org
SUMMARY:Girls Varsity Competitive Cheer - Practice
DESCRIPTION:Sport: Competitive Cheer\nLevel: Girls Varsity\nTeam: Homer High School\nSite: Homer High School\nSubsite: Green Room
URL:https://kpbsd.org/schools/homer-high/event/girls-varsity-competitive-cheer-practice-367/
LOCATION:600 E Fairview Ave\, Homer\, AK\, United States
END:VEVENT
BEGIN:VEVENT
DTSTART;TZID=America/Anchorage:20241015T070000
DTEND;TZID=America/Anchorage:20241015T150000
DTSTAMP:20260424T031644
CREATED:20241011T044423Z
LAST-MODIFIED:20241011T044521Z
UID:22815-1728975600-1729004400@kpbsd.org
SUMMARY:Honor Choir
DESCRIPTION:Site: Kenai Central High School\nSubsite: KCHS Theater
URL:https://kpbsd.org/schools/homer-high/event/honor-choir-2/
LOCATION:9583 Kenai Spur Hwy\, Kenai\, AK\, United States
END:VEVENT
BEGIN:VEVENT
DTSTART;TZID=America/Anchorage:20241015T160000
DTEND;TZID=America/Anchorage:20241015T170000
DTSTAMP:20260424T031644
CREATED:20240524T023133Z
LAST-MODIFIED:20241011T044522Z
UID:20146-1729008000-1729011600@kpbsd.org
SUMMARY:Girls Freshman Volleyball @ Soldotna High School
DESCRIPTION:Sport: Volleyball\nLevel: Girls Freshman\nTeam: Homer High School\nSite: Soldotna High School\nSubsite: Gym
URL:https://kpbsd.org/schools/homer-high/event/girls-freshman-volleyball-soldotna-high-school-3/
LOCATION:425 W Marydale Ave\, Soldotna\, AK\, United States
END:VEVENT
BEGIN:VEVENT
DTSTART;TZID=America/Anchorage:20241015T160000
DTEND;TZID=America/Anchorage:20241015T180000
DTSTAMP:20260424T031644
CREATED:20240510T023029Z
LAST-MODIFIED:20240628T024722Z
UID:19216-1729008000-1729015200@kpbsd.org
SUMMARY:Boys Varsity Football - Practice
DESCRIPTION:Sport: Football\nLevel: Boys Varsity\nTeam: Homer High School\nSite: Homer High School\nSubsite: Turf Field
URL:https://kpbsd.org/schools/homer-high/event/boys-varsity-football-practice-108/
LOCATION:600 E Fairview Ave\, Homer\, AK\, United States
END:VEVENT
BEGIN:VEVENT
DTSTART;TZID=America/Anchorage:20241015T160000
DTEND;TZID=America/Anchorage:20241015T180000
DTSTAMP:20260424T031644
CREATED:20240927T043242Z
LAST-MODIFIED:20241011T044522Z
UID:22394-1729008000-1729015200@kpbsd.org
SUMMARY:Coed Varsity Wrestling - Practice
DESCRIPTION:Sport: Wrestling\nLevel: Coed Varsity\nTeam: Homer High School\nSite: Homer High School\nSubsite: Weight / Matroom
URL:https://kpbsd.org/schools/homer-high/event/coed-varsity-wrestling-practice-159/
LOCATION:600 E Fairview Ave\, Homer\, AK\, United States
END:VEVENT
BEGIN:VEVENT
DTSTART;TZID=America/Anchorage:20241015T160000
DTEND;TZID=America/Anchorage:20241015T183000
DTSTAMP:20260424T031644
CREATED:20240705T030105Z
LAST-MODIFIED:20241011T044522Z
UID:21024-1729008000-1729017000@kpbsd.org
SUMMARY:Coed Varsity Football - Practice
DESCRIPTION:Sport: Football\nLevel: Coed Varsity\nTeam: Homer High School\nSite: Homer High School\nSubsite: Turf Field
URL:https://kpbsd.org/schools/homer-high/event/coed-varsity-football-practice-101/
LOCATION:600 E Fairview Ave\, Homer\, AK\, United States
END:VEVENT
BEGIN:VEVENT
DTSTART;TZID=America/Anchorage:20241015T160000
DTEND;TZID=America/Anchorage:20241015T183000
DTSTAMP:20260424T031644
CREATED:20240802T031524Z
LAST-MODIFIED:20241011T044521Z
UID:21503-1729008000-1729017000@kpbsd.org
SUMMARY:Girls Varsity Volleyball - Practice
DESCRIPTION:Sport: Volleyball\nLevel: Girls Varsity\nTeam: Homer High School\nSite: Homer High School\nSubsite: Alice Witte Gymnasium
URL:https://kpbsd.org/schools/homer-high/event/girls-varsity-volleyball-practice-175/
LOCATION:600 E Fairview Ave\, Homer\, AK\, United States
END:VEVENT
BEGIN:VEVENT
DTSTART;TZID=America/Anchorage:20241015T170000
DTEND;TZID=America/Anchorage:20241015T180000
DTSTAMP:20260424T031644
CREATED:20240524T023132Z
LAST-MODIFIED:20241011T044522Z
UID:20143-1729011600-1729015200@kpbsd.org
SUMMARY:Girls JV Volleyball @ Soldotna High School
DESCRIPTION:Sport: Volleyball\nLevel: Girls JV\nTeam: Homer High School\nSite: Soldotna High School\nSubsite: Gym
URL:https://kpbsd.org/schools/homer-high/event/girls-jv-volleyball-soldotna-high-school-3/
LOCATION:425 W Marydale Ave\, Soldotna\, AK\, United States
END:VEVENT
BEGIN:VEVENT
DTSTART;TZID=America/Anchorage:20241015T183000
DTEND;TZID=America/Anchorage:20241015T193000
DTSTAMP:20260424T031644
CREATED:20240524T023133Z
LAST-MODIFIED:20241011T044522Z
UID:20149-1729017000-1729020600@kpbsd.org
SUMMARY:Girls Varsity Volleyball @ Soldotna High School
DESCRIPTION:Sport: Volleyball\nLevel: Girls Varsity\nTeam: Homer High School\nSite: Soldotna High School\nSubsite: Gym
URL:https://kpbsd.org/schools/homer-high/event/girls-varsity-volleyball-soldotna-high-school-4/
LOCATION:425 W Marydale Ave\, Soldotna\, AK\, United States
END:VEVENT
BEGIN:VEVENT
DTSTART;TZID=America/Anchorage:20241016T160000
DTEND;TZID=America/Anchorage:20241016T180000
DTSTAMP:20260424T031644
CREATED:20240510T023030Z
LAST-MODIFIED:20240628T024722Z
UID:19219-1729094400-1729101600@kpbsd.org
SUMMARY:Boys Varsity Football - Practice
DESCRIPTION:Sport: Football\nLevel: Boys Varsity\nTeam: Homer High School\nSite: Homer High School\nSubsite: Turf Field
URL:https://kpbsd.org/schools/homer-high/event/boys-varsity-football-practice-109/
LOCATION:600 E Fairview Ave\, Homer\, AK\, United States
END:VEVENT
BEGIN:VEVENT
DTSTART;TZID=America/Anchorage:20241016T160000
DTEND;TZID=America/Anchorage:20241016T180000
DTSTAMP:20260424T031644
CREATED:20240927T043243Z
LAST-MODIFIED:20241011T044522Z
UID:22397-1729094400-1729101600@kpbsd.org
SUMMARY:Coed Varsity Wrestling - Practice
DESCRIPTION:Sport: Wrestling\nLevel: Coed Varsity\nTeam: Homer High School\nSite: Homer High School\nSubsite: Weight / Matroom
URL:https://kpbsd.org/schools/homer-high/event/coed-varsity-wrestling-practice-160/
LOCATION:600 E Fairview Ave\, Homer\, AK\, United States
END:VEVENT
BEGIN:VEVENT
DTSTART;TZID=America/Anchorage:20241016T160000
DTEND;TZID=America/Anchorage:20241016T183000
DTSTAMP:20260424T031644
CREATED:20240705T030106Z
LAST-MODIFIED:20241011T044523Z
UID:21027-1729094400-1729103400@kpbsd.org
SUMMARY:Coed Varsity Football - Practice
DESCRIPTION:Sport: Football\nLevel: Coed Varsity\nTeam: Homer High School\nSite: Homer High School\nSubsite: Turf Field
URL:https://kpbsd.org/schools/homer-high/event/coed-varsity-football-practice-102/
LOCATION:600 E Fairview Ave\, Homer\, AK\, United States
END:VEVENT
BEGIN:VEVENT
DTSTART;TZID=America/Anchorage:20241016T160000
DTEND;TZID=America/Anchorage:20241016T183000
DTSTAMP:20260424T031644
CREATED:20240802T031525Z
LAST-MODIFIED:20241011T044523Z
UID:21506-1729094400-1729103400@kpbsd.org
SUMMARY:Girls Varsity Volleyball - Practice
DESCRIPTION:Sport: Volleyball\nLevel: Girls Varsity\nTeam: Homer High School\nSite: Homer High School\nSubsite: Alice Witte Gymnasium
URL:https://kpbsd.org/schools/homer-high/event/girls-varsity-volleyball-practice-176/
LOCATION:600 E Fairview Ave\, Homer\, AK\, United States
END:VEVENT
BEGIN:VEVENT
DTSTART;TZID=America/Anchorage:20241017T000100
DTEND;TZID=America/Anchorage:20241017T000100
DTSTAMP:20260424T031644
CREATED:20240823T034524Z
LAST-MODIFIED:20241011T044523Z
UID:21920-1729123260-1729123260@kpbsd.org
SUMMARY:Girls Varsity Competitive Cheer - Practice
DESCRIPTION:Sport: Competitive Cheer\nLevel: Girls Varsity\nTeam: Homer High School\nSite: Homer High School\nSubsite: Green Room
URL:https://kpbsd.org/schools/homer-high/event/girls-varsity-competitive-cheer-practice-368/
LOCATION:600 E Fairview Ave\, Homer\, AK\, United States
END:VEVENT
BEGIN:VEVENT
DTSTART;TZID=America/Anchorage:20241017T160000
DTEND;TZID=America/Anchorage:20241017T163000
DTSTAMP:20260424T031644
CREATED:20240301T015818Z
LAST-MODIFIED:20241011T044523Z
UID:17972-1729180800-1729182600@kpbsd.org
SUMMARY:Girls Freshman Volleyball vs Nikiski High School
DESCRIPTION:Sport: Volleyball\nLevel: Girls Freshman\nTeam: Homer High School\nSite: Homer High School\nSubsite: Gym
URL:https://kpbsd.org/schools/homer-high/event/girls-freshman-volleyball-vs-nikiski-high-school-4/
LOCATION:600 E Fairview Ave\, Homer\, AK\, United States
END:VEVENT
END:VCALENDAR