BEGIN:VCALENDAR
VERSION:2.0
PRODID:-//Homer High School - ECPv6.8.2//NONSGML v1.0//EN
CALSCALE:GREGORIAN
METHOD:PUBLISH
X-ORIGINAL-URL:https://kpbsd.org/schools/homer-high
X-WR-CALDESC:Events for Homer High School
REFRESH-INTERVAL;VALUE=DURATION:PT1H
X-Robots-Tag:noindex
X-PUBLISHED-TTL:PT1H
BEGIN:VTIMEZONE
TZID:America/Anchorage
BEGIN:DAYLIGHT
TZOFFSETFROM:-0900
TZOFFSETTO:-0800
TZNAME:AKDT
DTSTART:20240310T110000
END:DAYLIGHT
BEGIN:STANDARD
TZOFFSETFROM:-0800
TZOFFSETTO:-0900
TZNAME:AKST
DTSTART:20241103T100000
END:STANDARD
END:VTIMEZONE
BEGIN:VEVENT
DTSTART;TZID=America/Anchorage:20241101T000100
DTEND;TZID=America/Anchorage:20241101T000100
DTSTAMP:20260420T153739
CREATED:20240607T024612Z
LAST-MODIFIED:20241101T050005Z
UID:20684-1730419260-1730419260@kpbsd.org
SUMMARY:Coed Varsity Swimming @ Kodiak High School
DESCRIPTION:Sport: Swimming\nLevel: Coed Varsity\nTeam: Homer High School\nSite: Kodiak High School\nSubsite: Swimming Pool
URL:https://kpbsd.org/schools/homer-high/event/coed-varsity-swimming-kodiak-high-school-3/
LOCATION:722 Mill Bay Rd\, Kodiak\, AK\, United States
END:VEVENT
BEGIN:VEVENT
DTSTART;TZID=America/Anchorage:20241101T000100
DTEND;TZID=America/Anchorage:20241101T120100
DTSTAMP:20260420T153739
CREATED:20240517T023009Z
LAST-MODIFIED:20241018T044630Z
UID:19681-1730419260-1730462460@kpbsd.org
SUMMARY:Rotary Health Fair
DESCRIPTION:Site: Homer High School\nSubsite: Gym
URL:https://kpbsd.org/schools/homer-high/event/rotary-health-fair/
LOCATION:600 E Fairview Ave\, Homer\, AK\, United States
END:VEVENT
BEGIN:VEVENT
DTSTART;TZID=America/Anchorage:20241101T160000
DTEND;TZID=America/Anchorage:20241101T170000
DTSTAMP:20260420T153739
CREATED:20240216T013326Z
LAST-MODIFIED:20241101T050005Z
UID:17533-1730476800-1730480400@kpbsd.org
SUMMARY:Girls Freshman Volleyball @ Nikiski High School
DESCRIPTION:Sport: Volleyball\nLevel: Girls Freshman\nTeam: Homer High School\nSite: Nikiski High School\nSubsite: Gym
URL:https://kpbsd.org/schools/homer-high/event/girls-freshman-volleyball-nikiski-high-school-5/
LOCATION:52275 Education Drive\, 52801 Nikiski Ave\, Kenai\, AK\, United States
END:VEVENT
BEGIN:VEVENT
DTSTART;TZID=America/Anchorage:20241101T160000
DTEND;TZID=America/Anchorage:20241101T180000
DTSTAMP:20260420T153739
CREATED:20240927T043259Z
LAST-MODIFIED:20241101T050005Z
UID:22434-1730476800-1730484000@kpbsd.org
SUMMARY:Coed Varsity Wrestling - Practice
DESCRIPTION:Sport: Wrestling\nLevel: Coed Varsity\nTeam: Homer High School\nSite: Homer High School\nSubsite: Weight / Matroom
URL:https://kpbsd.org/schools/homer-high/event/coed-varsity-wrestling-practice-172/
LOCATION:600 E Fairview Ave\, Homer\, AK\, United States
END:VEVENT
BEGIN:VEVENT
DTSTART;TZID=America/Anchorage:20241101T180000
DTEND;TZID=America/Anchorage:20241101T190000
DTSTAMP:20260420T153739
CREATED:20240216T013329Z
LAST-MODIFIED:20241101T050005Z
UID:17538-1730484000-1730487600@kpbsd.org
SUMMARY:Girls Varsity Volleyball @ Nikiski High School
DESCRIPTION:Sport: Volleyball\nLevel: Girls Varsity\nTeam: Homer High School\nSite: Nikiski High School\nSubsite: Gym
URL:https://kpbsd.org/schools/homer-high/event/girls-varsity-volleyball-nikiski-high-school-7/
LOCATION:52275 Education Drive\, 52801 Nikiski Ave\, Kenai\, AK\, United States
END:VEVENT
BEGIN:VEVENT
DTSTART;TZID=America/Anchorage:20241101T190000
DTEND;TZID=America/Anchorage:20241101T210000
DTSTAMP:20260420T153739
CREATED:20240927T043259Z
LAST-MODIFIED:20241101T050005Z
UID:22440-1730487600-1730494800@kpbsd.org
SUMMARY:Coed Varsity Hockey @ North Pole High School
DESCRIPTION:Sport: Hockey\nLevel: Coed Varsity\nTeam: Homer High School\nSite: Polar Ice Center\nSubsite: Polar Ice Rink
URL:https://kpbsd.org/schools/homer-high/event/coed-varsity-hockey-north-pole-high-school/
LOCATION:1087 Dennis Rd\, North Pole\, AK\, United States
END:VEVENT
BEGIN:VEVENT
DTSTART;TZID=America/Anchorage:20241102T000100
DTEND;TZID=America/Anchorage:20241102T000100
DTSTAMP:20260420T153739
CREATED:20240607T024612Z
LAST-MODIFIED:20241101T050005Z
UID:20687-1730505660-1730505660@kpbsd.org
SUMMARY:Coed Varsity Swimming @ Kodiak High School
DESCRIPTION:Sport: Swimming\nLevel: Coed Varsity\nTeam: Homer High School\nSite: Kodiak High School\nSubsite: Swimming Pool
URL:https://kpbsd.org/schools/homer-high/event/coed-varsity-swimming-kodiak-high-school-4/
LOCATION:722 Mill Bay Rd\, Kodiak\, AK\, United States
END:VEVENT
BEGIN:VEVENT
DTSTART;TZID=America/Anchorage:20241102T000100
DTEND;TZID=America/Anchorage:20241102T120100
DTSTAMP:20260420T153739
CREATED:20240517T023009Z
LAST-MODIFIED:20241018T044631Z
UID:19684-1730505660-1730548860@kpbsd.org
SUMMARY:Rotary Health Fair
DESCRIPTION:Site: Homer High School\nSubsite: Gym
URL:https://kpbsd.org/schools/homer-high/event/rotary-health-fair-2/
LOCATION:600 E Fairview Ave\, Homer\, AK\, United States
END:VEVENT
BEGIN:VEVENT
DTSTART;TZID=America/Anchorage:20241102T110000
DTEND;TZID=America/Anchorage:20241102T120000
DTSTAMP:20260420T153739
CREATED:20240223T013318Z
LAST-MODIFIED:20241101T050006Z
UID:17730-1730545200-1730548800@kpbsd.org
SUMMARY:Girls Freshman Volleyball @ Kenai Central High School
DESCRIPTION:Sport: Volleyball\nLevel: Girls Freshman\nTeam: Homer High School\nSite: Kenai Central High School\nSubsite: Gym
URL:https://kpbsd.org/schools/homer-high/event/girls-freshman-volleyball-kenai-central-high-school-5/
LOCATION:9583 Kenai Spur Hwy\, Kenai\, AK\, United States
END:VEVENT
BEGIN:VEVENT
DTSTART;TZID=America/Anchorage:20241102T110000
DTEND;TZID=America/Anchorage:20241102T193000
DTSTAMP:20260420T153739
CREATED:20240927T043301Z
LAST-MODIFIED:20241101T050006Z
UID:22443-1730545200-1730575800@kpbsd.org
SUMMARY:Pump House Jamboree
DESCRIPTION:Games:\nSport: Hockey\nLevel: Coed Varsity\nTeam: Homer High School
URL:https://kpbsd.org/schools/homer-high/event/pump-house-jamboree/
LOCATION:AK
END:VEVENT
BEGIN:VEVENT
DTSTART;TZID=America/Anchorage:20241102T120000
DTEND;TZID=America/Anchorage:20241102T130000
DTSTAMP:20260420T153739
CREATED:20240223T013318Z
LAST-MODIFIED:20241101T050006Z
UID:17727-1730548800-1730552400@kpbsd.org
SUMMARY:Girls JV Volleyball @ Kenai Central High School
DESCRIPTION:Sport: Volleyball\nLevel: Girls JV\nTeam: Homer High School\nSite: Kenai Central High School\nSubsite: Gym
URL:https://kpbsd.org/schools/homer-high/event/girls-jv-volleyball-kenai-central-high-school-8/
LOCATION:9583 Kenai Spur Hwy\, Kenai\, AK\, United States
END:VEVENT
BEGIN:VEVENT
DTSTART;TZID=America/Anchorage:20241102T133000
DTEND;TZID=America/Anchorage:20241102T153000
DTSTAMP:20260420T153739
CREATED:20240223T013319Z
LAST-MODIFIED:20241101T050006Z
UID:17733-1730554200-1730561400@kpbsd.org
SUMMARY:Girls Varsity Volleyball @ Kenai Central High School
DESCRIPTION:Sport: Volleyball\nLevel: Girls Varsity\nTeam: Homer High School\nSite: Kenai Central High School\nSubsite: Gym
URL:https://kpbsd.org/schools/homer-high/event/girls-jv-volleyball-kenai-central-high-school-9/
LOCATION:9583 Kenai Spur Hwy\, Kenai\, AK\, United States
END:VEVENT
BEGIN:VEVENT
DTSTART;TZID=America/Anchorage:20241102T180000
DTEND;TZID=America/Anchorage:20241102T190000
DTSTAMP:20260420T153739
CREATED:20240216T013329Z
LAST-MODIFIED:20241101T050006Z
UID:17535-1730570400-1730574000@kpbsd.org
SUMMARY:Girls JV Volleyball @ Nikiski High School
DESCRIPTION:Sport: Volleyball\nLevel: Girls JV\nTeam: Homer High School\nSite: Nikiski High School\nSubsite: Gym
URL:https://kpbsd.org/schools/homer-high/event/girls-jv-volleyball-nikiski-high-school-5/
LOCATION:52275 Education Drive\, 52801 Nikiski Ave\, Kenai\, AK\, United States
END:VEVENT
BEGIN:VEVENT
DTSTART;TZID=America/Anchorage:20241103T070000
DTEND;TZID=America/Anchorage:20241103T130000
DTSTAMP:20260420T153739
CREATED:20231222T003050Z
LAST-MODIFIED:20241101T050006Z
UID:16845-1730617200-1730638800@kpbsd.org
SUMMARY:COTR
DESCRIPTION:Site: Homer High School\nSubsite: Gym
URL:https://kpbsd.org/schools/homer-high/event/cotr-46/
LOCATION:600 E Fairview Ave\, Homer\, AK\, United States
END:VEVENT
BEGIN:VEVENT
DTSTART;TZID=America/Anchorage:20241104T160000
DTEND;TZID=America/Anchorage:20241104T180000
DTSTAMP:20260420T153739
CREATED:20240927T043302Z
LAST-MODIFIED:20241101T050006Z
UID:22446-1730736000-1730743200@kpbsd.org
SUMMARY:Coed Varsity Wrestling - Practice
DESCRIPTION:Sport: Wrestling\nLevel: Coed Varsity\nTeam: Homer High School\nSite: Homer High School\nSubsite: Weight / Matroom
URL:https://kpbsd.org/schools/homer-high/event/coed-varsity-wrestling-practice-173/
LOCATION:600 E Fairview Ave\, Homer\, AK\, United States
END:VEVENT
BEGIN:VEVENT
DTSTART;TZID=America/Anchorage:20241104T160000
DTEND;TZID=America/Anchorage:20241104T183000
DTSTAMP:20260420T153739
CREATED:20240802T031538Z
LAST-MODIFIED:20241101T050006Z
UID:21535-1730736000-1730745000@kpbsd.org
SUMMARY:Girls Varsity Volleyball - Practice
DESCRIPTION:Sport: Volleyball\nLevel: Girls Varsity\nTeam: Homer High School\nSite: Homer High School\nSubsite: Alice Witte Gymnasium
URL:https://kpbsd.org/schools/homer-high/event/girls-varsity-volleyball-practice-186/
LOCATION:600 E Fairview Ave\, Homer\, AK\, United States
END:VEVENT
BEGIN:VEVENT
DTSTART;TZID=America/Anchorage:20241105T160000
DTEND;TZID=America/Anchorage:20241105T180000
DTSTAMP:20260420T153739
CREATED:20240927T043303Z
LAST-MODIFIED:20241101T050006Z
UID:22449-1730822400-1730829600@kpbsd.org
SUMMARY:Coed Varsity Wrestling - Practice
DESCRIPTION:Sport: Wrestling\nLevel: Coed Varsity\nTeam: Homer High School\nSite: Homer High School\nSubsite: Weight / Matroom
URL:https://kpbsd.org/schools/homer-high/event/coed-varsity-wrestling-practice-174/
LOCATION:600 E Fairview Ave\, Homer\, AK\, United States
END:VEVENT
BEGIN:VEVENT
DTSTART;TZID=America/Anchorage:20241105T160000
DTEND;TZID=America/Anchorage:20241105T183000
DTSTAMP:20260420T153739
CREATED:20240802T031538Z
LAST-MODIFIED:20241101T050006Z
UID:21538-1730822400-1730831400@kpbsd.org
SUMMARY:Girls Varsity Volleyball - Practice
DESCRIPTION:Sport: Volleyball\nLevel: Girls Varsity\nTeam: Homer High School\nSite: Homer High School\nSubsite: Alice Witte Gymnasium
URL:https://kpbsd.org/schools/homer-high/event/girls-varsity-volleyball-practice-187/
LOCATION:600 E Fairview Ave\, Homer\, AK\, United States
END:VEVENT
BEGIN:VEVENT
DTSTART;TZID=America/Anchorage:20241106T160000
DTEND;TZID=America/Anchorage:20241106T180000
DTSTAMP:20260420T153739
CREATED:20240927T043303Z
LAST-MODIFIED:20241101T050007Z
UID:22452-1730908800-1730916000@kpbsd.org
SUMMARY:Coed Varsity Wrestling - Practice
DESCRIPTION:Sport: Wrestling\nLevel: Coed Varsity\nTeam: Homer High School\nSite: Homer High School\nSubsite: Weight / Matroom
URL:https://kpbsd.org/schools/homer-high/event/coed-varsity-wrestling-practice-175/
LOCATION:600 E Fairview Ave\, Homer\, AK\, United States
END:VEVENT
BEGIN:VEVENT
DTSTART;TZID=America/Anchorage:20241106T160000
DTEND;TZID=America/Anchorage:20241106T183000
DTSTAMP:20260420T153739
CREATED:20240802T031539Z
LAST-MODIFIED:20241101T050007Z
UID:21541-1730908800-1730917800@kpbsd.org
SUMMARY:Girls Varsity Volleyball - Practice
DESCRIPTION:Sport: Volleyball\nLevel: Girls Varsity\nTeam: Homer High School\nSite: Homer High School\nSubsite: Alice Witte Gymnasium
URL:https://kpbsd.org/schools/homer-high/event/girls-varsity-volleyball-practice-188/
LOCATION:600 E Fairview Ave\, Homer\, AK\, United States
END:VEVENT
BEGIN:VEVENT
DTSTART;TZID=America/Anchorage:20241107T000100
DTEND;TZID=America/Anchorage:20241109T000100
DTSTAMP:20260420T153739
CREATED:20240405T021640Z
LAST-MODIFIED:20241108T050010Z
UID:18507-1730937660-1731110460@kpbsd.org
SUMMARY:South Central Conference Tournament
DESCRIPTION:Games:\nSport: Volleyball\nLevel: Girls Varsity\nTeam: Homer High School
URL:https://kpbsd.org/schools/homer-high/event/south-central-conference-tournament/
LOCATION:AK
END:VEVENT
BEGIN:VEVENT
DTSTART;TZID=America/Anchorage:20241107T160000
DTEND;TZID=America/Anchorage:20241107T180000
DTSTAMP:20260420T153739
CREATED:20240927T043304Z
LAST-MODIFIED:20241101T050007Z
UID:22455-1730995200-1731002400@kpbsd.org
SUMMARY:Coed Varsity Wrestling - Practice
DESCRIPTION:Sport: Wrestling\nLevel: Coed Varsity\nTeam: Homer High School\nSite: Homer High School\nSubsite: Weight / Matroom
URL:https://kpbsd.org/schools/homer-high/event/coed-varsity-wrestling-practice-176/
LOCATION:600 E Fairview Ave\, Homer\, AK\, United States
END:VEVENT
BEGIN:VEVENT
DTSTART;TZID=America/Anchorage:20241107T160000
DTEND;TZID=America/Anchorage:20241107T200000
DTSTAMP:20260420T153739
CREATED:20241108T045931Z
LAST-MODIFIED:20241108T050009Z
UID:23047-1730995200-1731009600@kpbsd.org
SUMMARY:Nutcracker Rehearsal
DESCRIPTION:Site: Homer High School\nSubsite: Theatre
URL:https://kpbsd.org/schools/homer-high/event/nutcracker-rehearsal/
LOCATION:600 E Fairview Ave\, Homer\, AK\, United States
END:VEVENT
BEGIN:VEVENT
DTSTART;TZID=America/Anchorage:20241107T170000
DTEND;TZID=America/Anchorage:20241107T200000
DTSTAMP:20260420T153739
CREATED:20240927T043304Z
LAST-MODIFIED:20241108T050009Z
UID:22458-1730998800-1731009600@kpbsd.org
SUMMARY:Coed Varsity Wrestling vs Soldotna High School
DESCRIPTION:Sport: Wrestling\nLevel: Coed Varsity\nTeam: Homer High School\nSite: Homer High School\nSubsite: Gym
URL:https://kpbsd.org/schools/homer-high/event/coed-varsity-wrestling-vs-soldotna-high-school-3/
LOCATION:600 E Fairview Ave\, Homer\, AK\, United States
END:VEVENT
BEGIN:VEVENT
DTSTART;TZID=America/Anchorage:20241108T160000
DTEND;TZID=America/Anchorage:20241108T180000
DTSTAMP:20260420T153739
CREATED:20240927T043305Z
LAST-MODIFIED:20241108T050010Z
UID:22461-1731081600-1731088800@kpbsd.org
SUMMARY:Coed Varsity Wrestling - Practice
DESCRIPTION:Sport: Wrestling\nLevel: Coed Varsity\nTeam: Homer High School\nSite: Homer High School\nSubsite: Weight / Matroom
URL:https://kpbsd.org/schools/homer-high/event/coed-varsity-wrestling-practice-177/
LOCATION:600 E Fairview Ave\, Homer\, AK\, United States
END:VEVENT
BEGIN:VEVENT
DTSTART;TZID=America/Anchorage:20241108T160000
DTEND;TZID=America/Anchorage:20241108T200000
DTSTAMP:20260420T153739
CREATED:20240301T015821Z
LAST-MODIFIED:20241108T050010Z
UID:17990-1731081600-1731096000@kpbsd.org
SUMMARY:Coed Varsity Wrestling vs Kenai Central High School
DESCRIPTION:Sport: Wrestling\nLevel: Coed Varsity\nTeam: Homer High School\nSite: Homer High School\nSubsite: Gym
URL:https://kpbsd.org/schools/homer-high/event/coed-varsity-wrestling-vs-kenai-central-high-school-4/
LOCATION:600 E Fairview Ave\, Homer\, AK\, United States
END:VEVENT
BEGIN:VEVENT
DTSTART;TZID=America/Anchorage:20241109T090000
DTEND;TZID=America/Anchorage:20241109T150000
DTSTAMP:20260420T153739
CREATED:20240301T015822Z
LAST-MODIFIED:20241108T050010Z
UID:17993-1731142800-1731164400@kpbsd.org
SUMMARY:Coed Varsity Wrestling vs Kenai Central High School
DESCRIPTION:Sport: Wrestling\nLevel: Coed Varsity\nTeam: Homer High School\nSite: Homer High School\nSubsite: Gym
URL:https://kpbsd.org/schools/homer-high/event/coed-varsity-wrestling-vs-kenai-central-high-school-5/
LOCATION:600 E Fairview Ave\, Homer\, AK\, United States
END:VEVENT
BEGIN:VEVENT
DTSTART;TZID=America/Anchorage:20241110T070000
DTEND;TZID=America/Anchorage:20241110T130000
DTSTAMP:20260420T153739
CREATED:20231222T003050Z
LAST-MODIFIED:20241108T050010Z
UID:16848-1731222000-1731243600@kpbsd.org
SUMMARY:COTR
DESCRIPTION:Site: Homer High School\nSubsite: Gym
URL:https://kpbsd.org/schools/homer-high/event/cotr-47/
LOCATION:600 E Fairview Ave\, Homer\, AK\, United States
END:VEVENT
BEGIN:VEVENT
DTSTART;TZID=America/Anchorage:20241111T090000
DTEND;TZID=America/Anchorage:20241111T093000
DTSTAMP:20260420T153739
CREATED:20241101T045933Z
LAST-MODIFIED:20241108T050010Z
UID:23015-1731315600-1731317400@kpbsd.org
SUMMARY:E2 Grade Check
DESCRIPTION:Site: Homer High School\nSubsite: B-102 Student Success Lab
URL:https://kpbsd.org/schools/homer-high/event/e2-grade-check/
LOCATION:600 E Fairview Ave\, Homer\, AK\, United States
END:VEVENT
BEGIN:VEVENT
DTSTART;TZID=America/Anchorage:20241111T160000
DTEND;TZID=America/Anchorage:20241111T180000
DTSTAMP:20260420T153739
CREATED:20240927T043306Z
LAST-MODIFIED:20241108T050010Z
UID:22464-1731340800-1731348000@kpbsd.org
SUMMARY:Coed Varsity Wrestling - Practice
DESCRIPTION:Sport: Wrestling\nLevel: Coed Varsity\nTeam: Homer High School\nSite: Homer High School\nSubsite: Weight / Matroom
URL:https://kpbsd.org/schools/homer-high/event/coed-varsity-wrestling-practice-178/
LOCATION:600 E Fairview Ave\, Homer\, AK\, United States
END:VEVENT
END:VCALENDAR