BEGIN:VCALENDAR
VERSION:2.0
PRODID:-//Homer Middle School - ECPv6.8.2//NONSGML v1.0//EN
CALSCALE:GREGORIAN
METHOD:PUBLISH
X-WR-CALNAME:Homer Middle School
X-ORIGINAL-URL:https://kpbsd.org/schools/homer-middle
X-WR-CALDESC:Events for Homer Middle School
REFRESH-INTERVAL;VALUE=DURATION:PT1H
X-Robots-Tag:noindex
X-PUBLISHED-TTL:PT1H
BEGIN:VTIMEZONE
TZID:America/Anchorage
BEGIN:DAYLIGHT
TZOFFSETFROM:-0900
TZOFFSETTO:-0800
TZNAME:AKDT
DTSTART:20240310T110000
END:DAYLIGHT
BEGIN:STANDARD
TZOFFSETFROM:-0800
TZOFFSETTO:-0900
TZNAME:AKST
DTSTART:20241103T100000
END:STANDARD
END:VTIMEZONE
BEGIN:VEVENT
DTSTART;TZID=America/Anchorage:20240914T130000
DTEND;TZID=America/Anchorage:20240914T160000
DTSTAMP:20260420T030044
CREATED:20240530T172322Z
LAST-MODIFIED:20240914T050343Z
UID:6173-1726318800-1726329600@kpbsd.org
SUMMARY:Soccer Game @ HOME vs. Seward
DESCRIPTION:Seward vs. Homer @ Homer 1 pm  ***at HHS fields***\nMain FieldUpper Field\n1:00 Seward Boys A vs. Homer Boys A1:00 Seward B vs. Homer B White\n2:30 Seward Girls A vs. Homer Girls A2:30 Chapman B vs. Homer B Blue
URL:https://kpbsd.org/schools/homer-middle/event/soccer-game-home-vs-seward/
LOCATION:HHS Field
END:VEVENT
END:VCALENDAR