BEGIN:VCALENDAR
VERSION:2.0
PRODID:-//Homer Middle School - ECPv6.8.2//NONSGML v1.0//EN
CALSCALE:GREGORIAN
METHOD:PUBLISH
X-WR-CALNAME:Homer Middle School
X-ORIGINAL-URL:https://kpbsd.org/schools/homer-middle
X-WR-CALDESC:Events for Homer Middle School
REFRESH-INTERVAL;VALUE=DURATION:PT1H
X-Robots-Tag:noindex
X-PUBLISHED-TTL:PT1H
BEGIN:VTIMEZONE
TZID:America/Anchorage
BEGIN:DAYLIGHT
TZOFFSETFROM:-0900
TZOFFSETTO:-0800
TZNAME:AKDT
DTSTART:20240310T110000
END:DAYLIGHT
BEGIN:STANDARD
TZOFFSETFROM:-0800
TZOFFSETTO:-0900
TZNAME:AKST
DTSTART:20241103T100000
END:STANDARD
END:VTIMEZONE
BEGIN:VEVENT
DTSTART;TZID=America/Anchorage:20240917T150000
DTEND;TZID=America/Anchorage:20240917T180000
DTSTAMP:20260419T171641
CREATED:20240827T024035Z
LAST-MODIFIED:20240917T052450Z
UID:7068-1726585200-1726596000@kpbsd.org
SUMMARY:Soccer A team Boys @ Chapman
DESCRIPTION:Chapman vs Homer @ Chapman 3pm\nA Team Boys and CoEd B (White)\n2 PM bus
URL:https://kpbsd.org/schools/homer-middle/event/soccer-a-team-boys-chapman/
END:VEVENT
BEGIN:VEVENT
DTSTART;TZID=America/Anchorage:20240917T163000
DTEND;TZID=America/Anchorage:20240917T180000
DTSTAMP:20260419T171641
CREATED:20240827T024035Z
LAST-MODIFIED:20240904T040426Z
UID:7065-1726590600-1726596000@kpbsd.org
SUMMARY:Soccer co-ed @ Chapman
DESCRIPTION:
URL:https://kpbsd.org/schools/homer-middle/event/soccer-co-ed-chapman/
END:VEVENT
END:VCALENDAR