BEGIN:VCALENDAR
VERSION:2.0
PRODID:-//Homer Middle School - ECPv6.8.2//NONSGML v1.0//EN
CALSCALE:GREGORIAN
METHOD:PUBLISH
X-WR-CALNAME:Homer Middle School
X-ORIGINAL-URL:https://kpbsd.org/schools/homer-middle
X-WR-CALDESC:Events for Homer Middle School
REFRESH-INTERVAL;VALUE=DURATION:PT1H
X-Robots-Tag:noindex
X-PUBLISHED-TTL:PT1H
BEGIN:VTIMEZONE
TZID:America/Anchorage
BEGIN:DAYLIGHT
TZOFFSETFROM:-0900
TZOFFSETTO:-0800
TZNAME:AKDT
DTSTART:20240310T110000
END:DAYLIGHT
BEGIN:STANDARD
TZOFFSETFROM:-0800
TZOFFSETTO:-0900
TZNAME:AKST
DTSTART:20241103T100000
END:STANDARD
END:VTIMEZONE
BEGIN:VEVENT
DTSTART;TZID=America/Anchorage:20240925T124000
DTEND;TZID=America/Anchorage:20240925T132000
DTSTAMP:20260419T160953
CREATED:20240920T055359Z
LAST-MODIFIED:20240925T060543Z
UID:7327-1727268000-1727270400@kpbsd.org
SUMMARY:Basketball Interest Meeting
DESCRIPTION:Girls in Langner’s room and Boys in 303
URL:https://kpbsd.org/schools/homer-middle/event/basketball-interest-meeting/
END:VEVENT
BEGIN:VEVENT
DTSTART;TZID=America/Anchorage:20240925T170000
DTEND;TZID=America/Anchorage:20240925T183000
DTSTAMP:20260419T160953
CREATED:20240827T024036Z
LAST-MODIFIED:20240925T060543Z
UID:7080-1727283600-1727289000@kpbsd.org
SUMMARY:Coed B team vs. Voz
DESCRIPTION:
URL:https://kpbsd.org/schools/homer-middle/event/coed-b-team-vs-voz-2/
LOCATION:HMS field
END:VEVENT
END:VCALENDAR