BEGIN:VCALENDAR
VERSION:2.0
PRODID:-//Homer Middle School - ECPv6.8.2//NONSGML v1.0//EN
CALSCALE:GREGORIAN
METHOD:PUBLISH
X-WR-CALNAME:Homer Middle School
X-ORIGINAL-URL:https://kpbsd.org/schools/homer-middle
X-WR-CALDESC:Events for Homer Middle School
REFRESH-INTERVAL;VALUE=DURATION:PT1H
X-Robots-Tag:noindex
X-PUBLISHED-TTL:PT1H
BEGIN:VTIMEZONE
TZID:America/Anchorage
BEGIN:DAYLIGHT
TZOFFSETFROM:-0900
TZOFFSETTO:-0800
TZNAME:AKDT
DTSTART:20240310T110000
END:DAYLIGHT
BEGIN:STANDARD
TZOFFSETFROM:-0800
TZOFFSETTO:-0900
TZNAME:AKST
DTSTART:20241103T100000
END:STANDARD
END:VTIMEZONE
BEGIN:VEVENT
DTSTART;VALUE=DATE:20241017
DTEND;VALUE=DATE:20241018
DTSTAMP:20260423T043301
CREATED:20240530T172325Z
LAST-MODIFIED:20241017T092050Z
UID:6212-1729123200-1729209599@kpbsd.org
SUMMARY:Quarter 1 Report Cards emailed home
DESCRIPTION:
URL:https://kpbsd.org/schools/homer-middle/event/quarter-1-report-cards-emailed-home/
END:VEVENT
BEGIN:VEVENT
DTSTART;TZID=America/Anchorage:20241017T160000
DTEND;TZID=America/Anchorage:20241017T170000
DTSTAMP:20260423T043301
CREATED:20241008T080558Z
LAST-MODIFIED:20241017T092050Z
UID:7456-1729180800-1729184400@kpbsd.org
SUMMARY:After School Study hall
DESCRIPTION:
URL:https://kpbsd.org/schools/homer-middle/event/after-school-study-hall-4/
END:VEVENT
END:VCALENDAR