BEGIN:VCALENDAR
VERSION:2.0
PRODID:-//Homer Middle School - ECPv6.8.2//NONSGML v1.0//EN
CALSCALE:GREGORIAN
METHOD:PUBLISH
X-ORIGINAL-URL:https://kpbsd.org/schools/homer-middle
X-WR-CALDESC:Events for Homer Middle School
REFRESH-INTERVAL;VALUE=DURATION:PT1H
X-Robots-Tag:noindex
X-PUBLISHED-TTL:PT1H
BEGIN:VTIMEZONE
TZID:America/Anchorage
BEGIN:DAYLIGHT
TZOFFSETFROM:-0900
TZOFFSETTO:-0800
TZNAME:AKDT
DTSTART:20240310T110000
END:DAYLIGHT
BEGIN:STANDARD
TZOFFSETFROM:-0800
TZOFFSETTO:-0900
TZNAME:AKST
DTSTART:20241103T100000
END:STANDARD
END:VTIMEZONE
BEGIN:VEVENT
DTSTART;VALUE=DATE:20241029
DTEND;VALUE=DATE:20241030
DTSTAMP:20260419T220907
CREATED:20241023T102953Z
LAST-MODIFIED:20241029T112652Z
UID:9004-1730160000-1730246399@kpbsd.org
SUMMARY:Twin day
DESCRIPTION:
URL:https://kpbsd.org/schools/homer-middle/event/twin-day/
END:VEVENT
BEGIN:VEVENT
DTSTART;TZID=America/Anchorage:20241029T080000
DTEND;TZID=America/Anchorage:20241029T090000
DTSTAMP:20260419T220907
CREATED:20241013T085450Z
LAST-MODIFIED:20241028T111851Z
UID:8204-1730188800-1730192400@kpbsd.org
SUMMARY:Student council meeting
DESCRIPTION:
URL:https://kpbsd.org/schools/homer-middle/event/student-council-meeting-3/
LOCATION:principal’s office
END:VEVENT
BEGIN:VEVENT
DTSTART;TZID=America/Anchorage:20241029T153000
DTEND;TZID=America/Anchorage:20241029T183000
DTSTAMP:20260419T220907
CREATED:20240926T060312Z
LAST-MODIFIED:20241029T112652Z
UID:7348-1730215800-1730226600@kpbsd.org
SUMMARY:Basketball Game @ CIA (B teams)
DESCRIPTION:Bus departs at 1:30 pm
URL:https://kpbsd.org/schools/homer-middle/event/basketball-game-cia-b-teams/
END:VEVENT
BEGIN:VEVENT
DTSTART;TZID=America/Anchorage:20241029T160000
DTEND;TZID=America/Anchorage:20241029T170000
DTSTAMP:20260419T220907
CREATED:20241008T080600Z
LAST-MODIFIED:20241029T112653Z
UID:7471-1730217600-1730221200@kpbsd.org
SUMMARY:After School Study hall- Booz
DESCRIPTION:
URL:https://kpbsd.org/schools/homer-middle/event/after-school-study-hall-9/
END:VEVENT
BEGIN:VEVENT
DTSTART;TZID=America/Anchorage:20241029T180000
DTEND;TZID=America/Anchorage:20241029T200000
DTSTAMP:20260419T220907
CREATED:20241023T102953Z
LAST-MODIFIED:20241029T112653Z
UID:9007-1730224800-1730232000@kpbsd.org
SUMMARY:Boys BBall game @ HOME A team vs. HHS 9th grade
DESCRIPTION:
URL:https://kpbsd.org/schools/homer-middle/event/boys-bball-game-home-a-team-vs-hhs-9th-grade/
END:VEVENT
END:VCALENDAR