BEGIN:VCALENDAR
VERSION:2.0
PRODID:-//Homer Middle School - ECPv6.8.2//NONSGML v1.0//EN
CALSCALE:GREGORIAN
METHOD:PUBLISH
X-WR-CALNAME:Homer Middle School
X-ORIGINAL-URL:https://kpbsd.org/schools/homer-middle
X-WR-CALDESC:Events for Homer Middle School
REFRESH-INTERVAL;VALUE=DURATION:PT1H
X-Robots-Tag:noindex
X-PUBLISHED-TTL:PT1H
BEGIN:VTIMEZONE
TZID:America/Anchorage
BEGIN:DAYLIGHT
TZOFFSETFROM:-0900
TZOFFSETTO:-0800
TZNAME:AKDT
DTSTART:20240310T110000
END:DAYLIGHT
BEGIN:STANDARD
TZOFFSETFROM:-0800
TZOFFSETTO:-0900
TZNAME:AKST
DTSTART:20241103T100000
END:STANDARD
END:VTIMEZONE
BEGIN:VEVENT
DTSTART;VALUE=DATE:20241101
DTEND;VALUE=DATE:20241102
DTSTAMP:20260419T130902
CREATED:20241023T102955Z
LAST-MODIFIED:20241101T080439Z
UID:9016-1730419200-1730505599@kpbsd.org
SUMMARY:Husky pride day
DESCRIPTION:
URL:https://kpbsd.org/schools/homer-middle/event/husky-pride-day/
END:VEVENT
BEGIN:VEVENT
DTSTART;TZID=America/Anchorage:20241101T180000
DTEND;TZID=America/Anchorage:20241101T200000
DTSTAMP:20260419T130902
CREATED:20241003T073802Z
LAST-MODIFIED:20241102T032418Z
UID:7416-1730484000-1730491200@kpbsd.org
SUMMARY:BBall Game @ HOME vs. West Homer (C team only
DESCRIPTION:
URL:https://kpbsd.org/schools/homer-middle/event/bball-game-home-vs-west-homer-c-team-only/
END:VEVENT
END:VCALENDAR