BEGIN:VCALENDAR
VERSION:2.0
PRODID:-//Homer Middle School - ECPv6.8.2//NONSGML v1.0//EN
CALSCALE:GREGORIAN
METHOD:PUBLISH
X-ORIGINAL-URL:https://kpbsd.org/schools/homer-middle
X-WR-CALDESC:Events for Homer Middle School
REFRESH-INTERVAL;VALUE=DURATION:PT1H
X-Robots-Tag:noindex
X-PUBLISHED-TTL:PT1H
BEGIN:VTIMEZONE
TZID:America/Anchorage
BEGIN:DAYLIGHT
TZOFFSETFROM:-0900
TZOFFSETTO:-0800
TZNAME:AKDT
DTSTART:20240310T110000
END:DAYLIGHT
BEGIN:STANDARD
TZOFFSETFROM:-0800
TZOFFSETTO:-0900
TZNAME:AKST
DTSTART:20241103T100000
END:STANDARD
END:VTIMEZONE
BEGIN:VEVENT
DTSTART;TZID=America/Anchorage:20241105T080000
DTEND;TZID=America/Anchorage:20241105T090000
DTSTAMP:20260420T093346
CREATED:20241013T085452Z
LAST-MODIFIED:20241028T111920Z
UID:8213-1730793600-1730797200@kpbsd.org
SUMMARY:Student council meeting
DESCRIPTION:
URL:https://kpbsd.org/schools/homer-middle/event/student-council-meeting-4/
LOCATION:principal’s office
END:VEVENT
BEGIN:VEVENT
DTSTART;TZID=America/Anchorage:20241105T145000
DTEND;TZID=America/Anchorage:20241105T155000
DTSTAMP:20260420T093346
CREATED:20240530T172326Z
LAST-MODIFIED:20241106T003349Z
UID:6227-1730818200-1730821800@kpbsd.org
SUMMARY:Quarter 1 Awards Assembly
DESCRIPTION:Families are invited to attend!
URL:https://kpbsd.org/schools/homer-middle/event/quarter-1-awards-assembly/
END:VEVENT
BEGIN:VEVENT
DTSTART;TZID=America/Anchorage:20241105T153000
DTEND;TZID=America/Anchorage:20241105T183000
DTSTAMP:20260420T093346
CREATED:20240926T060314Z
LAST-MODIFIED:20241106T032108Z
UID:7357-1730820600-1730831400@kpbsd.org
SUMMARY:Basketball Game @ ABCS (A Teams)
DESCRIPTION:bus departs @ 1:30 pm
URL:https://kpbsd.org/schools/homer-middle/event/basketball-game-abcs-a-teams/
END:VEVENT
BEGIN:VEVENT
DTSTART;TZID=America/Anchorage:20241105T160000
DTEND;TZID=America/Anchorage:20241105T170000
DTSTAMP:20260420T093346
CREATED:20241008T080601Z
LAST-MODIFIED:20241106T015253Z
UID:7501-1730822400-1730826000@kpbsd.org
SUMMARY:After School Study hall- Olson
DESCRIPTION:
URL:https://kpbsd.org/schools/homer-middle/event/after-school-study-hall-13/
END:VEVENT
END:VCALENDAR