BEGIN:VCALENDAR
VERSION:2.0
PRODID:-//Homer Middle School - ECPv6.8.2//NONSGML v1.0//EN
CALSCALE:GREGORIAN
METHOD:PUBLISH
X-WR-CALNAME:Homer Middle School
X-ORIGINAL-URL:https://kpbsd.org/schools/homer-middle
X-WR-CALDESC:Events for Homer Middle School
REFRESH-INTERVAL;VALUE=DURATION:PT1H
X-Robots-Tag:noindex
X-PUBLISHED-TTL:PT1H
BEGIN:VTIMEZONE
TZID:America/Anchorage
BEGIN:DAYLIGHT
TZOFFSETFROM:-0900
TZOFFSETTO:-0800
TZNAME:AKDT
DTSTART:20240310T110000
END:DAYLIGHT
BEGIN:STANDARD
TZOFFSETFROM:-0800
TZOFFSETTO:-0900
TZNAME:AKST
DTSTART:20241103T100000
END:STANDARD
END:VTIMEZONE
BEGIN:VEVENT
DTSTART;TZID=America/Anchorage:20241114T160000
DTEND;TZID=America/Anchorage:20241114T170000
DTSTAMP:20260420T144221
CREATED:20241008T080603Z
LAST-MODIFIED:20241114T030835Z
UID:7519-1731600000-1731603600@kpbsd.org
SUMMARY:After School Study hall- OLSON
DESCRIPTION:
URL:https://kpbsd.org/schools/homer-middle/event/after-school-study-hall-19/
END:VEVENT
BEGIN:VEVENT
DTSTART;TZID=America/Anchorage:20241114T160000
DTEND;TZID=America/Anchorage:20241114T190000
DTSTAMP:20260420T144221
CREATED:20240926T060314Z
LAST-MODIFIED:20241115T032022Z
UID:7366-1731600000-1731610800@kpbsd.org
SUMMARY:Basketball Game HOME vs. Chapman (Girls B\, Boys B\, and Boys C)
DESCRIPTION:
URL:https://kpbsd.org/schools/homer-middle/event/basketball-game-home-vs-chapman-girls-b-boys-b-and-boys-c/
END:VEVENT
END:VCALENDAR