BEGIN:VCALENDAR
VERSION:2.0
PRODID:-//Homer Middle School - ECPv6.8.2//NONSGML v1.0//EN
CALSCALE:GREGORIAN
METHOD:PUBLISH
X-WR-CALNAME:Homer Middle School
X-ORIGINAL-URL:https://kpbsd.org/schools/homer-middle
X-WR-CALDESC:Events for Homer Middle School
REFRESH-INTERVAL;VALUE=DURATION:PT1H
X-Robots-Tag:noindex
X-PUBLISHED-TTL:PT1H
BEGIN:VTIMEZONE
TZID:America/Anchorage
BEGIN:DAYLIGHT
TZOFFSETFROM:-0900
TZOFFSETTO:-0800
TZNAME:AKDT
DTSTART:20240310T110000
END:DAYLIGHT
BEGIN:STANDARD
TZOFFSETFROM:-0800
TZOFFSETTO:-0900
TZNAME:AKST
DTSTART:20241103T100000
END:STANDARD
END:VTIMEZONE
BEGIN:VEVENT
DTSTART;TZID=America/Anchorage:20241119T080000
DTEND;TZID=America/Anchorage:20241119T090000
DTSTAMP:20260420T144323
CREATED:20241013T085454Z
LAST-MODIFIED:20241028T111853Z
UID:8225-1732003200-1732006800@kpbsd.org
SUMMARY:Student council meeting
DESCRIPTION:
URL:https://kpbsd.org/schools/homer-middle/event/student-council-meeting-6/
LOCATION:principal’s office
END:VEVENT
BEGIN:VEVENT
DTSTART;TZID=America/Anchorage:20241119T150000
DTEND;TZID=America/Anchorage:20241119T180000
DTSTAMP:20260420T144323
CREATED:20240530T172327Z
LAST-MODIFIED:20241119T040448Z
UID:6242-1732028400-1732039200@kpbsd.org
SUMMARY:Basketball Game @ Nikiski
DESCRIPTION:Bus departs at 12:30 pm.
URL:https://kpbsd.org/schools/homer-middle/event/basketball-game-nikiski/
END:VEVENT
BEGIN:VEVENT
DTSTART;TZID=America/Anchorage:20241119T160000
DTEND;TZID=America/Anchorage:20241119T170000
DTSTAMP:20260420T144323
CREATED:20241008T080604Z
LAST-MODIFIED:20241112T024122Z
UID:7525-1732032000-1732035600@kpbsd.org
SUMMARY:After School Study hall
DESCRIPTION:
URL:https://kpbsd.org/schools/homer-middle/event/after-school-study-hall-21/
END:VEVENT
BEGIN:VEVENT
DTSTART;TZID=America/Anchorage:20241119T160000
DTEND;TZID=America/Anchorage:20241119T170000
DTSTAMP:20260420T144323
CREATED:20241023T102959Z
LAST-MODIFIED:20241119T040448Z
UID:9025-1732032000-1732035600@kpbsd.org
SUMMARY:Site council meeting
DESCRIPTION:
URL:https://kpbsd.org/schools/homer-middle/event/site-council-meeting-2/
LOCATION:library
END:VEVENT
END:VCALENDAR