BEGIN:VCALENDAR
VERSION:2.0
PRODID:-//Homer Middle School - ECPv6.8.2//NONSGML v1.0//EN
CALSCALE:GREGORIAN
METHOD:PUBLISH
X-ORIGINAL-URL:https://kpbsd.org/schools/homer-middle
X-WR-CALDESC:Events for Homer Middle School
REFRESH-INTERVAL;VALUE=DURATION:PT1H
X-Robots-Tag:noindex
X-PUBLISHED-TTL:PT1H
BEGIN:VTIMEZONE
TZID:America/Anchorage
BEGIN:DAYLIGHT
TZOFFSETFROM:-0900
TZOFFSETTO:-0800
TZNAME:AKDT
DTSTART:20240310T110000
END:DAYLIGHT
BEGIN:STANDARD
TZOFFSETFROM:-0800
TZOFFSETTO:-0900
TZNAME:AKST
DTSTART:20241103T100000
END:STANDARD
END:VTIMEZONE
BEGIN:VEVENT
DTSTART;TZID=America/Anchorage:20241127T124000
DTEND;TZID=America/Anchorage:20241127T132000
DTSTAMP:20260422T062454
CREATED:20241013T085456Z
LAST-MODIFIED:20241127T050755Z
UID:8234-1732711200-1732713600@kpbsd.org
SUMMARY:Battle of the Books Practice
DESCRIPTION:
URL:https://kpbsd.org/schools/homer-middle/event/battle-of-the-books-practice-7/
LOCATION:library
END:VEVENT
BEGIN:VEVENT
DTSTART;TZID=America/Anchorage:20241127T124000
DTEND;TZID=America/Anchorage:20241127T132000
DTSTAMP:20260422T062454
CREATED:20241022T101211Z
LAST-MODIFIED:20241127T050755Z
UID:8856-1732711200-1732713600@kpbsd.org
SUMMARY:Chess Club
DESCRIPTION:
URL:https://kpbsd.org/schools/homer-middle/event/chess-club-3/
LOCATION:Room 303
END:VEVENT
BEGIN:VEVENT
DTSTART;TZID=America/Anchorage:20241127T160000
DTEND;TZID=America/Anchorage:20241127T170000
DTSTAMP:20260422T062454
CREATED:20241008T080606Z
LAST-MODIFIED:20241112T024149Z
UID:7540-1732723200-1732726800@kpbsd.org
SUMMARY:After School Study hall
DESCRIPTION:
URL:https://kpbsd.org/schools/homer-middle/event/after-school-study-hall-26/
END:VEVENT
BEGIN:VEVENT
DTSTART;TZID=America/Anchorage:20241127T163000
DTEND;TZID=America/Anchorage:20241127T180000
DTSTAMP:20260422T062454
CREATED:20241003T073803Z
LAST-MODIFIED:20241127T050755Z
UID:7419-1732725000-1732730400@kpbsd.org
SUMMARY:Basketball Game @ West Homer (C Team only)
DESCRIPTION:
URL:https://kpbsd.org/schools/homer-middle/event/basketball-game-west-homer-c-team-only/
END:VEVENT
END:VCALENDAR