BEGIN:VCALENDAR
VERSION:2.0
PRODID:-//Homer Middle School - ECPv6.8.2//NONSGML v1.0//EN
CALSCALE:GREGORIAN
METHOD:PUBLISH
X-WR-CALNAME:Homer Middle School
X-ORIGINAL-URL:https://kpbsd.org/schools/homer-middle
X-WR-CALDESC:Events for Homer Middle School
REFRESH-INTERVAL;VALUE=DURATION:PT1H
X-Robots-Tag:noindex
X-PUBLISHED-TTL:PT1H
BEGIN:VTIMEZONE
TZID:America/Anchorage
BEGIN:DAYLIGHT
TZOFFSETFROM:-0900
TZOFFSETTO:-0800
TZNAME:AKDT
DTSTART:20240310T110000
END:DAYLIGHT
BEGIN:STANDARD
TZOFFSETFROM:-0800
TZOFFSETTO:-0900
TZNAME:AKST
DTSTART:20241103T100000
END:STANDARD
END:VTIMEZONE
BEGIN:VEVENT
DTSTART;TZID=America/Anchorage:20241205T160000
DTEND;TZID=America/Anchorage:20241205T170000
DTSTAMP:20260420T144327
CREATED:20241008T080608Z
LAST-MODIFIED:20241205T063320Z
UID:7555-1733414400-1733418000@kpbsd.org
SUMMARY:After School Study hall
DESCRIPTION:
URL:https://kpbsd.org/schools/homer-middle/event/after-school-study-hall-31/
END:VEVENT
BEGIN:VEVENT
DTSTART;TZID=America/Anchorage:20241205T173000
DTEND;TZID=America/Anchorage:20241205T190000
DTSTAMP:20260420T144327
CREATED:20241127T050753Z
LAST-MODIFIED:20241205T063320Z
UID:10333-1733419800-1733425200@kpbsd.org
SUMMARY:Boys Basketball Scrimmage
DESCRIPTION:
URL:https://kpbsd.org/schools/homer-middle/event/b-c-boys-basketball-scrimmage/
END:VEVENT
END:VCALENDAR