BEGIN:VCALENDAR
VERSION:2.0
PRODID:-//Homer Middle School - ECPv6.8.2//NONSGML v1.0//EN
CALSCALE:GREGORIAN
METHOD:PUBLISH
X-ORIGINAL-URL:https://kpbsd.org/schools/homer-middle
X-WR-CALDESC:Events for Homer Middle School
REFRESH-INTERVAL;VALUE=DURATION:PT1H
X-Robots-Tag:noindex
X-PUBLISHED-TTL:PT1H
BEGIN:VTIMEZONE
TZID:America/Anchorage
BEGIN:DAYLIGHT
TZOFFSETFROM:-0900
TZOFFSETTO:-0800
TZNAME:AKDT
DTSTART:20240310T110000
END:DAYLIGHT
BEGIN:STANDARD
TZOFFSETFROM:-0800
TZOFFSETTO:-0900
TZNAME:AKST
DTSTART:20241103T100000
END:STANDARD
END:VTIMEZONE
BEGIN:VEVENT
DTSTART;VALUE=DATE:20241209
DTEND;VALUE=DATE:20241213
DTSTAMP:20260421T042413
CREATED:20240807T011819Z
LAST-MODIFIED:20241212T070339Z
UID:6932-1733702400-1734047999@kpbsd.org
SUMMARY:MAP TESTING
DESCRIPTION:
URL:https://kpbsd.org/schools/homer-middle/event/map-testing-2/
END:VEVENT
BEGIN:VEVENT
DTSTART;TZID=America/Anchorage:20241209T160000
DTEND;TZID=America/Anchorage:20241209T170000
DTSTAMP:20260421T042413
CREATED:20241008T080608Z
LAST-MODIFIED:20241209T063339Z
UID:7558-1733760000-1733763600@kpbsd.org
SUMMARY:After School Study hall
DESCRIPTION:
URL:https://kpbsd.org/schools/homer-middle/event/after-school-study-hall-32/
END:VEVENT
BEGIN:VEVENT
DTSTART;TZID=America/Anchorage:20241209T190000
DTEND;TZID=America/Anchorage:20241209T210000
DTSTAMP:20260421T042413
CREATED:20240821T023458Z
LAST-MODIFIED:20241209T063339Z
UID:7032-1733770800-1733778000@kpbsd.org
SUMMARY:Band and Choir Concert
DESCRIPTION:
URL:https://kpbsd.org/schools/homer-middle/event/band-and-choir-concert/
END:VEVENT
END:VCALENDAR