BEGIN:VCALENDAR
VERSION:2.0
PRODID:-//Homer Middle School - ECPv6.8.2//NONSGML v1.0//EN
CALSCALE:GREGORIAN
METHOD:PUBLISH
X-WR-CALNAME:Homer Middle School
X-ORIGINAL-URL:https://kpbsd.org/schools/homer-middle
X-WR-CALDESC:Events for Homer Middle School
REFRESH-INTERVAL;VALUE=DURATION:PT1H
X-Robots-Tag:noindex
X-PUBLISHED-TTL:PT1H
BEGIN:VTIMEZONE
TZID:America/Anchorage
BEGIN:DAYLIGHT
TZOFFSETFROM:-0900
TZOFFSETTO:-0800
TZNAME:AKDT
DTSTART:20240310T110000
END:DAYLIGHT
BEGIN:STANDARD
TZOFFSETFROM:-0800
TZOFFSETTO:-0900
TZNAME:AKST
DTSTART:20241103T100000
END:STANDARD
END:VTIMEZONE
BEGIN:VEVENT
DTSTART;VALUE=DATE:20241216
DTEND;VALUE=DATE:20241217
DTSTAMP:20260422T063738
CREATED:20241127T050755Z
LAST-MODIFIED:20241216T074056Z
UID:10339-1734307200-1734393599@kpbsd.org
SUMMARY:Christmas Tree Day (Wear green or try to look like a Christmas Tree)
DESCRIPTION:
URL:https://kpbsd.org/schools/homer-middle/event/christmas-tree-day-wear-green-or-try-to-look-like-a-christmas-tree/
END:VEVENT
BEGIN:VEVENT
DTSTART;TZID=America/Anchorage:20241216T123000
DTEND;TZID=America/Anchorage:20241216T130000
DTSTAMP:20260422T063738
CREATED:20241205T063316Z
LAST-MODIFIED:20241216T074056Z
UID:10403-1734352200-1734354000@kpbsd.org
SUMMARY:Volleyball Interest Meeting
DESCRIPTION:
URL:https://kpbsd.org/schools/homer-middle/event/volleyball-interest-meeting/
END:VEVENT
BEGIN:VEVENT
DTSTART;TZID=America/Anchorage:20241216T160000
DTEND;TZID=America/Anchorage:20241216T170000
DTSTAMP:20260422T063738
CREATED:20241008T080610Z
LAST-MODIFIED:20241216T074056Z
UID:7570-1734364800-1734368400@kpbsd.org
SUMMARY:After School Study hall
DESCRIPTION:
URL:https://kpbsd.org/schools/homer-middle/event/after-school-study-hall-36/
END:VEVENT
END:VCALENDAR