BEGIN:VCALENDAR
VERSION:2.0
PRODID:-//Homer Middle School - ECPv6.8.2//NONSGML v1.0//EN
CALSCALE:GREGORIAN
METHOD:PUBLISH
X-WR-CALNAME:Homer Middle School
X-ORIGINAL-URL:https://kpbsd.org/schools/homer-middle
X-WR-CALDESC:Events for Homer Middle School
REFRESH-INTERVAL;VALUE=DURATION:PT1H
X-Robots-Tag:noindex
X-PUBLISHED-TTL:PT1H
BEGIN:VTIMEZONE
TZID:America/Anchorage
BEGIN:DAYLIGHT
TZOFFSETFROM:-0900
TZOFFSETTO:-0800
TZNAME:AKDT
DTSTART:20240310T110000
END:DAYLIGHT
BEGIN:STANDARD
TZOFFSETFROM:-0800
TZOFFSETTO:-0900
TZNAME:AKST
DTSTART:20241103T100000
END:STANDARD
END:VTIMEZONE
BEGIN:VEVENT
DTSTART;VALUE=DATE:20241217
DTEND;VALUE=DATE:20241218
DTSTAMP:20260421T170004
CREATED:20241127T050756Z
LAST-MODIFIED:20241217T082221Z
UID:10345-1734393600-1734479999@kpbsd.org
SUMMARY:Movie Marathon Day (dress like your favorite Christmas movie/character)
DESCRIPTION:
URL:https://kpbsd.org/schools/homer-middle/event/movie-marathon-day-dress-like-your-favorite-christmas-movie-character/
END:VEVENT
BEGIN:VEVENT
DTSTART;TZID=America/Anchorage:20241217T080000
DTEND;TZID=America/Anchorage:20241217T090000
DTSTAMP:20260421T170004
CREATED:20241013T085500Z
LAST-MODIFIED:20241028T111859Z
UID:8249-1734422400-1734426000@kpbsd.org
SUMMARY:Student council meeting
DESCRIPTION:
URL:https://kpbsd.org/schools/homer-middle/event/student-council-meeting-10/
LOCATION:principal’s office
END:VEVENT
BEGIN:VEVENT
DTSTART;TZID=America/Anchorage:20241217T123000
DTEND;TZID=America/Anchorage:20241217T133000
DTSTAMP:20260421T170004
CREATED:20241127T050756Z
LAST-MODIFIED:20241217T082221Z
UID:10342-1734438600-1734442200@kpbsd.org
SUMMARY:Hot Cocoa Treat!
DESCRIPTION:
URL:https://kpbsd.org/schools/homer-middle/event/hot-cocoa-treat/
END:VEVENT
BEGIN:VEVENT
DTSTART;TZID=America/Anchorage:20241217T160000
DTEND;TZID=America/Anchorage:20241217T170000
DTSTAMP:20260421T170004
CREATED:20241008T080611Z
LAST-MODIFIED:20241217T082221Z
UID:7573-1734451200-1734454800@kpbsd.org
SUMMARY:After School Study hall
DESCRIPTION:
URL:https://kpbsd.org/schools/homer-middle/event/after-school-study-hall-37/
END:VEVENT
END:VCALENDAR