BEGIN:VCALENDAR
VERSION:2.0
PRODID:-//Homer Middle School - ECPv6.8.2//NONSGML v1.0//EN
CALSCALE:GREGORIAN
METHOD:PUBLISH
X-ORIGINAL-URL:https://kpbsd.org/schools/homer-middle
X-WR-CALDESC:Events for Homer Middle School
REFRESH-INTERVAL;VALUE=DURATION:PT1H
X-Robots-Tag:noindex
X-PUBLISHED-TTL:PT1H
BEGIN:VTIMEZONE
TZID:America/Anchorage
BEGIN:DAYLIGHT
TZOFFSETFROM:-0900
TZOFFSETTO:-0800
TZNAME:AKDT
DTSTART:20240310T110000
END:DAYLIGHT
BEGIN:STANDARD
TZOFFSETFROM:-0800
TZOFFSETTO:-0900
TZNAME:AKST
DTSTART:20241103T100000
END:STANDARD
END:VTIMEZONE
BEGIN:VEVENT
DTSTART;VALUE=DATE:20241218
DTEND;VALUE=DATE:20241219
DTSTAMP:20260421T225109
CREATED:20241127T050757Z
LAST-MODIFIED:20241218T083332Z
UID:10348-1734480000-1734566399@kpbsd.org
SUMMARY:Slay Bells Ring are you Glistening Day (Wear your fanciest outfit!)
DESCRIPTION:
URL:https://kpbsd.org/schools/homer-middle/event/slay-bells-ring-are-you-glistening-day-wear-your-fanciest-outfit/
END:VEVENT
BEGIN:VEVENT
DTSTART;TZID=America/Anchorage:20241218T124000
DTEND;TZID=America/Anchorage:20241218T132000
DTSTAMP:20260421T225109
CREATED:20241013T085500Z
LAST-MODIFIED:20241218T083332Z
UID:8252-1734525600-1734528000@kpbsd.org
SUMMARY:Battle of the Books Practice
DESCRIPTION:
URL:https://kpbsd.org/schools/homer-middle/event/battle-of-the-books-practice-10/
LOCATION:library
END:VEVENT
BEGIN:VEVENT
DTSTART;TZID=America/Anchorage:20241218T124000
DTEND;TZID=America/Anchorage:20241218T132000
DTSTAMP:20260421T225109
CREATED:20241022T101216Z
LAST-MODIFIED:20241218T083332Z
UID:8874-1734525600-1734528000@kpbsd.org
SUMMARY:Chess Club
DESCRIPTION:
URL:https://kpbsd.org/schools/homer-middle/event/chess-club-6/
LOCATION:Room 303
END:VEVENT
BEGIN:VEVENT
DTSTART;TZID=America/Anchorage:20241218T124500
DTEND;TZID=America/Anchorage:20241218T131500
DTSTAMP:20260421T225109
CREATED:20241205T063317Z
LAST-MODIFIED:20241218T083332Z
UID:10406-1734525900-1734527700@kpbsd.org
SUMMARY:Wrestling Interest Meeting
DESCRIPTION:
URL:https://kpbsd.org/schools/homer-middle/event/wrestling-interest-meeting/
END:VEVENT
BEGIN:VEVENT
DTSTART;TZID=America/Anchorage:20241218T160000
DTEND;TZID=America/Anchorage:20241218T170000
DTSTAMP:20260421T225109
CREATED:20241008T080611Z
LAST-MODIFIED:20241218T083332Z
UID:7576-1734537600-1734541200@kpbsd.org
SUMMARY:After School Study hall
DESCRIPTION:
URL:https://kpbsd.org/schools/homer-middle/event/after-school-study-hall-38/
END:VEVENT
END:VCALENDAR